BEGIN:VCALENDAR
VERSION:2.0
PRODID:-//CoolSpeak - ECPv6.15.18//NONSGML v1.0//EN
CALSCALE:GREGORIAN
METHOD:PUBLISH
X-ORIGINAL-URL:https://coolspeak.com
X-WR-CALDESC:Events for CoolSpeak
REFRESH-INTERVAL;VALUE=DURATION:PT1H
X-Robots-Tag:noindex
X-PUBLISHED-TTL:PT1H
BEGIN:VTIMEZONE
TZID:America/New_York
BEGIN:DAYLIGHT
TZOFFSETFROM:-0500
TZOFFSETTO:-0400
TZNAME:EDT
DTSTART:20210314T070000
END:DAYLIGHT
BEGIN:STANDARD
TZOFFSETFROM:-0400
TZOFFSETTO:-0500
TZNAME:EST
DTSTART:20211107T060000
END:STANDARD
BEGIN:DAYLIGHT
TZOFFSETFROM:-0500
TZOFFSETTO:-0400
TZNAME:EDT
DTSTART:20220313T070000
END:DAYLIGHT
BEGIN:STANDARD
TZOFFSETFROM:-0400
TZOFFSETTO:-0500
TZNAME:EST
DTSTART:20221106T060000
END:STANDARD
BEGIN:DAYLIGHT
TZOFFSETFROM:-0500
TZOFFSETTO:-0400
TZNAME:EDT
DTSTART:20230312T070000
END:DAYLIGHT
BEGIN:STANDARD
TZOFFSETFROM:-0400
TZOFFSETTO:-0500
TZNAME:EST
DTSTART:20231105T060000
END:STANDARD
END:VTIMEZONE
BEGIN:VEVENT
DTSTART;TZID=America/New_York:20220413T090000
DTEND;TZID=America/New_York:20220413T100000
DTSTAMP:20260423T174233
CREATED:20220411T211308Z
LAST-MODIFIED:20220411T211308Z
UID:10000324-1649840400-1649844000@coolspeak.com
SUMMARY:GEAR UP Dougherty Monroe High School
DESCRIPTION:Title:GEAR UP Dougherty Monroe High School \nDescription:In-Person Presentation provided by Lamarr Womble. \nTheme:Passion/Leadership/Education \nDate:04/13/2022 \nTime:9:00am – 10:00am EST \nLocation:Albany\, GA
URL:https://coolspeak.com/event/gear-up-dougherty-monroe-high-school/
END:VEVENT
BEGIN:VEVENT
DTSTART;TZID=America/New_York:20220413T090000
DTEND;TZID=America/New_York:20220413T100000
DTSTAMP:20260423T174233
CREATED:20220411T211308Z
LAST-MODIFIED:20220411T211308Z
UID:10000328-1649840400-1649844000@coolspeak.com
SUMMARY:GEAR UP Dougherty Monroe High School
DESCRIPTION:Title:GEAR UP Dougherty Monroe High School \nDescription:In-Person Presentation provided by Lamarr Womble. \nTheme:Passion/Leadership/Education \nDate:04/13/2022 \nTime:9:00am – 10:00am EST \nLocation:Albany\, GA
URL:https://coolspeak.com/event/gear-up-dougherty-monroe-high-school-2/
END:VEVENT
BEGIN:VEVENT
DTSTART;TZID=America/New_York:20220413T143000
DTEND;TZID=America/New_York:20220413T153000
DTSTAMP:20260423T174233
CREATED:20220411T211308Z
LAST-MODIFIED:20220411T211308Z
UID:10000325-1649860200-1649863800@coolspeak.com
SUMMARY:Kansas City Kansas GEAR UP Virtual Poetry/Art Day
DESCRIPTION:Title:Kansas City Kansas GEAR UP Virtual Poetry/Art Day \nDescription:Joaquin Zihuatanejo will provide a virtual presentation \nTheme: Poetry/Art Day \nDate: 04/13/2022 \nTime:1:30pm – 2:30pm CST \nLocation: Virtual
URL:https://coolspeak.com/event/kansas-city-kansas-gear-up-virtual-poetry-art-day/
END:VEVENT
BEGIN:VEVENT
DTSTART;TZID=America/New_York:20220413T143000
DTEND;TZID=America/New_York:20220413T153000
DTSTAMP:20260423T174233
CREATED:20220411T211308Z
LAST-MODIFIED:20220411T211308Z
UID:10000329-1649860200-1649863800@coolspeak.com
SUMMARY:Kansas City Kansas GEAR UP Virtual Poetry/Art Day
DESCRIPTION:Title:Kansas City Kansas GEAR UP Virtual Poetry/Art Day \nDescription:Joaquin Zihuatanejo will provide a virtual presentation \nTheme: Poetry/Art Day \nDate: 04/13/2022 \nTime:1:30pm – 2:30pm CST \nLocation: Virtual
URL:https://coolspeak.com/event/kansas-city-kansas-gear-up-virtual-poetry-art-day-2/
END:VEVENT
END:VCALENDAR