BEGIN:VCALENDAR
VERSION:2.0
PRODID:-//CoolSpeak - ECPv6.15.18//NONSGML v1.0//EN
CALSCALE:GREGORIAN
METHOD:PUBLISH
X-ORIGINAL-URL:https://coolspeak.com
X-WR-CALDESC:Events for CoolSpeak
REFRESH-INTERVAL;VALUE=DURATION:PT1H
X-Robots-Tag:noindex
X-PUBLISHED-TTL:PT1H
BEGIN:VTIMEZONE
TZID:America/New_York
BEGIN:DAYLIGHT
TZOFFSETFROM:-0500
TZOFFSETTO:-0400
TZNAME:EDT
DTSTART:20210314T070000
END:DAYLIGHT
BEGIN:STANDARD
TZOFFSETFROM:-0400
TZOFFSETTO:-0500
TZNAME:EST
DTSTART:20211107T060000
END:STANDARD
BEGIN:DAYLIGHT
TZOFFSETFROM:-0500
TZOFFSETTO:-0400
TZNAME:EDT
DTSTART:20220313T070000
END:DAYLIGHT
BEGIN:STANDARD
TZOFFSETFROM:-0400
TZOFFSETTO:-0500
TZNAME:EST
DTSTART:20221106T060000
END:STANDARD
BEGIN:DAYLIGHT
TZOFFSETFROM:-0500
TZOFFSETTO:-0400
TZNAME:EDT
DTSTART:20230312T070000
END:DAYLIGHT
BEGIN:STANDARD
TZOFFSETFROM:-0400
TZOFFSETTO:-0500
TZNAME:EST
DTSTART:20231105T060000
END:STANDARD
END:VTIMEZONE
BEGIN:VEVENT
DTSTART;TZID=America/New_York:20220414T090000
DTEND;TZID=America/New_York:20220414T150000
DTSTAMP:20260423T161555
CREATED:20220411T163235Z
LAST-MODIFIED:20220411T163235Z
UID:10000316-1649926800-1649948400@coolspeak.com
SUMMARY:2022 Grand Rapids Community College GEAR UP with Chris Collins
DESCRIPTION:Title: On my Pathway with Purpose and Passion with Chris Collins. \nDescription: Chris Collins will provide a keynote presentation and 3 breakout sessions. \nTheme:Purpose\, Passion and finding your way. \nDate: 04/14/2022 \nTime:9:00am – 3:00pm EST \nLocation:Grand Rapids\, MI
URL:https://coolspeak.com/event/2022-grand-rapids-community-college-gear-up-with-chris-collins/
END:VEVENT
BEGIN:VEVENT
DTSTART;TZID=America/New_York:20220414T090000
DTEND;TZID=America/New_York:20220414T150000
DTSTAMP:20260423T161555
CREATED:20220411T163235Z
LAST-MODIFIED:20220411T163235Z
UID:10000317-1649926800-1649948400@coolspeak.com
SUMMARY:2022 Grand Rapids Community College GEAR UP with Chris Collins
DESCRIPTION:Title: On my Pathway with Purpose and Passion with Chris Collins. \nDescription: Chris Collins will provide a keynote presentation and 3 breakout sessions. \nTheme:Purpose\, Passion and finding your way. \nDate: 04/14/2022 \nTime:9:00am – 3:00pm EST \nLocation:Grand Rapids\, MI
URL:https://coolspeak.com/event/2022-grand-rapids-community-college-gear-up-with-chris-collins-2/
END:VEVENT
BEGIN:VEVENT
DTSTART;TZID=America/New_York:20220414T133000
DTEND;TZID=America/New_York:20220414T143000
DTSTAMP:20260423T161555
CREATED:20220411T211308Z
LAST-MODIFIED:20220411T211308Z
UID:10000326-1649943000-1649946600@coolspeak.com
SUMMARY:Prospanica Houston Chapter with Joaquin Zihuatanejo
DESCRIPTION:Title:Scholarship Talk provided by Joaquin Zihuatanejo. \nDescription:Scholarship Informational Session for Undergraduate students nationwide led by the Prospanica Houston Chapter. \nTheme:Scholarship Information \nDate:04/14/2022 \nTime: 12:30pm – 1:30pm CST \nLocation: Virtual
URL:https://coolspeak.com/event/prospanica-houston-chapter-with-joaquin-zihuatanejo/
END:VEVENT
BEGIN:VEVENT
DTSTART;TZID=America/New_York:20220414T133000
DTEND;TZID=America/New_York:20220414T143000
DTSTAMP:20260423T161555
CREATED:20220411T211308Z
LAST-MODIFIED:20220411T211308Z
UID:10000327-1649943000-1649946600@coolspeak.com
SUMMARY:Prospanica Houston Chapter with Joaquin Zihuatanejo
DESCRIPTION:Title:Scholarship Talk provided by Joaquin Zihuatanejo. \nDescription:Scholarship Informational Session for Undergraduate students nationwide led by the Prospanica Houston Chapter. \nTheme:Scholarship Information \nDate:04/14/2022 \nTime: 12:30pm – 1:30pm CST \nLocation: Virtual
URL:https://coolspeak.com/event/prospanica-houston-chapter-with-joaquin-zihuatanejo-2/
END:VEVENT
BEGIN:VEVENT
DTSTART;TZID=America/New_York:20220414T180000
DTEND;TZID=America/New_York:20220414T193000
DTSTAMP:20260423T161555
CREATED:20220314T204435Z
LAST-MODIFIED:20220314T204435Z
UID:10000293-1649959200-1649964600@coolspeak.com
SUMMARY:Student Motivational Virtual Speakers' Series
DESCRIPTION:Title: Student Motivational Virtual Speakers’ Series \nDescription:Virtual Motivational Presentation with Joaquin Zihuatanejo. \nTheme: Motivational Speakers’ Series \nDate: 04/14/2022 \nTime:6:00pm – 7:30pm ESTLocation:Virtual
URL:https://coolspeak.com/event/student-motivational-virtual-speakers-series/
END:VEVENT
BEGIN:VEVENT
DTSTART;TZID=America/New_York:20220414T180000
DTEND;TZID=America/New_York:20220414T193000
DTSTAMP:20260423T161555
CREATED:20220314T204435Z
LAST-MODIFIED:20220314T204435Z
UID:10000294-1649959200-1649964600@coolspeak.com
SUMMARY:Student Motivational Virtual Speakers' Series
DESCRIPTION:Title: Student Motivational Virtual Speakers’ Series \nDescription:Virtual Motivational Presentation with Joaquin Zihuatanejo. \nTheme: Motivational Speakers’ Series \nDate: 04/14/2022 \nTime:6:00pm – 7:30pm ESTLocation:Virtual
URL:https://coolspeak.com/event/student-motivational-virtual-speakers-series-2/
END:VEVENT
END:VCALENDAR