BEGIN:VCALENDAR
VERSION:2.0
PRODID:-//CoolSpeak - ECPv6.15.18//NONSGML v1.0//EN
CALSCALE:GREGORIAN
METHOD:PUBLISH
X-ORIGINAL-URL:https://coolspeak.com
X-WR-CALDESC:Events for CoolSpeak
REFRESH-INTERVAL;VALUE=DURATION:PT1H
X-Robots-Tag:noindex
X-PUBLISHED-TTL:PT1H
BEGIN:VTIMEZONE
TZID:America/New_York
BEGIN:DAYLIGHT
TZOFFSETFROM:-0500
TZOFFSETTO:-0400
TZNAME:EDT
DTSTART:20210314T070000
END:DAYLIGHT
BEGIN:STANDARD
TZOFFSETFROM:-0400
TZOFFSETTO:-0500
TZNAME:EST
DTSTART:20211107T060000
END:STANDARD
BEGIN:DAYLIGHT
TZOFFSETFROM:-0500
TZOFFSETTO:-0400
TZNAME:EDT
DTSTART:20220313T070000
END:DAYLIGHT
BEGIN:STANDARD
TZOFFSETFROM:-0400
TZOFFSETTO:-0500
TZNAME:EST
DTSTART:20221106T060000
END:STANDARD
BEGIN:DAYLIGHT
TZOFFSETFROM:-0500
TZOFFSETTO:-0400
TZNAME:EDT
DTSTART:20230312T070000
END:DAYLIGHT
BEGIN:STANDARD
TZOFFSETFROM:-0400
TZOFFSETTO:-0500
TZNAME:EST
DTSTART:20231105T060000
END:STANDARD
END:VTIMEZONE
BEGIN:VEVENT
DTSTART;TZID=America/New_York:20220419T100000
DTEND;TZID=America/New_York:20220419T150000
DTSTAMP:20260423T160418
CREATED:20220302T140323Z
LAST-MODIFIED:20220302T140323Z
UID:10000263-1650362400-1650380400@coolspeak.com
SUMMARY:Millersville University Migrant Education Program Staff Development with Joaquin Zihuatanejo.
DESCRIPTION:Title:Millersville University Migrant Education Program Staff Development with Joaquin Zihuatanejo. \nDescription:In-Person Staff Development with Joaquin Zihuatanejo. \nTheme:Staff Development \nDate:04/19/2022 \nTime:10:00am – 3:00pm EST \nLocation:Reading\, PA
URL:https://coolspeak.com/event/millersville-university-migrant-education-program-staff-development-with-joaquin-zihuatanejo-2/
END:VEVENT
BEGIN:VEVENT
DTSTART;TZID=America/New_York:20220419T100000
DTEND;TZID=America/New_York:20220419T150000
DTSTAMP:20260423T160418
CREATED:20220302T140323Z
LAST-MODIFIED:20220302T140323Z
UID:10000278-1650362400-1650380400@coolspeak.com
SUMMARY:Millersville University Migrant Education Program Staff Development with Joaquin Zihuatanejo.
DESCRIPTION:Title:Millersville University Migrant Education Program Staff Development with Joaquin Zihuatanejo. \nDescription:In-Person Staff Development with Joaquin Zihuatanejo. \nTheme:Staff Development \nDate:04/19/2022 \nTime:10:00am – 3:00pm EST \nLocation:Reading\, PA
URL:https://coolspeak.com/event/millersville-university-migrant-education-program-staff-development-with-joaquin-zihuatanejo/
END:VEVENT
END:VCALENDAR