BEGIN:VCALENDAR
VERSION:2.0
PRODID:-//CoolSpeak - ECPv6.15.18//NONSGML v1.0//EN
CALSCALE:GREGORIAN
METHOD:PUBLISH
X-ORIGINAL-URL:https://coolspeak.com
X-WR-CALDESC:Events for CoolSpeak
REFRESH-INTERVAL;VALUE=DURATION:PT1H
X-Robots-Tag:noindex
X-PUBLISHED-TTL:PT1H
BEGIN:VTIMEZONE
TZID:America/New_York
BEGIN:DAYLIGHT
TZOFFSETFROM:-0500
TZOFFSETTO:-0400
TZNAME:EDT
DTSTART:20210314T070000
END:DAYLIGHT
BEGIN:STANDARD
TZOFFSETFROM:-0400
TZOFFSETTO:-0500
TZNAME:EST
DTSTART:20211107T060000
END:STANDARD
BEGIN:DAYLIGHT
TZOFFSETFROM:-0500
TZOFFSETTO:-0400
TZNAME:EDT
DTSTART:20220313T070000
END:DAYLIGHT
BEGIN:STANDARD
TZOFFSETFROM:-0400
TZOFFSETTO:-0500
TZNAME:EST
DTSTART:20221106T060000
END:STANDARD
BEGIN:DAYLIGHT
TZOFFSETFROM:-0500
TZOFFSETTO:-0400
TZNAME:EDT
DTSTART:20230312T070000
END:DAYLIGHT
BEGIN:STANDARD
TZOFFSETFROM:-0400
TZOFFSETTO:-0500
TZNAME:EST
DTSTART:20231105T060000
END:STANDARD
END:VTIMEZONE
BEGIN:VEVENT
DTSTART;TZID=America/New_York:20220428T090000
DTEND;TZID=America/New_York:20220428T140000
DTSTAMP:20260423T230451
CREATED:20220413T035807Z
LAST-MODIFIED:20220413T035807Z
UID:10000338-1651136400-1651154400@coolspeak.com
SUMMARY:2022 UMASS Dartmouth 8th Grade Youth Summit
DESCRIPTION:Title: 2022 UMASS Dartmouth 8th Grade Youth Summit \nDescription:8th Grade students from local middle schools \nTheme:College and Career Awareness \nDate:04/27/2022 & 04/28/2022 \nTime:9:00am – 1:30pm \nLocation:Dartmouth\, MA
URL:https://coolspeak.com/event/2022-umass-dartmouth-8th-grade-youth-summit-2/
END:VEVENT
BEGIN:VEVENT
DTSTART;TZID=America/New_York:20220428T090000
DTEND;TZID=America/New_York:20220428T140000
DTSTAMP:20260423T230451
CREATED:20220413T035807Z
LAST-MODIFIED:20220413T035807Z
UID:10000340-1651136400-1651154400@coolspeak.com
SUMMARY:2022 UMASS Dartmouth 8th Grade Youth Summit
DESCRIPTION:Title: 2022 UMASS Dartmouth 8th Grade Youth Summit \nDescription:8th Grade students from local middle schools \nTheme:College and Career Awareness \nDate:04/27/2022 & 04/28/2022 \nTime:9:00am – 1:30pm \nLocation:Dartmouth\, MA
URL:https://coolspeak.com/event/2022-umass-dartmouth-8th-grade-youth-summit-2-2/
END:VEVENT
BEGIN:VEVENT
DTSTART;TZID=America/New_York:20220428T160000
DTEND;TZID=America/New_York:20220428T170000
DTSTAMP:20260423T230451
CREATED:20220418T220332Z
LAST-MODIFIED:20220418T220332Z
UID:10000353-1651161600-1651165200@coolspeak.com
SUMMARY:2022 Vitalant Virtual Event with Zach Gowen.
DESCRIPTION:Title:2022 Vitalant Virtual Event with Zach Gowen. \nDescription:Zach Gowen will provide a virtual presentation for Vitalant Employees. \nTheme:Diversity and Equity \nDate:04/28/2022 \nTime:4:00pm – 5:00pm EST \nLocation:Virtual
URL:https://coolspeak.com/event/2022-vitalant-virtual-event-with-zach-gowen/
END:VEVENT
BEGIN:VEVENT
DTSTART;TZID=America/New_York:20220428T160000
DTEND;TZID=America/New_York:20220428T170000
DTSTAMP:20260423T230451
CREATED:20220418T220332Z
LAST-MODIFIED:20220418T220332Z
UID:10000354-1651161600-1651165200@coolspeak.com
SUMMARY:2022 Vitalant Virtual Event with Zach Gowen.
DESCRIPTION:Title:2022 Vitalant Virtual Event with Zach Gowen. \nDescription:Zach Gowen will provide a virtual presentation for Vitalant Employees. \nTheme:Diversity and Equity \nDate:04/28/2022 \nTime:4:00pm – 5:00pm EST \nLocation:Virtual
URL:https://coolspeak.com/event/2022-vitalant-virtual-event-with-zach-gowen-2/
END:VEVENT
END:VCALENDAR