BEGIN:VCALENDAR
VERSION:2.0
PRODID:-//CoolSpeak - ECPv6.15.18//NONSGML v1.0//EN
CALSCALE:GREGORIAN
METHOD:PUBLISH
X-ORIGINAL-URL:https://coolspeak.com
X-WR-CALDESC:Events for CoolSpeak
REFRESH-INTERVAL;VALUE=DURATION:PT1H
X-Robots-Tag:noindex
X-PUBLISHED-TTL:PT1H
BEGIN:VTIMEZONE
TZID:America/New_York
BEGIN:DAYLIGHT
TZOFFSETFROM:-0500
TZOFFSETTO:-0400
TZNAME:EDT
DTSTART:20210314T070000
END:DAYLIGHT
BEGIN:STANDARD
TZOFFSETFROM:-0400
TZOFFSETTO:-0500
TZNAME:EST
DTSTART:20211107T060000
END:STANDARD
BEGIN:DAYLIGHT
TZOFFSETFROM:-0500
TZOFFSETTO:-0400
TZNAME:EDT
DTSTART:20220313T070000
END:DAYLIGHT
BEGIN:STANDARD
TZOFFSETFROM:-0400
TZOFFSETTO:-0500
TZNAME:EST
DTSTART:20221106T060000
END:STANDARD
BEGIN:DAYLIGHT
TZOFFSETFROM:-0500
TZOFFSETTO:-0400
TZNAME:EDT
DTSTART:20230312T070000
END:DAYLIGHT
BEGIN:STANDARD
TZOFFSETFROM:-0400
TZOFFSETTO:-0500
TZNAME:EST
DTSTART:20231105T060000
END:STANDARD
END:VTIMEZONE
BEGIN:VEVENT
DTSTART;TZID=America/New_York:20220518T130000
DTEND;TZID=America/New_York:20220518T140000
DTSTAMP:20260425T124240
CREATED:20220411T185937Z
LAST-MODIFIED:20220411T185937Z
UID:10000313-1652878800-1652882400@coolspeak.com
SUMMARY:WordPress Engine with Lamarr Womble
DESCRIPTION:Title: Lunch and Learn Presentation \nDescription:Lamarr Womble will provide a 45-minute in-person presentation with a Q&A to follow. \nTheme:  \nPassion and LeadershipDate: 05/18/2022 \nTime:12:00pm – 1:00PM CST \nLocation:Omaha\, NE
URL:https://coolspeak.com/event/wordpress-engine-with-lamarr-womble/
END:VEVENT
BEGIN:VEVENT
DTSTART;TZID=America/New_York:20220518T130000
DTEND;TZID=America/New_York:20220518T140000
DTSTAMP:20260425T124240
CREATED:20220411T185937Z
LAST-MODIFIED:20220411T185937Z
UID:10000318-1652878800-1652882400@coolspeak.com
SUMMARY:WordPress Engine with Lamarr Womble
DESCRIPTION:Title: Lunch and Learn Presentation \nDescription:Lamarr Womble will provide a 45-minute in-person presentation with a Q&A to follow. \nTheme:  \nPassion and LeadershipDate: 05/18/2022 \nTime:12:00pm – 1:00PM CST \nLocation:Omaha\, NE
URL:https://coolspeak.com/event/wordpress-engine-with-lamarr-womble-2/
END:VEVENT
BEGIN:VEVENT
DTSTART;TZID=America/New_York:20220518T190000
DTEND;TZID=America/New_York:20220518T200000
DTSTAMP:20260425T124240
CREATED:20220302T140323Z
LAST-MODIFIED:20220302T140323Z
UID:10000280-1652900400-1652904000@coolspeak.com
SUMMARY:Greeley Schools End of School Year Presentation
DESCRIPTION:Title:Greeley Schools End of School Year Presentation \nDescription:Motivation Keynote Presentation \nTheme: End of Year Celebration \nDate:05/18/2022 \nTime:5:00pm MST \nLocation:Greeley\, CO
URL:https://coolspeak.com/event/greeley-schools-end-of-school-year-presentation/
END:VEVENT
BEGIN:VEVENT
DTSTART;TZID=America/New_York:20220518T190000
DTEND;TZID=America/New_York:20220518T200000
DTSTAMP:20260425T124240
CREATED:20220302T140323Z
LAST-MODIFIED:20220302T140323Z
UID:10000284-1652900400-1652904000@coolspeak.com
SUMMARY:Greeley Schools End of School Year Presentation
DESCRIPTION:Title:Greeley Schools End of School Year Presentation \nDescription:Motivation Keynote Presentation \nTheme: End of Year Celebration \nDate:05/18/2022 \nTime:5:00pm MST \nLocation:Greeley\, CO
URL:https://coolspeak.com/event/greeley-schools-end-of-school-year-presentation-2/
END:VEVENT
END:VCALENDAR