BEGIN:VCALENDAR
VERSION:2.0
PRODID:-//CoolSpeak - ECPv6.15.18//NONSGML v1.0//EN
CALSCALE:GREGORIAN
METHOD:PUBLISH
X-ORIGINAL-URL:https://coolspeak.com
X-WR-CALDESC:Events for CoolSpeak
REFRESH-INTERVAL;VALUE=DURATION:PT1H
X-Robots-Tag:noindex
X-PUBLISHED-TTL:PT1H
BEGIN:VTIMEZONE
TZID:America/New_York
BEGIN:DAYLIGHT
TZOFFSETFROM:-0500
TZOFFSETTO:-0400
TZNAME:EDT
DTSTART:20210314T070000
END:DAYLIGHT
BEGIN:STANDARD
TZOFFSETFROM:-0400
TZOFFSETTO:-0500
TZNAME:EST
DTSTART:20211107T060000
END:STANDARD
BEGIN:DAYLIGHT
TZOFFSETFROM:-0500
TZOFFSETTO:-0400
TZNAME:EDT
DTSTART:20220313T070000
END:DAYLIGHT
BEGIN:STANDARD
TZOFFSETFROM:-0400
TZOFFSETTO:-0500
TZNAME:EST
DTSTART:20221106T060000
END:STANDARD
BEGIN:DAYLIGHT
TZOFFSETFROM:-0500
TZOFFSETTO:-0400
TZNAME:EDT
DTSTART:20230312T070000
END:DAYLIGHT
BEGIN:STANDARD
TZOFFSETFROM:-0400
TZOFFSETTO:-0500
TZNAME:EST
DTSTART:20231105T060000
END:STANDARD
END:VTIMEZONE
BEGIN:VEVENT
DTSTART;TZID=America/New_York:20220521T123000
DTEND;TZID=America/New_York:20220521T160000
DTSTAMP:20260425T124358
CREATED:20220422T153017Z
LAST-MODIFIED:20220422T153017Z
UID:10000423-1653136200-1653148800@coolspeak.com
SUMMARY:Southern Oregon Education Service District Migrant Ed Conference
DESCRIPTION:Title:Southern Oregon Education Service District Migrant Ed Conference \nDescription:Lilyan Prado Carillo will provide a keynote and workshop presentation. \nTheme:Migrant Education \nDate:05/21/2022 \nTime:9:30am – 1:00pm PST \nLocation:Klamath Falls\, OR 
URL:https://coolspeak.com/event/southern-oregon-education-service-district-migrant-ed-conference/
END:VEVENT
BEGIN:VEVENT
DTSTART;TZID=America/New_York:20220521T123000
DTEND;TZID=America/New_York:20220521T160000
DTSTAMP:20260425T124358
CREATED:20220422T153017Z
LAST-MODIFIED:20220422T153017Z
UID:10000424-1653136200-1653148800@coolspeak.com
SUMMARY:Southern Oregon Education Service District Migrant Ed Conference
DESCRIPTION:Title:Southern Oregon Education Service District Migrant Ed Conference \nDescription:Lilyan Prado Carillo will provide a keynote and workshop presentation. \nTheme:Migrant Education \nDate:05/21/2022 \nTime:9:30am – 1:00pm PST \nLocation:Klamath Falls\, OR 
URL:https://coolspeak.com/event/southern-oregon-education-service-district-migrant-ed-conference-2/
END:VEVENT
END:VCALENDAR