BEGIN:VCALENDAR
VERSION:2.0
PRODID:-//CoolSpeak - ECPv6.15.18//NONSGML v1.0//EN
CALSCALE:GREGORIAN
METHOD:PUBLISH
X-WR-CALNAME:CoolSpeak
X-ORIGINAL-URL:https://coolspeak.com
X-WR-CALDESC:Events for CoolSpeak
REFRESH-INTERVAL;VALUE=DURATION:PT1H
X-Robots-Tag:noindex
X-PUBLISHED-TTL:PT1H
BEGIN:VTIMEZONE
TZID:America/New_York
BEGIN:DAYLIGHT
TZOFFSETFROM:-0500
TZOFFSETTO:-0400
TZNAME:EDT
DTSTART:20210314T070000
END:DAYLIGHT
BEGIN:STANDARD
TZOFFSETFROM:-0400
TZOFFSETTO:-0500
TZNAME:EST
DTSTART:20211107T060000
END:STANDARD
BEGIN:DAYLIGHT
TZOFFSETFROM:-0500
TZOFFSETTO:-0400
TZNAME:EDT
DTSTART:20220313T070000
END:DAYLIGHT
BEGIN:STANDARD
TZOFFSETFROM:-0400
TZOFFSETTO:-0500
TZNAME:EST
DTSTART:20221106T060000
END:STANDARD
BEGIN:DAYLIGHT
TZOFFSETFROM:-0500
TZOFFSETTO:-0400
TZNAME:EDT
DTSTART:20230312T070000
END:DAYLIGHT
BEGIN:STANDARD
TZOFFSETFROM:-0400
TZOFFSETTO:-0500
TZNAME:EST
DTSTART:20231105T060000
END:STANDARD
END:VTIMEZONE
BEGIN:VEVENT
DTSTART;TZID=America/New_York:20220602T100000
DTEND;TZID=America/New_York:20220602T140000
DTSTAMP:20260425T124048
CREATED:20220310T185926Z
LAST-MODIFIED:20220310T185926Z
UID:10000292-1654164000-1654178400@coolspeak.com
SUMMARY:Region 16 ESC with Ernesto Mejia
DESCRIPTION:Title:Region 16 SPEDS Conference \nDescription:A Parental Involvement Conference for both Educators and Parents. \nTheme: Parental Involvement: Catch the Wave \nDate: 06/02/2022 \nTime: 09:00am – 1:00pm CST \nLocation:Corpus Christi\, TX
URL:https://coolspeak.com/event/statewide-parental-involvement-conference-2/
END:VEVENT
BEGIN:VEVENT
DTSTART;TZID=America/New_York:20220602T100000
DTEND;TZID=America/New_York:20220602T140000
DTSTAMP:20260425T124048
CREATED:20220310T185926Z
LAST-MODIFIED:20220310T185926Z
UID:10000290-1654164000-1654178400@coolspeak.com
SUMMARY:Region 16 ESC with Ernesto Mejia
DESCRIPTION:Title:Region 16 SPEDS Conference \nDescription:A Parental Involvement Conference for both Educators and Parents. \nTheme: Parental Involvement: Catch the Wave \nDate: 06/02/2022 \nTime: 09:00am – 1:00pm CST \nLocation:Corpus Christi\, TX
URL:https://coolspeak.com/event/statewide-parental-involvement-conference/
END:VEVENT
BEGIN:VEVENT
DTSTART;TZID=America/New_York:20220602T130000
DTEND;TZID=America/New_York:20220602T150000
DTSTAMP:20260425T124048
CREATED:20220512T125228Z
LAST-MODIFIED:20220512T125228Z
UID:10000485-1654174800-1654182000@coolspeak.com
SUMMARY:The Power of YOUth Programming
DESCRIPTION:Title:The Power of YOUth Programming \nDescription:CoolSpeak will provide 2 Hours of Leadership Training \nTheme:Leadership \nDate:05/31/2022 – 06/02/2022 \nTime:12:00pm – 2:00pm CST \nLocation:Wichita\, KS
URL:https://coolspeak.com/event/the-power-of-youth-programming-4/
END:VEVENT
BEGIN:VEVENT
DTSTART;TZID=America/New_York:20220602T130000
DTEND;TZID=America/New_York:20220602T150000
DTSTAMP:20260425T124048
CREATED:20220512T125228Z
LAST-MODIFIED:20220512T125228Z
UID:10000488-1654174800-1654182000@coolspeak.com
SUMMARY:The Power of YOUth Programming
DESCRIPTION:Title:The Power of YOUth Programming \nDescription:CoolSpeak will provide 2 Hours of Leadership Training \nTheme:Leadership \nDate:05/31/2022 – 06/02/2022 \nTime:12:00pm – 2:00pm CST \nLocation:Wichita\, KS
URL:https://coolspeak.com/event/the-power-of-youth-programming-4-2/
END:VEVENT
BEGIN:VEVENT
DTSTART;TZID=America/New_York:20220602T130000
DTEND;TZID=America/New_York:20220602T150000
DTSTAMP:20260425T124048
CREATED:20220524T105949Z
LAST-MODIFIED:20220524T105949Z
UID:10000521-1654174800-1654182000@coolspeak.com
SUMMARY:Haysville GEAR UP Wichita State University
DESCRIPTION:Title:\nThe Power of YOUth Programming\nDescription:\nCoolSpeak will provide 2 Hours of Leadership Training\nTheme:\nLeadership\nDate:\n5/31/2022-6/2/2022\nTime:\n12:00 PM- 2:00 PM CST\nLocation:\nWichita\, KS
URL:https://coolspeak.com/event/haysville-gear-up-wichita-state-university-3/
END:VEVENT
BEGIN:VEVENT
DTSTART;TZID=America/New_York:20220602T130000
DTEND;TZID=America/New_York:20220602T150000
DTSTAMP:20260425T124048
CREATED:20220524T105949Z
LAST-MODIFIED:20220524T105949Z
UID:10000527-1654174800-1654182000@coolspeak.com
SUMMARY:Haysville GEAR UP Wichita State University
DESCRIPTION:Title:\nThe Power of YOUth Programming\nDescription:\nCoolSpeak will provide 2 Hours of Leadership Training\nTheme:\nLeadership\nDate:\n5/31/2022-6/2/2022\nTime:\n12:00 PM- 2:00 PM CST\nLocation:\nWichita\, KS
URL:https://coolspeak.com/event/haysville-gear-up-wichita-state-university-3-2/
END:VEVENT
END:VCALENDAR