BEGIN:VCALENDAR
VERSION:2.0
PRODID:-//CoolSpeak - ECPv6.15.18//NONSGML v1.0//EN
CALSCALE:GREGORIAN
METHOD:PUBLISH
X-WR-CALNAME:CoolSpeak
X-ORIGINAL-URL:https://coolspeak.com
X-WR-CALDESC:Events for CoolSpeak
REFRESH-INTERVAL;VALUE=DURATION:PT1H
X-Robots-Tag:noindex
X-PUBLISHED-TTL:PT1H
BEGIN:VTIMEZONE
TZID:America/New_York
BEGIN:DAYLIGHT
TZOFFSETFROM:-0500
TZOFFSETTO:-0400
TZNAME:EDT
DTSTART:20210314T070000
END:DAYLIGHT
BEGIN:STANDARD
TZOFFSETFROM:-0400
TZOFFSETTO:-0500
TZNAME:EST
DTSTART:20211107T060000
END:STANDARD
BEGIN:DAYLIGHT
TZOFFSETFROM:-0500
TZOFFSETTO:-0400
TZNAME:EDT
DTSTART:20220313T070000
END:DAYLIGHT
BEGIN:STANDARD
TZOFFSETFROM:-0400
TZOFFSETTO:-0500
TZNAME:EST
DTSTART:20221106T060000
END:STANDARD
BEGIN:DAYLIGHT
TZOFFSETFROM:-0500
TZOFFSETTO:-0400
TZNAME:EDT
DTSTART:20230312T070000
END:DAYLIGHT
BEGIN:STANDARD
TZOFFSETFROM:-0400
TZOFFSETTO:-0500
TZNAME:EST
DTSTART:20231105T060000
END:STANDARD
END:VTIMEZONE
BEGIN:VEVENT
DTSTART;TZID=America/New_York:20220608T103000
DTEND;TZID=America/New_York:20220608T143000
DTSTAMP:20260425T182533
CREATED:20220419T003325Z
LAST-MODIFIED:20220419T003325Z
UID:10000356-1654684200-1654698600@coolspeak.com
SUMMARY:(Tentative) UTRGV GEAR UP Summer Camp
DESCRIPTION:
URL:https://coolspeak.com/event/tentative-utrgv-gear-up-summer-camp-2/
END:VEVENT
BEGIN:VEVENT
DTSTART;TZID=America/New_York:20220608T103000
DTEND;TZID=America/New_York:20220608T143000
DTSTAMP:20260425T182533
CREATED:20220419T003325Z
LAST-MODIFIED:20220419T003325Z
UID:10000358-1654684200-1654698600@coolspeak.com
SUMMARY:(Tentative) UTRGV GEAR UP Summer Camp
DESCRIPTION:
URL:https://coolspeak.com/event/tentative-utrgv-gear-up-summer-camp-2-2/
END:VEVENT
BEGIN:VEVENT
DTSTART;TZID=America/New_York:20220608T120000
DTEND;TZID=America/New_York:20220608T190000
DTSTAMP:20260425T182533
CREATED:20220524T105949Z
LAST-MODIFIED:20220524T105949Z
UID:10000526-1654689600-1654714800@coolspeak.com
SUMMARY:Idaho State Department of Education Migrant Summer Camp
DESCRIPTION:Title: Idaho State Department of Education Migrant Summer Camp \nDescription: \nTheme:Migrant Summer Camp \nDate: 6/4/2022 – 6/10/2022 \nTime:9:00 AM- 4:00 PM MST \nLocation:Moscow\, ID
URL:https://coolspeak.com/event/idaho-state-department-of-education-migrant-summer-camp-5/
END:VEVENT
BEGIN:VEVENT
DTSTART;TZID=America/New_York:20220608T120000
DTEND;TZID=America/New_York:20220608T190000
DTSTAMP:20260425T182533
CREATED:20220524T105949Z
LAST-MODIFIED:20220524T105949Z
UID:10000532-1654689600-1654714800@coolspeak.com
SUMMARY:Idaho State Department of Education Migrant Summer Camp
DESCRIPTION:Title: Idaho State Department of Education Migrant Summer Camp \nDescription: \nTheme:Migrant Summer Camp \nDate: 6/4/2022 – 6/10/2022 \nTime:9:00 AM- 4:00 PM MST \nLocation:Moscow\, ID
URL:https://coolspeak.com/event/idaho-state-department-of-education-migrant-summer-camp-5-2/
END:VEVENT
END:VCALENDAR