BEGIN:VCALENDAR
VERSION:2.0
PRODID:-//CoolSpeak - ECPv6.15.18//NONSGML v1.0//EN
CALSCALE:GREGORIAN
METHOD:PUBLISH
X-ORIGINAL-URL:https://coolspeak.com
X-WR-CALDESC:Events for CoolSpeak
REFRESH-INTERVAL;VALUE=DURATION:PT1H
X-Robots-Tag:noindex
X-PUBLISHED-TTL:PT1H
BEGIN:VTIMEZONE
TZID:America/New_York
BEGIN:DAYLIGHT
TZOFFSETFROM:-0500
TZOFFSETTO:-0400
TZNAME:EDT
DTSTART:20210314T070000
END:DAYLIGHT
BEGIN:STANDARD
TZOFFSETFROM:-0400
TZOFFSETTO:-0500
TZNAME:EST
DTSTART:20211107T060000
END:STANDARD
BEGIN:DAYLIGHT
TZOFFSETFROM:-0500
TZOFFSETTO:-0400
TZNAME:EDT
DTSTART:20220313T070000
END:DAYLIGHT
BEGIN:STANDARD
TZOFFSETFROM:-0400
TZOFFSETTO:-0500
TZNAME:EST
DTSTART:20221106T060000
END:STANDARD
BEGIN:DAYLIGHT
TZOFFSETFROM:-0500
TZOFFSETTO:-0400
TZNAME:EDT
DTSTART:20230312T070000
END:DAYLIGHT
BEGIN:STANDARD
TZOFFSETFROM:-0400
TZOFFSETTO:-0500
TZNAME:EST
DTSTART:20231105T060000
END:STANDARD
END:VTIMEZONE
BEGIN:VEVENT
DTSTART;TZID=America/New_York:20220613T080000
DTEND;TZID=America/New_York:20220613T220000
DTSTAMP:20260426T002049
CREATED:20220419T014309Z
LAST-MODIFIED:20220419T014309Z
UID:10000363-1655107200-1655157600@coolspeak.com
SUMMARY:2022 Kansas City Kansas GEAR UP Cool U Get In Gear
DESCRIPTION:
URL:https://coolspeak.com/event/2022-kansas-city-kansas-gear-up-cool-u-get-in-gear/
END:VEVENT
BEGIN:VEVENT
DTSTART;TZID=America/New_York:20220613T080000
DTEND;TZID=America/New_York:20220613T220000
DTSTAMP:20260426T002049
CREATED:20220419T014309Z
LAST-MODIFIED:20220419T014309Z
UID:10000367-1655107200-1655157600@coolspeak.com
SUMMARY:2022 Kansas City Kansas GEAR UP Cool U Get In Gear
DESCRIPTION:
URL:https://coolspeak.com/event/2022-kansas-city-kansas-gear-up-cool-u-get-in-gear-7/
END:VEVENT
BEGIN:VEVENT
DTSTART;TZID=America/New_York:20220613T080000
DTEND;TZID=America/New_York:20220613T220000
DTSTAMP:20260426T002049
CREATED:20220419T045815Z
LAST-MODIFIED:20220419T045815Z
UID:10000422-1655107200-1655157600@coolspeak.com
SUMMARY:2022 Kansas City Kansas GEAR UP Cool U Get In Gear
DESCRIPTION:
URL:https://coolspeak.com/event/2022-kansas-city-kansas-gear-up-cool-u-get-in-gear-6-2/
END:VEVENT
BEGIN:VEVENT
DTSTART;TZID=America/New_York:20220613T080000
DTEND;TZID=America/New_York:20220613T220000
DTSTAMP:20260426T002049
CREATED:20220419T045815Z
LAST-MODIFIED:20220419T045815Z
UID:10000421-1655107200-1655157600@coolspeak.com
SUMMARY:2022 Kansas City Kansas GEAR UP Cool U Get In Gear
DESCRIPTION:
URL:https://coolspeak.com/event/2022-kansas-city-kansas-gear-up-cool-u-get-in-gear-6/
END:VEVENT
BEGIN:VEVENT
DTSTART;TZID=America/New_York:20220613T080000
DTEND;TZID=America/New_York:20220613T230000
DTSTAMP:20260426T002049
CREATED:20220419T014309Z
LAST-MODIFIED:20220419T014309Z
UID:10000364-1655107200-1655161200@coolspeak.com
SUMMARY:Wichita State University CoolTrips
DESCRIPTION:Title:Wichita State University CoolTrips \nDescription:3-Day Bus Trip \nTheme:Education \nDate:06/13/2022 – 06/15/2022 \nTime:8:00am – 8:00pm PST \nLocation:Colorado Springs\, CO
URL:https://coolspeak.com/event/wichita-state-university-cooltrips/
END:VEVENT
BEGIN:VEVENT
DTSTART;TZID=America/New_York:20220613T080000
DTEND;TZID=America/New_York:20220613T230000
DTSTAMP:20260426T002049
CREATED:20220419T014309Z
LAST-MODIFIED:20220419T014309Z
UID:10000368-1655107200-1655161200@coolspeak.com
SUMMARY:Wichita State University CoolTrips
DESCRIPTION:Title:Wichita State University CoolTrips \nDescription:3-Day Bus Trip \nTheme:Education \nDate:06/13/2022 – 06/15/2022 \nTime:8:00am – 8:00pm PST \nLocation:Colorado Springs\, CO
URL:https://coolspeak.com/event/wichita-state-university-cooltrips-4/
END:VEVENT
BEGIN:VEVENT
DTSTART;TZID=America/New_York:20220613T080000
DTEND;TZID=America/New_York:20220613T230000
DTSTAMP:20260426T002049
CREATED:20220606T205806Z
LAST-MODIFIED:20220606T205806Z
UID:10000559-1655107200-1655161200@coolspeak.com
SUMMARY:CoolTrip: Wichita State GEAR UP to Colorado Springs
DESCRIPTION:3-Day CoolTrip to visit colleges and universities in Colorado Springs featuring CoolSpeakers Juan Cangas\, Joaquin Zihuatanejo and Zach Gowen.
URL:https://coolspeak.com/event/cooltrip-wichita-state-gear-up-to-colorado-springs-4/
LOCATION:Colorado Springs\, CO\, USA
END:VEVENT
BEGIN:VEVENT
DTSTART;TZID=America/New_York:20220613T080000
DTEND;TZID=America/New_York:20220613T230000
DTSTAMP:20260426T002049
CREATED:20220606T205806Z
LAST-MODIFIED:20220606T205806Z
UID:10000560-1655107200-1655161200@coolspeak.com
SUMMARY:CoolTrip: Wichita State GEAR UP to Colorado Springs
DESCRIPTION:3-Day CoolTrip to visit colleges and universities in Colorado Springs featuring CoolSpeakers Juan Cangas\, Joaquin Zihuatanejo and Zach Gowen.
URL:https://coolspeak.com/event/cooltrip-wichita-state-gear-up-to-colorado-springs/
LOCATION:Colorado Springs\, CO\, USA
END:VEVENT
BEGIN:VEVENT
DTSTART;TZID=America/New_York:20220613T120000
DTEND;TZID=America/New_York:20220613T150000
DTSTAMP:20260426T002049
CREATED:20220419T003326Z
LAST-MODIFIED:20220419T003326Z
UID:10000361-1655121600-1655132400@coolspeak.com
SUMMARY:University of Texas Rio Grande  GEAR UP Summer Camp
DESCRIPTION:Title:\n2022 University of Texas Rio Grande Valley GEAR UP Summer presentation Day with Angela Vivar.\nDescription:\nMotivating students to finish the school year strong and pursue their dreams.\nTheme:\nMotivation\, Education\, and Pursuit of Goals.\nDate:\n6/13/2022\nTime:\n11:00 AM – 2:00 PM CST\nLocation:\nBrownsville\, TX
URL:https://coolspeak.com/event/tentative-utrgv-gear-up-summer-camp-3-2/
END:VEVENT
END:VCALENDAR