BEGIN:VCALENDAR
VERSION:2.0
PRODID:-//CoolSpeak - ECPv6.15.18//NONSGML v1.0//EN
CALSCALE:GREGORIAN
METHOD:PUBLISH
X-ORIGINAL-URL:https://coolspeak.com
X-WR-CALDESC:Events for CoolSpeak
REFRESH-INTERVAL;VALUE=DURATION:PT1H
X-Robots-Tag:noindex
X-PUBLISHED-TTL:PT1H
BEGIN:VTIMEZONE
TZID:America/New_York
BEGIN:DAYLIGHT
TZOFFSETFROM:-0500
TZOFFSETTO:-0400
TZNAME:EDT
DTSTART:20250309T070000
END:DAYLIGHT
BEGIN:STANDARD
TZOFFSETFROM:-0400
TZOFFSETTO:-0500
TZNAME:EST
DTSTART:20251102T060000
END:STANDARD
BEGIN:DAYLIGHT
TZOFFSETFROM:-0500
TZOFFSETTO:-0400
TZNAME:EDT
DTSTART:20260308T070000
END:DAYLIGHT
BEGIN:STANDARD
TZOFFSETFROM:-0400
TZOFFSETTO:-0500
TZNAME:EST
DTSTART:20261101T060000
END:STANDARD
BEGIN:DAYLIGHT
TZOFFSETFROM:-0500
TZOFFSETTO:-0400
TZNAME:EDT
DTSTART:20270314T070000
END:DAYLIGHT
BEGIN:STANDARD
TZOFFSETFROM:-0400
TZOFFSETTO:-0500
TZNAME:EST
DTSTART:20271107T060000
END:STANDARD
END:VTIMEZONE
BEGIN:VEVENT
DTSTART;VALUE=DATE:20260706
DTEND;VALUE=DATE:20260710
DTSTAMP:20260421T125943
CREATED:20260317T160536Z
LAST-MODIFIED:20260421T164745Z
UID:10002266-1783296000-1783641599@coolspeak.com
SUMMARY:Kankakee Community College TRIO Upward Bound Student Leadership Programming.
DESCRIPTION:Speaker: Timothy Stafford\nEvent Title: Kankakee Community College TRIO Upward Bound Student Leadership Programming.\nClient Program/Organization: Kankakee Community College\nEvent Description: Tim Stafford will provide a Three Week Program for TRIO Upward Bound High School Students.\nTheme: TRIO/Upward Bound/Student Leadership/Summer Programming\nStart Date: 2026-07-06\nEnd Date: 2026-07-23\nStart Time: 1:15 PM\nEnd Time: 2:15 PM\nCity/State: Normal\, IL\nAudience: High School\nNumber attending: 20
URL:https://coolspeak.com/event/kankakee-community-college-trio-upward-bound-student-leadership-programming/
CATEGORIES:Event
END:VEVENT
BEGIN:VEVENT
DTSTART;VALUE=DATE:20260713
DTEND;VALUE=DATE:20260717
DTSTAMP:20260421T125943
CREATED:20260317T160536Z
LAST-MODIFIED:20260421T164746Z
UID:10002267-1783900800-1784246399@coolspeak.com
SUMMARY:Kankakee Community College TRIO Upward Bound Student Leadership Programming.
DESCRIPTION:Speaker: Timothy Stafford\nEvent Title: Kankakee Community College TRIO Upward Bound Student Leadership Programming.\nClient Program/Organization: Kankakee Community College\nEvent Description: Tim Stafford will provide a Three Week Program for TRIO Upward Bound High School Students.\nTheme: TRIO/Upward Bound/Student Leadership/Summer Programming\nStart Date: 2026-07-06\nEnd Date: 2026-07-23\nStart Time: 1:15 PM\nEnd Time: 2:15 PM\nCity/State: Normal\, IL\nAudience: High School\nNumber attending: 20
URL:https://coolspeak.com/event/kankakee-community-college-trio-upward-bound-student-leadership-programming-2/
CATEGORIES:Event
END:VEVENT
BEGIN:VEVENT
DTSTART;VALUE=DATE:20260720
DTEND;VALUE=DATE:20260724
DTSTAMP:20260421T125943
CREATED:20260317T160536Z
LAST-MODIFIED:20260421T164746Z
UID:10002268-1784505600-1784851199@coolspeak.com
SUMMARY:Kankakee Community College TRIO Upward Bound Student Leadership Programming.
DESCRIPTION:Speaker: Timothy Stafford\nEvent Title: Kankakee Community College TRIO Upward Bound Student Leadership Programming.\nClient Program/Organization: Kankakee Community College\nEvent Description: Tim Stafford will provide a Three Week Program for TRIO Upward Bound High School Students.\nTheme: TRIO/Upward Bound/Student Leadership/Summer Programming\nStart Date: 2026-07-06\nEnd Date: 2026-07-23\nStart Time: 1:15 PM\nEnd Time: 2:15 PM\nCity/State: Normal\, IL\nAudience: High School\nNumber attending: 20
URL:https://coolspeak.com/event/kankakee-community-college-trio-upward-bound-student-leadership-programming-3/
CATEGORIES:Event
END:VEVENT
BEGIN:VEVENT
DTSTART;TZID=America/New_York:20260729T083000
DTEND;TZID=America/New_York:20260729T163000
DTSTAMP:20260421T125943
CREATED:20260304T193353Z
LAST-MODIFIED:20260421T164746Z
UID:10002244-1785313800-1785342600@coolspeak.com
SUMMARY:2026 Purdue University Northwest Upward Bound Presentation with MJ Bridges.
DESCRIPTION:Speaker: Melvin Bridges Jr.\nEvent Title: “Teen Millionaire Mindset”…Think Big\, Spend Smart!\nClient Program/Organization: Purdue University Northwest Hammond\nEvent Description: MJ Bridges will provide Two Financial Literacy Workshops for College Students.\nTheme: Financial Literacy/Trio/Education.\nStart Date: 2026-07-29\nEnd Date: 2026-07-29\nStart Time: 8:30 AM\nEnd Time: 4:30 PM\nCity/State: Hammond\, IN\nAudience: High School\nNumber attending: 40
URL:https://coolspeak.com/event/2026-purdue-university-northwest-upward-bound-presentation-with-mj-bridges/
CATEGORIES:Event
END:VEVENT
END:VCALENDAR