BEGIN:VCALENDAR
VERSION:2.0
PRODID:-//CoolSpeak - ECPv6.15.18//NONSGML v1.0//EN
CALSCALE:GREGORIAN
METHOD:PUBLISH
X-WR-CALNAME:CoolSpeak
X-ORIGINAL-URL:https://coolspeak.com
X-WR-CALDESC:Events for CoolSpeak
REFRESH-INTERVAL;VALUE=DURATION:PT1H
X-Robots-Tag:noindex
X-PUBLISHED-TTL:PT1H
BEGIN:VTIMEZONE
TZID:America/New_York
BEGIN:DAYLIGHT
TZOFFSETFROM:-0500
TZOFFSETTO:-0400
TZNAME:EDT
DTSTART:20250309T070000
END:DAYLIGHT
BEGIN:STANDARD
TZOFFSETFROM:-0400
TZOFFSETTO:-0500
TZNAME:EST
DTSTART:20251102T060000
END:STANDARD
BEGIN:DAYLIGHT
TZOFFSETFROM:-0500
TZOFFSETTO:-0400
TZNAME:EDT
DTSTART:20260308T070000
END:DAYLIGHT
BEGIN:STANDARD
TZOFFSETFROM:-0400
TZOFFSETTO:-0500
TZNAME:EST
DTSTART:20261101T060000
END:STANDARD
BEGIN:DAYLIGHT
TZOFFSETFROM:-0500
TZOFFSETTO:-0400
TZNAME:EDT
DTSTART:20270314T070000
END:DAYLIGHT
BEGIN:STANDARD
TZOFFSETFROM:-0400
TZOFFSETTO:-0500
TZNAME:EST
DTSTART:20271107T060000
END:STANDARD
END:VTIMEZONE
BEGIN:VEVENT
DTSTART;VALUE=DATE:20260819
DTEND;VALUE=DATE:20260821
DTSTAMP:20260421T140811
CREATED:20260314T184930Z
LAST-MODIFIED:20260421T180131Z
UID:10002264-1787097600-1787270399@coolspeak.com
SUMMARY:2026 Raritan Valley Community College EOF Orientation.
DESCRIPTION:Speaker: Chris Collins and Lilyan Prado-Carrillo\nEvent Title: 2026 EOF Scholar Orientation\nClient Program/Organization: Raritan Valley Community College\nEvent Description: CoolSpeakers Chris Collins and Lilyan Prado-Carrillo will provide Keynote Presentations and Team Building Activities Scholar Orientation for New EOF Scholars.\nTheme: Education. Goal Setting. Team Building. EOF.\nStart Date: 2026-08-19\nEnd Date: 2026-08-20\nStart Time: 9:00 AM\nEnd Time: 3:00 PM\nCity/State: Branchburg\, NJ\nAudience: College\nNumber attending: 100
URL:https://coolspeak.com/event/2026-raritan-valley-community-college-eof-orientation/
CATEGORIES:Event
END:VEVENT
BEGIN:VEVENT
DTSTART;TZID=America/New_York:20260826T080000
DTEND;TZID=America/New_York:20260826T200000
DTSTAMP:20260421T140811
CREATED:20260402T054951Z
LAST-MODIFIED:20260421T180131Z
UID:10002281-1787731200-1787774400@coolspeak.com
SUMMARY:Fall 2026 Granite SD GEAR UP Tour
DESCRIPTION:Speaker:\n\nCarlos Ojeda Jr \n\n\nEvent: \n\nFall 2026 Granite SD GEAR UP Tour\n\n\nDescription: \n\nChu will be visiting 5 schools to kick off the 26/27 school year\n\n\nTheme: \n\nKick Off\n\n\nDate:  \n\n8/26/2026\n\n\nPresentation Start Time:  \n\n8:00 AM\n\n\nEvent Address: \n\nWest Valley City\, UT\n\n\nAudience: \n\nHigh School\n\n\nNumber Attending: \n\n1\,300
URL:https://coolspeak.com/event/fall-2026-granite-sd-gear-up-tour/
CATEGORIES:Event
END:VEVENT
BEGIN:VEVENT
DTSTART;TZID=America/New_York:20260827T080000
DTEND;TZID=America/New_York:20260827T200000
DTSTAMP:20260421T140811
CREATED:20260402T054951Z
LAST-MODIFIED:20260421T180132Z
UID:10002282-1787817600-1787860800@coolspeak.com
SUMMARY:Fall 2026 Granite SD GEAR UP Tour
DESCRIPTION:Speaker:\n\nCarlos Ojeda Jr \n\n\nEvent: \n\nFall 2026 Granite SD GEAR UP Tour\n\n\nDescription: \n\nChu will be visiting 5 schools to kick off the 26/27 school year\n\n\nTheme: \n\nKick Off\n\n\nDate:  \n\n8/27/2026\n\n\nPresentation Start Time:  \n\n8:00 AM\n\n\nEvent Address: \n\nWest Valley City\, UT\n\n\nAudience: \n\nHigh School\n\n\nNumber Attending: \n\n1\,300
URL:https://coolspeak.com/event/fall-2026-granite-sd-gear-up-tour-2/
CATEGORIES:Event
END:VEVENT
END:VCALENDAR