BEGIN:VCALENDAR
VERSION:2.0
PRODID:-//CoolSpeak - ECPv6.15.18//NONSGML v1.0//EN
CALSCALE:GREGORIAN
METHOD:PUBLISH
X-WR-CALNAME:CoolSpeak
X-ORIGINAL-URL:https://coolspeak.com
X-WR-CALDESC:Events for CoolSpeak
REFRESH-INTERVAL;VALUE=DURATION:PT1H
X-Robots-Tag:noindex
X-PUBLISHED-TTL:PT1H
BEGIN:VTIMEZONE
TZID:America/New_York
BEGIN:DAYLIGHT
TZOFFSETFROM:-0500
TZOFFSETTO:-0400
TZNAME:EDT
DTSTART:20250309T070000
END:DAYLIGHT
BEGIN:STANDARD
TZOFFSETFROM:-0400
TZOFFSETTO:-0500
TZNAME:EST
DTSTART:20251102T060000
END:STANDARD
BEGIN:DAYLIGHT
TZOFFSETFROM:-0500
TZOFFSETTO:-0400
TZNAME:EDT
DTSTART:20260308T070000
END:DAYLIGHT
BEGIN:STANDARD
TZOFFSETFROM:-0400
TZOFFSETTO:-0500
TZNAME:EST
DTSTART:20261101T060000
END:STANDARD
BEGIN:DAYLIGHT
TZOFFSETFROM:-0500
TZOFFSETTO:-0400
TZNAME:EDT
DTSTART:20270314T070000
END:DAYLIGHT
BEGIN:STANDARD
TZOFFSETFROM:-0400
TZOFFSETTO:-0500
TZNAME:EST
DTSTART:20271107T060000
END:STANDARD
END:VTIMEZONE
BEGIN:VEVENT
DTSTART;TZID=America/New_York:20260207T110000
DTEND;TZID=America/New_York:20260207T130000
DTSTAMP:20260421T125851
CREATED:20260123T023343Z
LAST-MODIFIED:20260207T173348Z
UID:10002149-1770462000-1770469200@coolspeak.com
SUMMARY:Morehouse Trio Financial Literacy Series with MJ Bridges
DESCRIPTION:Speaker: Melvin Bridges Jr.\nEvent Title: Spring 2026 Morehouse College ETS Financial Literacy with MJ Bridges\nClient Program/Organization: Morehouse College\nEvent Description: Financial Literacy Series with MJ Bridges\nTheme: Financial Literacy\nStart Date: 2026-01-24\nEnd Date: 2026-04-29\nStart Time: 10:00 AM\nEnd Time: 12:00 PM\nCity/State: Atlanta\, GA\nAudience: College\nNumber attending: 60
URL:https://coolspeak.com/event/morehouse-trio-financial-literacy-series-with-mj-bridges/
CATEGORIES:Event
END:VEVENT
END:VCALENDAR