BEGIN:VCALENDAR
VERSION:2.0
PRODID:-//CoolSpeak - ECPv6.15.18//NONSGML v1.0//EN
CALSCALE:GREGORIAN
METHOD:PUBLISH
X-WR-CALNAME:CoolSpeak
X-ORIGINAL-URL:https://coolspeak.com
X-WR-CALDESC:Events for CoolSpeak
REFRESH-INTERVAL;VALUE=DURATION:PT1H
X-Robots-Tag:noindex
X-PUBLISHED-TTL:PT1H
BEGIN:VTIMEZONE
TZID:America/New_York
BEGIN:DAYLIGHT
TZOFFSETFROM:-0500
TZOFFSETTO:-0400
TZNAME:EDT
DTSTART:20250309T070000
END:DAYLIGHT
BEGIN:STANDARD
TZOFFSETFROM:-0400
TZOFFSETTO:-0500
TZNAME:EST
DTSTART:20251102T060000
END:STANDARD
BEGIN:DAYLIGHT
TZOFFSETFROM:-0500
TZOFFSETTO:-0400
TZNAME:EDT
DTSTART:20260308T070000
END:DAYLIGHT
BEGIN:STANDARD
TZOFFSETFROM:-0400
TZOFFSETTO:-0500
TZNAME:EST
DTSTART:20261101T060000
END:STANDARD
BEGIN:DAYLIGHT
TZOFFSETFROM:-0500
TZOFFSETTO:-0400
TZNAME:EDT
DTSTART:20270314T070000
END:DAYLIGHT
BEGIN:STANDARD
TZOFFSETFROM:-0400
TZOFFSETTO:-0500
TZNAME:EST
DTSTART:20271107T060000
END:STANDARD
END:VTIMEZONE
BEGIN:VEVENT
DTSTART;TZID=America/New_York:20260213T090000
DTEND;TZID=America/New_York:20260213T210000
DTSTAMP:20260421T130056
CREATED:20251018T040421Z
LAST-MODIFIED:20260116T003357Z
UID:10002056-1770973200-1771016400@coolspeak.com
SUMMARY:Winter 2026 Houston ISD TEA Booth Winner
DESCRIPTION:Speaker:\n\nErnesto Mejia\n\n\nEvent: \n\nWinter 2026 Houston ISD TEA Booth Winner\n\n\nDescription: \n\nThe purpose of this annual conference is to further build the capacity of parents and families by hosting various workshops/sessions and community and school based resources.\n\n\nTheme: \n\nBuilding Foundations\n\n\nDate:  \n\n2/13/2026\n\n\nPresentation Start Time:  \n\n8:45 AM\n\n\nWorkshop Start Time: \n\n10:00 AM\n\n\nEvent Address: \n\nHouston\, TX\n\n\nVenue: \n\nSchool Auditorium\n\n\nAudience: \n\nParents\n\n\nNumber Attending: \n\n250
URL:https://coolspeak.com/event/winter-2026-houston-isd-tea-booth-winner/
CATEGORIES:Event
END:VEVENT
BEGIN:VEVENT
DTSTART;TZID=America/New_York:20260213T090000
DTEND;TZID=America/New_York:20260213T210000
DTSTAMP:20260421T130056
CREATED:20251118T043400Z
LAST-MODIFIED:20260214T015000Z
UID:10002096-1770973200-1771016400@coolspeak.com
SUMMARY:Spring 2026 Greeley D6 Career Readiness Conference GEAR UP
DESCRIPTION:Speaker:\n\nLamarr Womble\n\n\nEvent: \n\nSpring 2026 Greeley D6 Career Readiness Conference GEAR UP\n\n\nDescription: \n\nThe goal of this event is to help students develop the skills\, confidence\, and mindset necessary to succeed in the workplace. Many of our juniors will soon be preparing for summer internships and other work-based learning opportunities\, making this an es…\n\n\nTheme: \n\nOwn your Future!\n\n\nDate:  \n\n2/13/2026\n\n\nPresentation Start Time:  \n\n9:30 AM\n\n\nWorkshop Start Time: \n\n10:15 AM\n\n\nEvent Address: \n\nGreeley\, CO\n\n\nVenue: \n\nCollege/University/Facilities\n\n\nNumber Attending: \n\n200
URL:https://coolspeak.com/event/spring-2026-greeley-d6-career-readiness-conference-gear-up/
CATEGORIES:Event
END:VEVENT
END:VCALENDAR