BEGIN:VCALENDAR
VERSION:2.0
PRODID:-//CoolSpeak - ECPv6.15.18//NONSGML v1.0//EN
CALSCALE:GREGORIAN
METHOD:PUBLISH
X-WR-CALNAME:CoolSpeak
X-ORIGINAL-URL:https://coolspeak.com
X-WR-CALDESC:Events for CoolSpeak
REFRESH-INTERVAL;VALUE=DURATION:PT1H
X-Robots-Tag:noindex
X-PUBLISHED-TTL:PT1H
BEGIN:VTIMEZONE
TZID:America/New_York
BEGIN:DAYLIGHT
TZOFFSETFROM:-0500
TZOFFSETTO:-0400
TZNAME:EDT
DTSTART:20250309T070000
END:DAYLIGHT
BEGIN:STANDARD
TZOFFSETFROM:-0400
TZOFFSETTO:-0500
TZNAME:EST
DTSTART:20251102T060000
END:STANDARD
BEGIN:DAYLIGHT
TZOFFSETFROM:-0500
TZOFFSETTO:-0400
TZNAME:EDT
DTSTART:20260308T070000
END:DAYLIGHT
BEGIN:STANDARD
TZOFFSETFROM:-0400
TZOFFSETTO:-0500
TZNAME:EST
DTSTART:20261101T060000
END:STANDARD
BEGIN:DAYLIGHT
TZOFFSETFROM:-0500
TZOFFSETTO:-0400
TZNAME:EDT
DTSTART:20270314T070000
END:DAYLIGHT
BEGIN:STANDARD
TZOFFSETFROM:-0400
TZOFFSETTO:-0500
TZNAME:EST
DTSTART:20271107T060000
END:STANDARD
END:VTIMEZONE
BEGIN:VEVENT
DTSTART;TZID=America/New_York:20260228T130000
DTEND;TZID=America/New_York:20260228T140000
DTSTAMP:20260421T125944
CREATED:20260105T184817Z
LAST-MODIFIED:20260228T181842Z
UID:10002119-1772283600-1772287200@coolspeak.com
SUMMARY:Spring 2026 Alief ISD Family U with Natasha Carrizosa
DESCRIPTION:Speaker: Natasha Carrizosa\nEvent Title: Spring 2026 15th Annual Alief Family U Conference with Natasha Carrizosa\nClient Program/Organization: Alief Independent School District\nEvent Description: Engaging sessions in multiple languages for Alief ISD parents\, staff\, children\, and preteens.\nTheme: Make Your Mark\nStart Date: 2026-02-28\nEnd Date: 2026-02-28\nStart Time: 7:00 AM\nEnd Time: 1:45 PM\nCity/State: Houston\, TX\nAudience: Family and Staff \nNumber attending: 60
URL:https://coolspeak.com/event/spring-2026-alief-isd-family-u-with-natasha-carrizosa/
CATEGORIES:Event
END:VEVENT
END:VCALENDAR