BEGIN:VCALENDAR
VERSION:2.0
PRODID:-//CoolSpeak - ECPv6.15.18//NONSGML v1.0//EN
CALSCALE:GREGORIAN
METHOD:PUBLISH
X-ORIGINAL-URL:https://coolspeak.com
X-WR-CALDESC:Events for CoolSpeak
REFRESH-INTERVAL;VALUE=DURATION:PT1H
X-Robots-Tag:noindex
X-PUBLISHED-TTL:PT1H
BEGIN:VTIMEZONE
TZID:America/New_York
BEGIN:DAYLIGHT
TZOFFSETFROM:-0500
TZOFFSETTO:-0400
TZNAME:EDT
DTSTART:20250309T070000
END:DAYLIGHT
BEGIN:STANDARD
TZOFFSETFROM:-0400
TZOFFSETTO:-0500
TZNAME:EST
DTSTART:20251102T060000
END:STANDARD
BEGIN:DAYLIGHT
TZOFFSETFROM:-0500
TZOFFSETTO:-0400
TZNAME:EDT
DTSTART:20260308T070000
END:DAYLIGHT
BEGIN:STANDARD
TZOFFSETFROM:-0400
TZOFFSETTO:-0500
TZNAME:EST
DTSTART:20261101T060000
END:STANDARD
BEGIN:DAYLIGHT
TZOFFSETFROM:-0500
TZOFFSETTO:-0400
TZNAME:EDT
DTSTART:20270314T070000
END:DAYLIGHT
BEGIN:STANDARD
TZOFFSETFROM:-0400
TZOFFSETTO:-0500
TZNAME:EST
DTSTART:20271107T060000
END:STANDARD
END:VTIMEZONE
BEGIN:VEVENT
DTSTART;VALUE=DATE:20260406
DTEND;VALUE=DATE:20260410
DTSTAMP:20260421T102256
CREATED:20260310T201937Z
LAST-MODIFIED:20260409T234605Z
UID:10002253-1775433600-1775779199@coolspeak.com
SUMMARY:2026 WSU Tri Cities Idaho CoolTrip
DESCRIPTION:Facilitator: \n\nMarlanea Heaven \n\n\nEvent: \n\n2026 WSU Tri Cities Idaho CoolTrip\n\n\nDescription: \n\nMarlanea will accompany      students and staff on Idaho bus tour with bus and hotel programming\n\n\nTheme: \n\nCollege Access\n\n\nDate:  \n\n4/6 – 4/9/2026\n\n\nArrival Time: \n\n5:45AM\n\n\n\n\nVenue: \n\nMeet buses at 3100 George Washington Way\, Richland WA 99354\n\n\nAudience: \n\nHigh School and GU Staff\n\n\nNumber Attending: \n\n54
URL:https://coolspeak.com/event/2026-wsu-tri-cities-idaho-cooltrip-2/
LOCATION:Idaho\, USA
CATEGORIES:Event
END:VEVENT
BEGIN:VEVENT
DTSTART;TZID=America/New_York:20260409T080000
DTEND;TZID=America/New_York:20260409T200000
DTSTAMP:20260421T102256
CREATED:20260130T230352Z
LAST-MODIFIED:20260401T030424Z
UID:10002177-1775721600-1775764800@coolspeak.com
SUMMARY:Spring 2026 Shasta Elementary Boundless Assemblies
DESCRIPTION:Speaker:\n\nDr. Laura Rizo\n\n\nEvent: \n\nSpring 2026 Shasta Elementary Boundless Assemblies\n\n\nDescription: \n\nStudent assembly and workshops during the day\, followed by a Family Night event in the evening. two-hour professional development session for educators\n\n\nDate:  \n\n4/9/2026 – 4/10/2026\n\n\nPresentation Start Time:  \n\n9:00 AM\n\n\nWorkshop Start Time: \n\n11:00 AM\n\n\nEvent Address: \n\nKlamath Falls\, OR\n\n\nVenue: \n\nSchool Auditorium\n\n\nAudience: \n\nMiddle School\n\n\nNumber Attending: \n\n650
URL:https://coolspeak.com/event/spring-2026-shasta-elementary-boundless-assemblies/
CATEGORIES:Event
END:VEVENT
BEGIN:VEVENT
DTSTART;TZID=America/New_York:20260409T080000
DTEND;TZID=America/New_York:20260409T200000
DTSTAMP:20260421T102256
CREATED:20260402T051615Z
LAST-MODIFIED:20260409T234605Z
UID:10002280-1775721600-1775764800@coolspeak.com
SUMMARY:2026 Dillard University Financial Literacy Day W. MJ
DESCRIPTION:Speaker:\n\nMJ Bridges\n\n\nEvent: \n\n2026 Dillard University Financial Literacy Day W. MJ\n\n\nDescription: \n\nMJ will be working with students on financial literacy\n\n\nTheme: \n\nFinancial Literacy\n\n\nDate:  \n\n4/9/2026\n\n\nWorkshop Start Time: \n\n5:30 PM\n\n\nEvent Address: \n\nNew Orleans\, LA\n\n\nAudience: \n\nCollege\n\n\nNumber Attending: \n\n30
URL:https://coolspeak.com/event/2026-dillard-university-financial-literacy-day-w-mj/
CATEGORIES:Event
END:VEVENT
BEGIN:VEVENT
DTSTART;TZID=America/New_York:20260409T123000
DTEND;TZID=America/New_York:20260409T190000
DTSTAMP:20260421T102256
CREATED:20260309T173416Z
LAST-MODIFIED:20260409T224552Z
UID:10002249-1775737800-1775761200@coolspeak.com
SUMMARY:Amelia County Middle School Programming Day.
DESCRIPTION:Speaker: Zach Gowen\nEvent Title: Amelia County Middle School Programming Day.\nClient Program/Organization: Longwood University\nEvent Description: Zach Gowen will provide a Student Assembly\, Breakout Session\, and a Family Engagement Presentation for GEAR UP Middle School Students and Families.\nTheme: GEAR UP/Education/Leadership/Post Secondary Awareness and Readiness.\nStart Date: 2026-04-09\nEnd Date: 2026-04-09\nStart Time: 12:30 PM\nEnd Time: 7:00 PM\nCity/State: Amelia Court House\, VA\nAudience: Middle School\nNumber attending: 315
URL:https://coolspeak.com/event/amelia-county-middle-school-programming-day/
CATEGORIES:Event
END:VEVENT
END:VCALENDAR