BEGIN:VCALENDAR
VERSION:2.0
PRODID:-//CoolSpeak - ECPv6.15.18//NONSGML v1.0//EN
CALSCALE:GREGORIAN
METHOD:PUBLISH
X-ORIGINAL-URL:https://coolspeak.com
X-WR-CALDESC:Events for CoolSpeak
REFRESH-INTERVAL;VALUE=DURATION:PT1H
X-Robots-Tag:noindex
X-PUBLISHED-TTL:PT1H
BEGIN:VTIMEZONE
TZID:America/New_York
BEGIN:DAYLIGHT
TZOFFSETFROM:-0500
TZOFFSETTO:-0400
TZNAME:EDT
DTSTART:20250309T070000
END:DAYLIGHT
BEGIN:STANDARD
TZOFFSETFROM:-0400
TZOFFSETTO:-0500
TZNAME:EST
DTSTART:20251102T060000
END:STANDARD
BEGIN:DAYLIGHT
TZOFFSETFROM:-0500
TZOFFSETTO:-0400
TZNAME:EDT
DTSTART:20260308T070000
END:DAYLIGHT
BEGIN:STANDARD
TZOFFSETFROM:-0400
TZOFFSETTO:-0500
TZNAME:EST
DTSTART:20261101T060000
END:STANDARD
BEGIN:DAYLIGHT
TZOFFSETFROM:-0500
TZOFFSETTO:-0400
TZNAME:EDT
DTSTART:20270314T070000
END:DAYLIGHT
BEGIN:STANDARD
TZOFFSETFROM:-0400
TZOFFSETTO:-0500
TZNAME:EST
DTSTART:20271107T060000
END:STANDARD
END:VTIMEZONE
BEGIN:VEVENT
DTSTART;VALUE=DATE:20260420
DTEND;VALUE=DATE:20260424
DTSTAMP:20260421T102220
CREATED:20260217T231852Z
LAST-MODIFIED:20260421T141625Z
UID:10002226-1776643200-1776988799@coolspeak.com
SUMMARY:GEAR UP Southern West Virginia Financial Literacy Programming.
DESCRIPTION:Speaker: MJ Bridges\nEvent Title: GEAR UP Southern West Virginia Financial Literacy Programming.\nClient Program/Organization: Concord University\nEvent Description: MJ Bridges will provide Financial Literacy Classroom Takeovers for 10th Grade GEAR UP Students and a Family Evening Event. .\nTheme: GEAR UP/Financial Literacy/Education/Family Support.\nStart Date: 2026-04-20\nEnd Date: 2026-04-23\nStart Time: 8:00 AM\nEnd Time: 8:00 PM\nCity/State: Bluefield\, WV\nAudience: High School\nNumber attending: 2400
URL:https://coolspeak.com/event/gear-up-southern-west-virginia-financial-literacy-programming-3/
CATEGORIES:Event
END:VEVENT
BEGIN:VEVENT
DTSTART;VALUE=DATE:20260420
DTEND;VALUE=DATE:20260424
DTSTAMP:20260421T102220
CREATED:20260327T194929Z
LAST-MODIFIED:20260421T141625Z
UID:10002273-1776643200-1776988799@coolspeak.com
SUMMARY:2026 Colorado GEAR UP Senior Bootcamp.
DESCRIPTION:Speaker: Multiple Speakers\nEvent Title: 2025 Colorado GEAR UP Senior Seminar.\nClient Program/Organization: Colorado GEAR UP\nEvent Description: CoolSpeakers Lilyan Prado-Carrillo\, Zach Gowen\, and Marley Lizama will provide Keynotes and Workshops for High School GEAR UP Students at the following schools: Jefferson High School\, Pueblo Central & Pueblo East\, Arvada High School\, Harrison High School.\nTheme: GEAR UP/Education/Team Building.\nStart Date: 2026-04-17\nEnd Date: 2026-04-23\nStart Time: 8:00 AM\nEnd Time: 1:00 PM\nCity/State: Colorado Springs\, CO\nAudience: High School\nNumber attending: 100
URL:https://coolspeak.com/event/2026-colorado-gear-up-senior-bootcamp-2/
CATEGORIES:Event
END:VEVENT
BEGIN:VEVENT
DTSTART;VALUE=DATE:20260423
DTEND;VALUE=DATE:20260424
DTSTAMP:20260421T102220
CREATED:20260408T183210Z
LAST-MODIFIED:20260421T141625Z
UID:10002292-1776902400-1776988799@coolspeak.com
SUMMARY:Spring 2026 Family Engagement Strategies PD with Ernest Mejia
DESCRIPTION:Speaker: Ernesto Mejia\nEvent Title: Spring 2026 Family Engagement Strategies PD with Ernest Mejia\nClient Program/Organization: University of Texas at Austin\nEvent Description: Family Engagement Professional Development by Ernesto Mejia\nTheme: Family Engagement Strategies\nStart Date: 2026-04-23\nEnd Date: 2026-04-23\nStart Time: 9:00 AM\nEnd Time: 10:30 AM\nCity/State: Houston\, TX\nAudience: Professional\nNumber attending: 75
URL:https://coolspeak.com/event/spring-2026-family-engagement-strategies-pd-with-ernest-mejia/
CATEGORIES:Event
END:VEVENT
BEGIN:VEVENT
DTSTART;TZID=America/New_York:20260423T080000
DTEND;TZID=America/New_York:20260423T200000
DTSTAMP:20260421T102220
CREATED:20260211T054928Z
LAST-MODIFIED:20260421T141626Z
UID:10002202-1776931200-1776974400@coolspeak.com
SUMMARY:Spring 2026 Stevens Middle School Leadership Series
DESCRIPTION:Speaker:\n\nJuan Cangas\n\n\nEvent: \n\nSpring 2026 Stevens Middle School Leadership Series\n\n\nDescription: \n\nJuan will work with students on leadership\n\n\nDate:  \n\n4/23/2026\n\n\nPresentation Start Time:  \n\n8:00 AM\n\n\nWorkshop Start Time: \n\n1:00 PM\n\n\nEvent Address: \n\nPasco\, WA\n\n\nNumber Attending: \n\n875
URL:https://coolspeak.com/event/spring-2026-stevens-middle-school-leadership-series/
CATEGORIES:Event
END:VEVENT
BEGIN:VEVENT
DTSTART;TZID=America/New_York:20260423T160000
DTEND;TZID=America/New_York:20260423T180000
DTSTAMP:20260421T102220
CREATED:20260407T210146Z
LAST-MODIFIED:20260421T141626Z
UID:10002286-1776960000-1776967200@coolspeak.com
SUMMARY:Spring 2026 SCSU GEAR UP Presentation with Chris Collins
DESCRIPTION:Web Calendar Event Information\nSpeaker: Christopher Collins\nEvent Title: Spring 2026 SCSU GEAR UP Presentation with Chris Collins\nClient Program/Organization: Southern Connecticut State University\nEvent Description: Leadership workshop session by Chris Collins\nTheme: Level Up Your Leadership\nStart Date: 2026-04-23\nEnd Date: 2026-04-23\nStart Time: 3:00 PM\nEnd Time: 5:00 PM\nCity/State: New Haven\, CT\nAudience: College\nNumber attending: 50
URL:https://coolspeak.com/event/spring-2026-scsu-gear-up-presentation-with-chris-collins/
CATEGORIES:Event
END:VEVENT
END:VCALENDAR