BEGIN:VCALENDAR
VERSION:2.0
PRODID:-//CoolSpeak - ECPv6.15.18//NONSGML v1.0//EN
CALSCALE:GREGORIAN
METHOD:PUBLISH
X-ORIGINAL-URL:https://coolspeak.com
X-WR-CALDESC:Events for CoolSpeak
REFRESH-INTERVAL;VALUE=DURATION:PT1H
X-Robots-Tag:noindex
X-PUBLISHED-TTL:PT1H
BEGIN:VTIMEZONE
TZID:America/New_York
BEGIN:DAYLIGHT
TZOFFSETFROM:-0500
TZOFFSETTO:-0400
TZNAME:EDT
DTSTART:20250309T070000
END:DAYLIGHT
BEGIN:STANDARD
TZOFFSETFROM:-0400
TZOFFSETTO:-0500
TZNAME:EST
DTSTART:20251102T060000
END:STANDARD
BEGIN:DAYLIGHT
TZOFFSETFROM:-0500
TZOFFSETTO:-0400
TZNAME:EDT
DTSTART:20260308T070000
END:DAYLIGHT
BEGIN:STANDARD
TZOFFSETFROM:-0400
TZOFFSETTO:-0500
TZNAME:EST
DTSTART:20261101T060000
END:STANDARD
BEGIN:DAYLIGHT
TZOFFSETFROM:-0500
TZOFFSETTO:-0400
TZNAME:EDT
DTSTART:20270314T070000
END:DAYLIGHT
BEGIN:STANDARD
TZOFFSETFROM:-0400
TZOFFSETTO:-0500
TZNAME:EST
DTSTART:20271107T060000
END:STANDARD
END:VTIMEZONE
BEGIN:VEVENT
DTSTART;VALUE=DATE:20260424
DTEND;VALUE=DATE:20260425
DTSTAMP:20260421T102226
CREATED:20260217T231852Z
LAST-MODIFIED:20260421T141627Z
UID:10002227-1776988800-1777075199@coolspeak.com
SUMMARY:GEAR UP Southern West Virginia Financial Literacy Programming.
DESCRIPTION:Speaker: MJ Bridges\nEvent Title: GEAR UP Southern West Virginia Financial Literacy Programming.\nClient Program/Organization: Concord University\nEvent Description: MJ Bridges will provide Financial Literacy Classroom Takeovers for 10th Grade GEAR UP Students and a Family Evening Event. .\nTheme: GEAR UP/Financial Literacy/Education/Family Support.\nStart Date: 2026-04-24\nEnd Date: 2026-04-24\nStart Time: 8:00 AM\nEnd Time: 8:00 PM\nCity/State: Bluefield\, WV\nAudience: High School\nNumber attending: 2400
URL:https://coolspeak.com/event/gear-up-southern-west-virginia-financial-literacy-programming-4/
CATEGORIES:Event
END:VEVENT
BEGIN:VEVENT
DTSTART;TZID=America/New_York:20260424T110000
DTEND;TZID=America/New_York:20260424T140000
DTSTAMP:20260421T102226
CREATED:20260401T193153Z
LAST-MODIFIED:20260421T141627Z
UID:10002278-1777028400-1777039200@coolspeak.com
SUMMARY:East High School Presentation Day.
DESCRIPTION:Speaker: Carlos Ojeda Jr.\nEvent Title: East High School Presentation Day.\nClient Program/Organization: West Chester Area School District\nEvent Description: Carlos Ojeda Jr. will provide a Keynote Presentation and Breakout Sessions for ESL Middle and High School Students.\nTheme: ELL/Education/Motivation/Self Improvement.\nStart Date: 2026-04-24\nEnd Date: 2026-04-24\nStart Time: 11:00 AM\nEnd Time: 2:00 PM\nCity/State: West Chester\, PA\nAudience: High School\nNumber attending: 100
URL:https://coolspeak.com/event/east-high-school-presentation-day/
CATEGORIES:Event
END:VEVENT
END:VCALENDAR