BEGIN:VCALENDAR
VERSION:2.0
PRODID:-//CoolSpeak - ECPv6.15.18//NONSGML v1.0//EN
CALSCALE:GREGORIAN
METHOD:PUBLISH
X-WR-CALNAME:CoolSpeak
X-ORIGINAL-URL:https://coolspeak.com
X-WR-CALDESC:Events for CoolSpeak
REFRESH-INTERVAL;VALUE=DURATION:PT1H
X-Robots-Tag:noindex
X-PUBLISHED-TTL:PT1H
BEGIN:VTIMEZONE
TZID:America/New_York
BEGIN:DAYLIGHT
TZOFFSETFROM:-0500
TZOFFSETTO:-0400
TZNAME:EDT
DTSTART:20250309T070000
END:DAYLIGHT
BEGIN:STANDARD
TZOFFSETFROM:-0400
TZOFFSETTO:-0500
TZNAME:EST
DTSTART:20251102T060000
END:STANDARD
BEGIN:DAYLIGHT
TZOFFSETFROM:-0500
TZOFFSETTO:-0400
TZNAME:EDT
DTSTART:20260308T070000
END:DAYLIGHT
BEGIN:STANDARD
TZOFFSETFROM:-0400
TZOFFSETTO:-0500
TZNAME:EST
DTSTART:20261101T060000
END:STANDARD
BEGIN:DAYLIGHT
TZOFFSETFROM:-0500
TZOFFSETTO:-0400
TZNAME:EDT
DTSTART:20270314T070000
END:DAYLIGHT
BEGIN:STANDARD
TZOFFSETFROM:-0400
TZOFFSETTO:-0500
TZNAME:EST
DTSTART:20271107T060000
END:STANDARD
END:VTIMEZONE
BEGIN:VEVENT
DTSTART;TZID=America/New_York:20260429T070000
DTEND;TZID=America/New_York:20260429T143000
DTSTAMP:20260421T101909
CREATED:20260401T183119Z
LAST-MODIFIED:20260421T141630Z
UID:10002276-1777446000-1777473000@coolspeak.com
SUMMARY:Spring UT Austin R2 Port Arthur ISD Classroom Takeover
DESCRIPTION:Speaker: Marley Lizama and Joaquin Zihuatanejo \nEvent Title: Spring UT Austin R2 Port Arthur ISD Classroom Takeover\nClient Program/Organization: University of Texas at Austin\nEvent Description: Classroom Takeover\nTheme: Poetry\nStart Date: 2026-04-29\nEnd Date: 2026-04-30\nStart Time: 7:00 AM\nEnd Time: 8:00 PM\nCity/State: Port Arthur\, TX\nAudience: High School\nNumber attending: 320
URL:https://coolspeak.com/event/spring-ut-austin-r2-port-arthur-isd-classroom-takeover/
LOCATION:Port Arthur\, TX\, USA
CATEGORIES:Event
END:VEVENT
BEGIN:VEVENT
DTSTART;TZID=America/New_York:20260429T093000
DTEND;TZID=America/New_York:20260429T130000
DTSTAMP:20260421T101909
CREATED:20260212T162114Z
LAST-MODIFIED:20260225T203406Z
UID:10002206-1777455000-1777467600@coolspeak.com
SUMMARY:2026 Hampton City Schools Conference
DESCRIPTION:
URL:https://coolspeak.com/event/2026-hampton-city-schools-conference/
LOCATION:Hampton\, VA\, USA
CATEGORIES:Event
END:VEVENT
BEGIN:VEVENT
DTSTART;TZID=America/New_York:20260429T093000
DTEND;TZID=America/New_York:20260429T140000
DTSTAMP:20260421T101909
CREATED:20260225T223420Z
LAST-MODIFIED:20260421T141631Z
UID:10002236-1777455000-1777471200@coolspeak.com
SUMMARY:2026 Hampton City Schools Conference
DESCRIPTION:Speaker: Chris Collins\, Derek Felton\, Griselda Rodriguez\, TaLisa Ramos\, Timon Gurung\, Sam Brown\, Tim Stafford\, Crystal Aryitey\, Malanea Heaven\, Derek Felton\, Lilyan Prado Carrillo\, Jose Alexis Mejia\, Joshua Easter\, Kenny Glenn\,  and DJ Serrano\nEvent Title: 2026 Hampton City Schools Senior Conference\nClient Program/Organization: Hampton City Schools\nEvent Description: CoolSpeak Team will provide Keynote Presentations and Breakout Sessions for Hampton City Schools Seniors.\nTheme: Senior Conference\nStart Date: 2026-04-29\nEnd Date: 2026-04-29\nStart Time: 9:30 AM\nEnd Time: 2:00 PM\nCity/State: Hampton\, VA\nAudience: High School\nNumber attending: 1500
URL:https://coolspeak.com/event/2026-hampton-city-schools-conference-2/
LOCATION:Hampton\, VA\, USA
CATEGORIES:Event
END:VEVENT
BEGIN:VEVENT
DTSTART;TZID=America/New_York:20260429T193000
DTEND;TZID=America/New_York:20260429T203000
DTSTAMP:20260421T101909
CREATED:20260123T023346Z
LAST-MODIFIED:20260421T141657Z
UID:10002157-1777491000-1777494600@coolspeak.com
SUMMARY:Morehouse Trio Financial Literacy Series with MJ Bridges
DESCRIPTION:Speaker: Melvin Bridges Jr.\nEvent Title: Spring 2026 Morehouse College ETS Financial Literacy with MJ Bridges\nClient Program/Organization: Morehouse College\nEvent Description: Financial Literacy Series with MJ Bridges\nTheme: Financial Literacy\nStart Date: 2026-01-24\nEnd Date: 2026-04-29\nStart Time: 6:30 PM\nEnd Time: 7:30 PM\nCity/State: Atlanta\, GA\nAudience: College\nNumber attending: 60
URL:https://coolspeak.com/event/morehouse-trio-financial-literacy-series-with-mj-bridges-6/
CATEGORIES:Event
END:VEVENT
END:VCALENDAR