BEGIN:VCALENDAR
VERSION:2.0
PRODID:-//CoolSpeak - ECPv6.15.18//NONSGML v1.0//EN
CALSCALE:GREGORIAN
METHOD:PUBLISH
X-WR-CALNAME:CoolSpeak
X-ORIGINAL-URL:https://coolspeak.com
X-WR-CALDESC:Events for CoolSpeak
REFRESH-INTERVAL;VALUE=DURATION:PT1H
X-Robots-Tag:noindex
X-PUBLISHED-TTL:PT1H
BEGIN:VTIMEZONE
TZID:America/New_York
BEGIN:DAYLIGHT
TZOFFSETFROM:-0500
TZOFFSETTO:-0400
TZNAME:EDT
DTSTART:20250309T070000
END:DAYLIGHT
BEGIN:STANDARD
TZOFFSETFROM:-0400
TZOFFSETTO:-0500
TZNAME:EST
DTSTART:20251102T060000
END:STANDARD
BEGIN:DAYLIGHT
TZOFFSETFROM:-0500
TZOFFSETTO:-0400
TZNAME:EDT
DTSTART:20260308T070000
END:DAYLIGHT
BEGIN:STANDARD
TZOFFSETFROM:-0400
TZOFFSETTO:-0500
TZNAME:EST
DTSTART:20261101T060000
END:STANDARD
BEGIN:DAYLIGHT
TZOFFSETFROM:-0500
TZOFFSETTO:-0400
TZNAME:EDT
DTSTART:20270314T070000
END:DAYLIGHT
BEGIN:STANDARD
TZOFFSETFROM:-0400
TZOFFSETTO:-0500
TZNAME:EST
DTSTART:20271107T060000
END:STANDARD
END:VTIMEZONE
BEGIN:VEVENT
DTSTART;TZID=America/New_York:20260430T070000
DTEND;TZID=America/New_York:20260430T200000
DTSTAMP:20260421T101932
CREATED:20260401T183119Z
LAST-MODIFIED:20260421T141658Z
UID:10002277-1777532400-1777579200@coolspeak.com
SUMMARY:Spring UT Austin R2 Port Arthur ISD Classroom Takeover
DESCRIPTION:Speaker: Marley Lizama and Natasha Carrizosa\nEvent Title: Spring UT Austin R2 Port Arthur ISD Classroom Takeover\nClient Program/Organization: University of Texas at Austin\nEvent Description: Classroom Takeover\nTheme: Poetry\nStart Date: 2026-04-29\nEnd Date: 2026-04-30\nStart Time: 7:00 AM\nEnd Time: 8:00 PM\nCity/State: Port Arthur\, TX\nAudience: High School\nNumber attending: 320
URL:https://coolspeak.com/event/spring-ut-austin-r2-port-arthur-isd-classroom-takeover-2/
LOCATION:Port Arthur\, TX\, USA
CATEGORIES:Event
END:VEVENT
BEGIN:VEVENT
DTSTART;TZID=America/New_York:20260430T160000
DTEND;TZID=America/New_York:20260430T180000
DTSTAMP:20260421T101932
CREATED:20260407T213214Z
LAST-MODIFIED:20260421T141657Z
UID:10002287-1777564800-1777572000@coolspeak.com
SUMMARY:2026 SCSU GEAR UP Presentation with MJ Bridges
DESCRIPTION:Web Calendar Event Information\nSpeaker: Melvin Bridges Jr.\nEvent Title: Spring 2026 SCSU GEAR UP Presentation with MJ Bridges\nClient Program/Organization: Southern Connecticut State University\nEvent Description: Real Money/Financial Literacy workshop session by MJ Bridges\nTheme: Personal Budgeting\nStart Date: 2026-04-30\nEnd Date: 2026-04-30\nStart Time: 3:00 PM\nEnd Time: 5:00 PM\nCity/State: New Haven\, CT\nAudience: College\nNumber attending: 50
URL:https://coolspeak.com/event/2026-scsu-gear-up-presentation-with-mj-bridges/
CATEGORIES:Event
END:VEVENT
END:VCALENDAR