BEGIN:VCALENDAR
VERSION:2.0
PRODID:-//CoolSpeak - ECPv6.15.18//NONSGML v1.0//EN
CALSCALE:GREGORIAN
METHOD:PUBLISH
X-ORIGINAL-URL:https://coolspeak.com
X-WR-CALDESC:Events for CoolSpeak
REFRESH-INTERVAL;VALUE=DURATION:PT1H
X-Robots-Tag:noindex
X-PUBLISHED-TTL:PT1H
BEGIN:VTIMEZONE
TZID:America/New_York
BEGIN:DAYLIGHT
TZOFFSETFROM:-0500
TZOFFSETTO:-0400
TZNAME:EDT
DTSTART:20250309T070000
END:DAYLIGHT
BEGIN:STANDARD
TZOFFSETFROM:-0400
TZOFFSETTO:-0500
TZNAME:EST
DTSTART:20251102T060000
END:STANDARD
BEGIN:DAYLIGHT
TZOFFSETFROM:-0500
TZOFFSETTO:-0400
TZNAME:EDT
DTSTART:20260308T070000
END:DAYLIGHT
BEGIN:STANDARD
TZOFFSETFROM:-0400
TZOFFSETTO:-0500
TZNAME:EST
DTSTART:20261101T060000
END:STANDARD
BEGIN:DAYLIGHT
TZOFFSETFROM:-0500
TZOFFSETTO:-0400
TZNAME:EDT
DTSTART:20270314T070000
END:DAYLIGHT
BEGIN:STANDARD
TZOFFSETFROM:-0400
TZOFFSETTO:-0500
TZNAME:EST
DTSTART:20271107T060000
END:STANDARD
END:VTIMEZONE
BEGIN:VEVENT
DTSTART;VALUE=DATE:20260609
DTEND;VALUE=DATE:20260611
DTSTAMP:20260421T130148
CREATED:20260314T151940Z
LAST-MODIFIED:20260421T170106Z
UID:10002263-1780963200-1781135999@coolspeak.com
SUMMARY:2026 Appalachian State University GEAR UP June Academic Innovation Conference with Joaquin Zihuatanejo and Chris Collins.
DESCRIPTION:Speaker: Multiple Speakers\nEvent Title: 2026 Appalachian State University GEAR UP June Academic Innovation Conference with Joaquin Zihuatanejo and Chris Collins.\nClient Program/Organization: Appalachian State University\nEvent Description: CoolSpeakers Chris Collins and Joaquin Zihuatanejo will provide Breakout Sessions for Students.\nTheme: Leadership/Self Expression/GEAR UP/Education\nStart Date: 2026-06-09\nEnd Date: 2026-06-10\nStart Time: 8:00 AM\nEnd Time: 3:00 PM\nCity/State: Boone\, NC\nAudience: High School\nNumber attending: 4000
URL:https://coolspeak.com/event/2026-appalachian-state-university-gear-up-june-academic-innovation-conference-with-joaquin-zihuatanejo-and-chris-collins/
CATEGORIES:Event
END:VEVENT
BEGIN:VEVENT
DTSTART;TZID=America/New_York:20260610T090000
DTEND;TZID=America/New_York:20260610T180000
DTSTAMP:20260421T130148
CREATED:20250611T222158Z
LAST-MODIFIED:20260421T170105Z
UID:10001897-1781082000-1781114400@coolspeak.com
SUMMARY:2026 CCRSM Leadership Summit
DESCRIPTION:Speaker:\n\nJoaquin Zihuatanejo\n\n\nEvent: \n\n2026 CCRSM Leadership Summit\n\n\nDescription: \n\nJoaquin will deliver his keynote to the professionals attending the 2026 CCRSM Leadership Summit\n\n\nDate:  \n\n6/10/2026\n\n\nPresentation Start Time:  \n\n9:00 AM\n\n\nAudience: \n\nProfessional\n\n\nNumber Attending: \n\n700
URL:https://coolspeak.com/event/2026-ccrsm-leadership-summit/
CATEGORIES:Event
END:VEVENT
END:VCALENDAR