BEGIN:VCALENDAR
VERSION:2.0
PRODID:-//CoolSpeak - ECPv6.15.18//NONSGML v1.0//EN
CALSCALE:GREGORIAN
METHOD:PUBLISH
X-WR-CALNAME:CoolSpeak
X-ORIGINAL-URL:https://coolspeak.com
X-WR-CALDESC:Events for CoolSpeak
REFRESH-INTERVAL;VALUE=DURATION:PT1H
X-Robots-Tag:noindex
X-PUBLISHED-TTL:PT1H
BEGIN:VTIMEZONE
TZID:America/New_York
BEGIN:DAYLIGHT
TZOFFSETFROM:-0500
TZOFFSETTO:-0400
TZNAME:EDT
DTSTART:20250309T070000
END:DAYLIGHT
BEGIN:STANDARD
TZOFFSETFROM:-0400
TZOFFSETTO:-0500
TZNAME:EST
DTSTART:20251102T060000
END:STANDARD
BEGIN:DAYLIGHT
TZOFFSETFROM:-0500
TZOFFSETTO:-0400
TZNAME:EDT
DTSTART:20260308T070000
END:DAYLIGHT
BEGIN:STANDARD
TZOFFSETFROM:-0400
TZOFFSETTO:-0500
TZNAME:EST
DTSTART:20261101T060000
END:STANDARD
BEGIN:DAYLIGHT
TZOFFSETFROM:-0500
TZOFFSETTO:-0400
TZNAME:EDT
DTSTART:20270314T070000
END:DAYLIGHT
BEGIN:STANDARD
TZOFFSETFROM:-0400
TZOFFSETTO:-0500
TZNAME:EST
DTSTART:20271107T060000
END:STANDARD
END:VTIMEZONE
BEGIN:VEVENT
DTSTART;VALUE=DATE:20260616
DTEND;VALUE=DATE:20260620
DTSTAMP:20260421T125639
CREATED:20260314T131955Z
LAST-MODIFIED:20260421T164716Z
UID:10002261-1781568000-1781913599@coolspeak.com
SUMMARY:2026 GEARUP SWV Student Summer Bridge Program
DESCRIPTION:Speaker: Customized CoolProgram\nEvent Title: 2026 GEARUP SWV Student Summer Bridge Program\nClient Program/Organization: Concord University\nEvent Description: CoolSpeak will provide programming for a student retreat.\nTheme: GEAR UP/Leadership\nStart Date: 2026-06-16\nEnd Date: 2026-06-19\nStart Time: 1:00 PM\nEnd Time: 9:00 PM\nCity/State: Boone\, NC\nAudience: High School\nNumber attending: 100
URL:https://coolspeak.com/event/2026-gearup-swv-student-summer-bridge-program/
CATEGORIES:Event
END:VEVENT
END:VCALENDAR