BEGIN:VCALENDAR
VERSION:2.0
PRODID:-//CoolSpeak - ECPv6.15.18//NONSGML v1.0//EN
CALSCALE:GREGORIAN
METHOD:PUBLISH
X-WR-CALNAME:CoolSpeak
X-ORIGINAL-URL:https://coolspeak.com
X-WR-CALDESC:Events for CoolSpeak
REFRESH-INTERVAL;VALUE=DURATION:PT1H
X-Robots-Tag:noindex
X-PUBLISHED-TTL:PT1H
BEGIN:VTIMEZONE
TZID:America/New_York
BEGIN:DAYLIGHT
TZOFFSETFROM:-0500
TZOFFSETTO:-0400
TZNAME:EDT
DTSTART:20250309T070000
END:DAYLIGHT
BEGIN:STANDARD
TZOFFSETFROM:-0400
TZOFFSETTO:-0500
TZNAME:EST
DTSTART:20251102T060000
END:STANDARD
BEGIN:DAYLIGHT
TZOFFSETFROM:-0500
TZOFFSETTO:-0400
TZNAME:EDT
DTSTART:20260308T070000
END:DAYLIGHT
BEGIN:STANDARD
TZOFFSETFROM:-0400
TZOFFSETTO:-0500
TZNAME:EST
DTSTART:20261101T060000
END:STANDARD
BEGIN:DAYLIGHT
TZOFFSETFROM:-0500
TZOFFSETTO:-0400
TZNAME:EDT
DTSTART:20270314T070000
END:DAYLIGHT
BEGIN:STANDARD
TZOFFSETFROM:-0400
TZOFFSETTO:-0500
TZNAME:EST
DTSTART:20271107T060000
END:STANDARD
END:VTIMEZONE
BEGIN:VEVENT
DTSTART;VALUE=DATE:20260622
DTEND;VALUE=DATE:20260628
DTSTAMP:20260421T125853
CREATED:20260313T180410Z
LAST-MODIFIED:20260421T164718Z
UID:10002258-1782086400-1782604799@coolspeak.com
SUMMARY:Eastern Michigan University Summer Programming with Samuel Brown.
DESCRIPTION:Speaker: Samuel Brown\nEvent Title: Eastern Michigan University Summer Programming.\nClient Program/Organization: Eastern Michigan University\nEvent Description: Sam Brown will provide Keynote Presentations\, Small Group Breakout Sessions for Students.\nTheme: GEAR UP/Post Secondary Readiness/Education/leadership.\nStart Date: 2026-06-22\nEnd Date: 2026-06-27\nStart Time: 8:00 AM\nEnd Time: 8:00 PM\nCity/State: Ypsilanti\, MI\nAudience: High School\nNumber attending: 45
URL:https://coolspeak.com/event/eastern-michigan-university-summer-programming-with-samuel-brown/
CATEGORIES:Event
END:VEVENT
BEGIN:VEVENT
DTSTART;VALUE=DATE:20260626
DTEND;VALUE=DATE:20260628
DTSTAMP:20260421T125853
CREATED:20260314T142108Z
LAST-MODIFIED:20260421T164718Z
UID:10002262-1782432000-1782604799@coolspeak.com
SUMMARY:2026 West Virginia GEAR UP Summer Program
DESCRIPTION:Speaker: Customized CoolProgram\nEvent Title: 2026 West Virginia GEAR UP Summer Program\nClient Program/Organization: West Virginia Higher Education Policy Commission\nEvent Description: CoolSpeak will provide a Two Day Summer Camp for GEAR UP High School Students.\nTheme: Focus: Advocacy/Leadership/Accountability/Goal Setting/Decision Making Skills.\nStart Date: 2026-06-26\nEnd Date: 2026-06-27\nStart Time: 9:00 AM\nEnd Time: 8:00 PM\nCity/State: Glenville\, WV\nAudience: High School\nNumber attending: 200
URL:https://coolspeak.com/event/2026-west-virginia-gear-up-summer-program/
CATEGORIES:Event
END:VEVENT
BEGIN:VEVENT
DTSTART;TZID=America/New_York:20260627T080000
DTEND;TZID=America/New_York:20260627T200000
DTSTAMP:20260421T125853
CREATED:20260119T190327Z
LAST-MODIFIED:20260421T164743Z
UID:10002133-1782547200-1782590400@coolspeak.com
SUMMARY:2026 Association of Washington School Principals Summer Conference
DESCRIPTION:Speakers:\n\nCarlos Ojeda Jr\nChris Collins\n\n\nEvent: \n\n2026 Association of Washington School Principals Summer Conference\n\n\nDescription: \n\nWelcome leaders from every corner of Washington to showcase that our work is strongest when principals\, assistant principals\, superintendents\, and central office leaders move forward as one\n\n\nTheme: \n\nBetter Together: Leading with Purpose\, Connecting with Heart\n\n\nDate:  \n\n6/27/2026 – 6/30/2026\n\n\nPresentation Start Time:  \n\n8:00 AM\n\n\nWorkshop Start Time: \n\n9:00 AM\n\n\nEvent Address: \n\nSpokane\, WA\n\n\nAudience: \n\nProfessional\n\n\nNumber Attending: \n\n800
URL:https://coolspeak.com/event/2026-association-of-washington-school-principals-summer-conference/
CATEGORIES:Event
END:VEVENT
END:VCALENDAR