BEGIN:VCALENDAR
VERSION:2.0
PRODID:-//CoolSpeak - ECPv6.15.18//NONSGML v1.0//EN
CALSCALE:GREGORIAN
METHOD:PUBLISH
X-WR-CALNAME:CoolSpeak
X-ORIGINAL-URL:https://coolspeak.com
X-WR-CALDESC:Events for CoolSpeak
REFRESH-INTERVAL;VALUE=DURATION:PT1H
X-Robots-Tag:noindex
X-PUBLISHED-TTL:PT1H
BEGIN:VTIMEZONE
TZID:America/New_York
BEGIN:DAYLIGHT
TZOFFSETFROM:-0500
TZOFFSETTO:-0400
TZNAME:EDT
DTSTART:20210314T070000
END:DAYLIGHT
BEGIN:STANDARD
TZOFFSETFROM:-0400
TZOFFSETTO:-0500
TZNAME:EST
DTSTART:20211107T060000
END:STANDARD
BEGIN:DAYLIGHT
TZOFFSETFROM:-0500
TZOFFSETTO:-0400
TZNAME:EDT
DTSTART:20220313T070000
END:DAYLIGHT
BEGIN:STANDARD
TZOFFSETFROM:-0400
TZOFFSETTO:-0500
TZNAME:EST
DTSTART:20221106T060000
END:STANDARD
BEGIN:DAYLIGHT
TZOFFSETFROM:-0500
TZOFFSETTO:-0400
TZNAME:EDT
DTSTART:20230312T070000
END:DAYLIGHT
BEGIN:STANDARD
TZOFFSETFROM:-0400
TZOFFSETTO:-0500
TZNAME:EST
DTSTART:20231105T060000
END:STANDARD
END:VTIMEZONE
BEGIN:VEVENT
DTSTART;TZID=America/New_York:20220415T190000
DTEND;TZID=America/New_York:20220415T213000
DTSTAMP:20260423T132403
CREATED:20220302T140323Z
LAST-MODIFIED:20220302T140323Z
UID:10000277-1650049200-1650058200@coolspeak.com
SUMMARY:Western Michigan University
DESCRIPTION:Title:Western Michigan University \nDescription:Keynote Speech provided by Ernesto Mejia \nTheme:Latino Student Alliance \nDate:04/15/2022 \nTime:7:00pm – 9:30pm EST \nLocation:Kalamazoo\, MI
URL:https://coolspeak.com/event/western-michigan-university/
END:VEVENT
BEGIN:VEVENT
DTSTART;TZID=America/New_York:20220415T190000
DTEND;TZID=America/New_York:20220415T213000
DTSTAMP:20260423T132403
CREATED:20220302T140323Z
LAST-MODIFIED:20220302T140323Z
UID:10000282-1650049200-1650058200@coolspeak.com
SUMMARY:Western Michigan University
DESCRIPTION:Title:Western Michigan University \nDescription:Keynote Speech provided by Ernesto Mejia \nTheme:Latino Student Alliance \nDate:04/15/2022 \nTime:7:00pm – 9:30pm EST \nLocation:Kalamazoo\, MI
URL:https://coolspeak.com/event/western-michigan-university-2/
END:VEVENT
BEGIN:VEVENT
DTSTART;TZID=America/New_York:20220414T180000
DTEND;TZID=America/New_York:20220414T193000
DTSTAMP:20260423T132403
CREATED:20220314T204435Z
LAST-MODIFIED:20220314T204435Z
UID:10000293-1649959200-1649964600@coolspeak.com
SUMMARY:Student Motivational Virtual Speakers' Series
DESCRIPTION:Title: Student Motivational Virtual Speakers’ Series \nDescription:Virtual Motivational Presentation with Joaquin Zihuatanejo. \nTheme: Motivational Speakers’ Series \nDate: 04/14/2022 \nTime:6:00pm – 7:30pm ESTLocation:Virtual
URL:https://coolspeak.com/event/student-motivational-virtual-speakers-series/
END:VEVENT
BEGIN:VEVENT
DTSTART;TZID=America/New_York:20220414T180000
DTEND;TZID=America/New_York:20220414T193000
DTSTAMP:20260423T132403
CREATED:20220314T204435Z
LAST-MODIFIED:20220314T204435Z
UID:10000294-1649959200-1649964600@coolspeak.com
SUMMARY:Student Motivational Virtual Speakers' Series
DESCRIPTION:Title: Student Motivational Virtual Speakers’ Series \nDescription:Virtual Motivational Presentation with Joaquin Zihuatanejo. \nTheme: Motivational Speakers’ Series \nDate: 04/14/2022 \nTime:6:00pm – 7:30pm ESTLocation:Virtual
URL:https://coolspeak.com/event/student-motivational-virtual-speakers-series-2/
END:VEVENT
BEGIN:VEVENT
DTSTART;TZID=America/New_York:20220414T133000
DTEND;TZID=America/New_York:20220414T143000
DTSTAMP:20260423T132403
CREATED:20220411T211308Z
LAST-MODIFIED:20220411T211308Z
UID:10000327-1649943000-1649946600@coolspeak.com
SUMMARY:Prospanica Houston Chapter with Joaquin Zihuatanejo
DESCRIPTION:Title:Scholarship Talk provided by Joaquin Zihuatanejo. \nDescription:Scholarship Informational Session for Undergraduate students nationwide led by the Prospanica Houston Chapter. \nTheme:Scholarship Information \nDate:04/14/2022 \nTime: 12:30pm – 1:30pm CST \nLocation: Virtual
URL:https://coolspeak.com/event/prospanica-houston-chapter-with-joaquin-zihuatanejo-2/
END:VEVENT
BEGIN:VEVENT
DTSTART;TZID=America/New_York:20220414T133000
DTEND;TZID=America/New_York:20220414T143000
DTSTAMP:20260423T132403
CREATED:20220411T211308Z
LAST-MODIFIED:20220411T211308Z
UID:10000326-1649943000-1649946600@coolspeak.com
SUMMARY:Prospanica Houston Chapter with Joaquin Zihuatanejo
DESCRIPTION:Title:Scholarship Talk provided by Joaquin Zihuatanejo. \nDescription:Scholarship Informational Session for Undergraduate students nationwide led by the Prospanica Houston Chapter. \nTheme:Scholarship Information \nDate:04/14/2022 \nTime: 12:30pm – 1:30pm CST \nLocation: Virtual
URL:https://coolspeak.com/event/prospanica-houston-chapter-with-joaquin-zihuatanejo/
END:VEVENT
BEGIN:VEVENT
DTSTART;TZID=America/New_York:20220414T090000
DTEND;TZID=America/New_York:20220414T150000
DTSTAMP:20260423T132403
CREATED:20220411T163235Z
LAST-MODIFIED:20220411T163235Z
UID:10000316-1649926800-1649948400@coolspeak.com
SUMMARY:2022 Grand Rapids Community College GEAR UP with Chris Collins
DESCRIPTION:Title: On my Pathway with Purpose and Passion with Chris Collins. \nDescription: Chris Collins will provide a keynote presentation and 3 breakout sessions. \nTheme:Purpose\, Passion and finding your way. \nDate: 04/14/2022 \nTime:9:00am – 3:00pm EST \nLocation:Grand Rapids\, MI
URL:https://coolspeak.com/event/2022-grand-rapids-community-college-gear-up-with-chris-collins/
END:VEVENT
BEGIN:VEVENT
DTSTART;TZID=America/New_York:20220414T090000
DTEND;TZID=America/New_York:20220414T150000
DTSTAMP:20260423T132403
CREATED:20220411T163235Z
LAST-MODIFIED:20220411T163235Z
UID:10000317-1649926800-1649948400@coolspeak.com
SUMMARY:2022 Grand Rapids Community College GEAR UP with Chris Collins
DESCRIPTION:Title: On my Pathway with Purpose and Passion with Chris Collins. \nDescription: Chris Collins will provide a keynote presentation and 3 breakout sessions. \nTheme:Purpose\, Passion and finding your way. \nDate: 04/14/2022 \nTime:9:00am – 3:00pm EST \nLocation:Grand Rapids\, MI
URL:https://coolspeak.com/event/2022-grand-rapids-community-college-gear-up-with-chris-collins-2/
END:VEVENT
BEGIN:VEVENT
DTSTART;TZID=America/New_York:20220413T143000
DTEND;TZID=America/New_York:20220413T153000
DTSTAMP:20260423T132403
CREATED:20220411T211308Z
LAST-MODIFIED:20220411T211308Z
UID:10000329-1649860200-1649863800@coolspeak.com
SUMMARY:Kansas City Kansas GEAR UP Virtual Poetry/Art Day
DESCRIPTION:Title:Kansas City Kansas GEAR UP Virtual Poetry/Art Day \nDescription:Joaquin Zihuatanejo will provide a virtual presentation \nTheme: Poetry/Art Day \nDate: 04/13/2022 \nTime:1:30pm – 2:30pm CST \nLocation: Virtual
URL:https://coolspeak.com/event/kansas-city-kansas-gear-up-virtual-poetry-art-day-2/
END:VEVENT
BEGIN:VEVENT
DTSTART;TZID=America/New_York:20220413T143000
DTEND;TZID=America/New_York:20220413T153000
DTSTAMP:20260423T132403
CREATED:20220411T211308Z
LAST-MODIFIED:20220411T211308Z
UID:10000325-1649860200-1649863800@coolspeak.com
SUMMARY:Kansas City Kansas GEAR UP Virtual Poetry/Art Day
DESCRIPTION:Title:Kansas City Kansas GEAR UP Virtual Poetry/Art Day \nDescription:Joaquin Zihuatanejo will provide a virtual presentation \nTheme: Poetry/Art Day \nDate: 04/13/2022 \nTime:1:30pm – 2:30pm CST \nLocation: Virtual
URL:https://coolspeak.com/event/kansas-city-kansas-gear-up-virtual-poetry-art-day/
END:VEVENT
BEGIN:VEVENT
DTSTART;TZID=America/New_York:20220413T090000
DTEND;TZID=America/New_York:20220413T100000
DTSTAMP:20260423T132403
CREATED:20220411T211308Z
LAST-MODIFIED:20220411T211308Z
UID:10000328-1649840400-1649844000@coolspeak.com
SUMMARY:GEAR UP Dougherty Monroe High School
DESCRIPTION:Title:GEAR UP Dougherty Monroe High School \nDescription:In-Person Presentation provided by Lamarr Womble. \nTheme:Passion/Leadership/Education \nDate:04/13/2022 \nTime:9:00am – 10:00am EST \nLocation:Albany\, GA
URL:https://coolspeak.com/event/gear-up-dougherty-monroe-high-school-2/
END:VEVENT
BEGIN:VEVENT
DTSTART;TZID=America/New_York:20220413T090000
DTEND;TZID=America/New_York:20220413T100000
DTSTAMP:20260423T132403
CREATED:20220411T211308Z
LAST-MODIFIED:20220411T211308Z
UID:10000324-1649840400-1649844000@coolspeak.com
SUMMARY:GEAR UP Dougherty Monroe High School
DESCRIPTION:Title:GEAR UP Dougherty Monroe High School \nDescription:In-Person Presentation provided by Lamarr Womble. \nTheme:Passion/Leadership/Education \nDate:04/13/2022 \nTime:9:00am – 10:00am EST \nLocation:Albany\, GA
URL:https://coolspeak.com/event/gear-up-dougherty-monroe-high-school/
END:VEVENT
BEGIN:VEVENT
DTSTART;TZID=America/New_York:20220411T170000
DTEND;TZID=America/New_York:20220411T190000
DTSTAMP:20260423T132403
CREATED:20210930T225828Z
LAST-MODIFIED:20210930T225828Z
UID:10000207-1649696400-1649703600@coolspeak.com
SUMMARY:2021 Grand Island GEAR UP LatinX Male/Female Mentoring Session
DESCRIPTION:Title:2021 Grand Island GEAR UP LatinX Male/Female Mentoring Session \nDescription: Workshop Series To Help Empower Young Males & Females \nDate: 04/11/2022 \nTime:4:00pm – 6:00pm CST \nLocation:Grand Island\, NE
URL:https://coolspeak.com/event/2021-grand-island-gear-up-latinx-male-female-mentoring-session-7-2/
END:VEVENT
BEGIN:VEVENT
DTSTART;TZID=America/New_York:20220411T170000
DTEND;TZID=America/New_York:20220411T190000
DTSTAMP:20260423T132403
CREATED:20210930T225828Z
LAST-MODIFIED:20210930T225828Z
UID:10000195-1649696400-1649703600@coolspeak.com
SUMMARY:2021 Grand Island GEAR UP LatinX Male/Female Mentoring Session
DESCRIPTION:Title:2021 Grand Island GEAR UP LatinX Male/Female Mentoring Session \nDescription: Workshop Series To Help Empower Young Males & Females \nDate: 04/11/2022 \nTime:4:00pm – 6:00pm CST \nLocation:Grand Island\, NE
URL:https://coolspeak.com/event/2021-grand-island-gear-up-latinx-male-female-mentoring-session-7/
END:VEVENT
BEGIN:VEVENT
DTSTART;TZID=America/New_York:20220409T120000
DTEND;TZID=America/New_York:20220409T190000
DTSTAMP:20260423T132403
CREATED:20220330T214311Z
LAST-MODIFIED:20220330T214311Z
UID:10000310-1649505600-1649530800@coolspeak.com
SUMMARY:2022 CA Self Love CAMP
DESCRIPTION:Title:2022 CA CAMP Statewide Student Leadership Conference \nDescription:CoolSpeak will provide virtual presentations for CAMP students \nTheme:Self Love\, Community & Leadership in a time of crisis. \nDate: 04/08/2022 – 04/09/2022 \nTime:9:00am – 4:00pm PST \nLocation:Virtual
URL:https://coolspeak.com/event/2022-ca-self-love-camp-2-2/
END:VEVENT
BEGIN:VEVENT
DTSTART;TZID=America/New_York:20220409T120000
DTEND;TZID=America/New_York:20220409T190000
DTSTAMP:20260423T132403
CREATED:20220330T214311Z
LAST-MODIFIED:20220330T214311Z
UID:10000303-1649505600-1649530800@coolspeak.com
SUMMARY:2022 CA Self Love CAMP
DESCRIPTION:Title:2022 CA CAMP Statewide Student Leadership Conference \nDescription:CoolSpeak will provide virtual presentations for CAMP students \nTheme:Self Love\, Community & Leadership in a time of crisis. \nDate: 04/08/2022 – 04/09/2022 \nTime:9:00am – 4:00pm PST \nLocation:Virtual
URL:https://coolspeak.com/event/2022-ca-self-love-camp-2/
END:VEVENT
BEGIN:VEVENT
DTSTART;TZID=America/New_York:20220408T200000
DTEND;TZID=America/New_York:20220408T210000
DTSTAMP:20260423T132403
CREATED:20220310T185926Z
LAST-MODIFIED:20220310T185926Z
UID:10000289-1649448000-1649451600@coolspeak.com
SUMMARY:UCLA Latinx Admit Weekend
DESCRIPTION:Title:UCLA Latinx Admit Weekend \nDescription:Keynote Virtual Presentation With Natasha Carrizosa \nTheme: Opening Keynote \nDate:04/08/2022 \nTime:5:00pm – 6:00pm PST \nLocation:Virtual
URL:https://coolspeak.com/event/ucla-latinx-admit-weekend-2/
END:VEVENT
BEGIN:VEVENT
DTSTART;TZID=America/New_York:20220408T200000
DTEND;TZID=America/New_York:20220408T210000
DTSTAMP:20260423T132403
CREATED:20220310T185926Z
LAST-MODIFIED:20220310T185926Z
UID:10000291-1649448000-1649451600@coolspeak.com
SUMMARY:UCLA Latinx Admit Weekend
DESCRIPTION:Title:UCLA Latinx Admit Weekend \nDescription:Keynote Virtual Presentation With Natasha Carrizosa \nTheme: Opening Keynote \nDate:04/08/2022 \nTime:5:00pm – 6:00pm PST \nLocation:Virtual
URL:https://coolspeak.com/event/ucla-latinx-admit-weekend-2-2/
END:VEVENT
BEGIN:VEVENT
DTSTART;TZID=America/New_York:20220408T200000
DTEND;TZID=America/New_York:20220408T210000
DTSTAMP:20260423T132403
CREATED:20220308T154301Z
LAST-MODIFIED:20220308T154301Z
UID:10000288-1649448000-1649451600@coolspeak.com
SUMMARY:UCLA Latinx Admit Weekend
DESCRIPTION:Title:UCLA Latinx Admit Weekend \nDescription:Keynote Virtual Presentation With Natasha Carrizosa \nTheme:Motivanal  \nDate:04/08/2022 \nTime:5:00pm – 6:00pm PST \nLocation:Virtual
URL:https://coolspeak.com/event/ucla-latinx-admit-weekend/
END:VEVENT
BEGIN:VEVENT
DTSTART;TZID=America/New_York:20220408T200000
DTEND;TZID=America/New_York:20220408T210000
DTSTAMP:20260423T132403
CREATED:20220308T154301Z
LAST-MODIFIED:20220308T154301Z
UID:10000281-1649448000-1649451600@coolspeak.com
SUMMARY:UCLA Latinx Admit Weekend
DESCRIPTION:Title:UCLA Latinx Admit Weekend \nDescription:Keynote Virtual Presentation With Natasha Carrizosa \nTheme:Motivanal  \nDate:04/08/2022 \nTime:5:00pm – 6:00pm PST \nLocation:Virtual
URL:https://coolspeak.com/event/ucla-latinx-admit-weekend-3/
END:VEVENT
BEGIN:VEVENT
DTSTART;TZID=America/New_York:20220408T120000
DTEND;TZID=America/New_York:20220408T190000
DTSTAMP:20260423T132403
CREATED:20220330T214311Z
LAST-MODIFIED:20220330T214311Z
UID:10000308-1649419200-1649444400@coolspeak.com
SUMMARY:2022 CA Self Love CAMP
DESCRIPTION:Title:2022 CA CAMP Statewide Student Leadership Conference \nDescription:CoolSpeak will provide virtual presentations for CAMP students \nTheme:Self Love\, Community & Leadership in a time of crisis. \nDate: 04/08/2022 – 04/09/2022 \nTime:9:00am – 4:00pm PST \nLocation:Virtual
URL:https://coolspeak.com/event/2022-ca-self-love-camp/
END:VEVENT
BEGIN:VEVENT
DTSTART;TZID=America/New_York:20220408T120000
DTEND;TZID=America/New_York:20220408T190000
DTSTAMP:20260423T132403
CREATED:20220330T214311Z
LAST-MODIFIED:20220330T214311Z
UID:10000309-1649419200-1649444400@coolspeak.com
SUMMARY:2022 CA Self Love CAMP
DESCRIPTION:Title:2022 CA CAMP Statewide Student Leadership Conference \nDescription:CoolSpeak will provide virtual presentations for CAMP students \nTheme:Self Love\, Community & Leadership in a time of crisis. \nDate: 04/08/2022 – 04/09/2022 \nTime:9:00am – 4:00pm PST \nLocation:Virtual
URL:https://coolspeak.com/event/2022-ca-self-love-camp-3/
END:VEVENT
BEGIN:VEVENT
DTSTART;TZID=America/New_York:20220404T173000
DTEND;TZID=America/New_York:20220404T190000
DTSTAMP:20260423T132403
CREATED:20220302T140322Z
LAST-MODIFIED:20220302T140322Z
UID:10000276-1649093400-1649098800@coolspeak.com
SUMMARY:Columbia Basin College Virtual Follow Up with Ernesto Mejia
DESCRIPTION:Title: Columbia Basin College Virtual Follow Up with Ernesto Mejia \nDescription:Columbia Basin College CAMP Students. \nTheme:Leadership \nDate:04/04/2022 \nTime:2:30pm – 4:00pm PST \nLocation:Virtual
URL:https://coolspeak.com/event/columbia-basin-college-virtual-follow-up-with-ernesto-mejia-2/
END:VEVENT
BEGIN:VEVENT
DTSTART;TZID=America/New_York:20220404T173000
DTEND;TZID=America/New_York:20220404T190000
DTSTAMP:20260423T132403
CREATED:20220302T140322Z
LAST-MODIFIED:20220302T140322Z
UID:10000260-1649093400-1649098800@coolspeak.com
SUMMARY:Columbia Basin College Virtual Follow Up with Ernesto Mejia
DESCRIPTION:Title: Columbia Basin College Virtual Follow Up with Ernesto Mejia \nDescription:Columbia Basin College CAMP Students. \nTheme:Leadership \nDate:04/04/2022 \nTime:2:30pm – 4:00pm PST \nLocation:Virtual
URL:https://coolspeak.com/event/columbia-basin-college-virtual-follow-up-with-ernesto-mejia/
END:VEVENT
BEGIN:VEVENT
DTSTART;TZID=America/New_York:20220402T193000
DTEND;TZID=America/New_York:20220402T213000
DTSTAMP:20260423T132403
CREATED:20220302T140322Z
LAST-MODIFIED:20220302T140322Z
UID:10000275-1648927800-1648935000@coolspeak.com
SUMMARY:47TH Annual California Association for Bilingual Education (CABE) Conference.
DESCRIPTION:Title:47TH Annual California Association for Bilingual Education (CABE) Conference. \nDescription:Keynote Presentation provided by Natasha Carrizosa \nTheme:California Association for Bilingual Education \nDate:03/30/2022 – 04/02/2022 \nTime:4:30pm – 6:30pm PST \nLocation: Virtual
URL:https://coolspeak.com/event/47th-annual-california-association-for-bilingual-education-cabe-conference-4-2/
END:VEVENT
BEGIN:VEVENT
DTSTART;TZID=America/New_York:20220402T193000
DTEND;TZID=America/New_York:20220402T213000
DTSTAMP:20260423T132403
CREATED:20220302T140322Z
LAST-MODIFIED:20220302T140322Z
UID:10000258-1648927800-1648935000@coolspeak.com
SUMMARY:47TH Annual California Association for Bilingual Education (CABE) Conference.
DESCRIPTION:Title:47TH Annual California Association for Bilingual Education (CABE) Conference. \nDescription:Keynote Presentation provided by Natasha Carrizosa \nTheme:California Association for Bilingual Education \nDate:03/30/2022 – 04/02/2022 \nTime:4:30pm – 6:30pm PST \nLocation: Virtual
URL:https://coolspeak.com/event/47th-annual-california-association-for-bilingual-education-cabe-conference-4/
END:VEVENT
BEGIN:VEVENT
DTSTART;TZID=America/New_York:20220401T193000
DTEND;TZID=America/New_York:20220401T213000
DTSTAMP:20260423T132403
CREATED:20220302T140322Z
LAST-MODIFIED:20220302T140322Z
UID:10000257-1648841400-1648848600@coolspeak.com
SUMMARY:47TH Annual California Association for Bilingual Education (CABE) Conference.
DESCRIPTION:Title:47TH Annual California Association for Bilingual Education (CABE) Conference. \nDescription:Keynote Presentation provided by Natasha Carrizosa \nTheme:California Association for Bilingual Education \nDate:03/30/2022 – 04/02/2022 \nTime:4:30pm – 6:30pm PST \nLocation: Virtual
URL:https://coolspeak.com/event/47th-annual-california-association-for-bilingual-education-cabe-conference-3/
END:VEVENT
BEGIN:VEVENT
DTSTART;TZID=America/New_York:20220401T193000
DTEND;TZID=America/New_York:20220401T213000
DTSTAMP:20260423T132403
CREATED:20220302T140322Z
LAST-MODIFIED:20220302T140322Z
UID:10000267-1648841400-1648848600@coolspeak.com
SUMMARY:47TH Annual California Association for Bilingual Education (CABE) Conference.
DESCRIPTION:Title:47TH Annual California Association for Bilingual Education (CABE) Conference. \nDescription:Keynote Presentation provided by Natasha Carrizosa \nTheme:California Association for Bilingual Education \nDate:03/30/2022 – 04/02/2022 \nTime:4:30pm – 6:30pm PST \nLocation: Virtual
URL:https://coolspeak.com/event/47th-annual-california-association-for-bilingual-education-cabe-conference-3-2/
END:VEVENT
BEGIN:VEVENT
DTSTART;TZID=America/New_York:20220401T080000
DTEND;TZID=America/New_York:20220401T140000
DTSTAMP:20260423T132403
CREATED:20220315T011311Z
LAST-MODIFIED:20220315T011311Z
UID:10000304-1648800000-1648821600@coolspeak.com
SUMMARY:Willingboro High School
DESCRIPTION:Title:Reset Day \nDescription:Motivational Presentations provided by Lamarr Womble. \nTheme: Motivation for students to finish school year strong \nDate:04/01/2022 \nTime:8:00am – 2:00pm EST \nLocation:Willingboro\, NJ
URL:https://coolspeak.com/event/willingboro-high-school/
END:VEVENT
BEGIN:VEVENT
DTSTART;TZID=America/New_York:20220401T080000
DTEND;TZID=America/New_York:20220401T140000
DTSTAMP:20260423T132403
CREATED:20220315T011311Z
LAST-MODIFIED:20220315T011311Z
UID:10000305-1648800000-1648821600@coolspeak.com
SUMMARY:Willingboro High School
DESCRIPTION:Title:Reset Day \nDescription:Motivational Presentations provided by Lamarr Womble. \nTheme: Motivation for students to finish school year strong \nDate:04/01/2022 \nTime:8:00am – 2:00pm EST \nLocation:Willingboro\, NJ
URL:https://coolspeak.com/event/willingboro-high-school-2/
END:VEVENT
END:VCALENDAR