BEGIN:VCALENDAR
VERSION:2.0
PRODID:-//CoolSpeak - ECPv6.15.18//NONSGML v1.0//EN
CALSCALE:GREGORIAN
METHOD:PUBLISH
X-WR-CALNAME:CoolSpeak
X-ORIGINAL-URL:https://coolspeak.com
X-WR-CALDESC:Events for CoolSpeak
REFRESH-INTERVAL;VALUE=DURATION:PT1H
X-Robots-Tag:noindex
X-PUBLISHED-TTL:PT1H
BEGIN:VTIMEZONE
TZID:America/New_York
BEGIN:DAYLIGHT
TZOFFSETFROM:-0500
TZOFFSETTO:-0400
TZNAME:EDT
DTSTART:20200308T070000
END:DAYLIGHT
BEGIN:STANDARD
TZOFFSETFROM:-0400
TZOFFSETTO:-0500
TZNAME:EST
DTSTART:20201101T060000
END:STANDARD
BEGIN:DAYLIGHT
TZOFFSETFROM:-0500
TZOFFSETTO:-0400
TZNAME:EDT
DTSTART:20210314T070000
END:DAYLIGHT
BEGIN:STANDARD
TZOFFSETFROM:-0400
TZOFFSETTO:-0500
TZNAME:EST
DTSTART:20211107T060000
END:STANDARD
BEGIN:DAYLIGHT
TZOFFSETFROM:-0500
TZOFFSETTO:-0400
TZNAME:EDT
DTSTART:20220313T070000
END:DAYLIGHT
BEGIN:STANDARD
TZOFFSETFROM:-0400
TZOFFSETTO:-0500
TZNAME:EST
DTSTART:20221106T060000
END:STANDARD
END:VTIMEZONE
BEGIN:VEVENT
DTSTART;TZID=America/New_York:20211116T130000
DTEND;TZID=America/New_York:20211116T140000
DTSTAMP:20260424T115238
CREATED:20210928T152742Z
LAST-MODIFIED:20210928T152742Z
UID:10000187-1637067600-1637071200@coolspeak.com
SUMMARY:McDonald's HACER Workshop Series (Student session)
DESCRIPTION:Title: 2021 McDonald's HACER Education Tour  \nDescription: Student leadership summit promoting a culture of education \nDate: 11/16/2021 \nTime: 1:00pm EST  \nLocation:Virtual
URL:https://coolspeak.com/event/mcdonalds-hacer-workshop-series-student-session-2-2/
END:VEVENT
BEGIN:VEVENT
DTSTART;TZID=America/New_York:20211116T130000
DTEND;TZID=America/New_York:20211116T140000
DTSTAMP:20260424T115238
CREATED:20210928T152742Z
LAST-MODIFIED:20210928T152742Z
UID:10000180-1637067600-1637071200@coolspeak.com
SUMMARY:McDonald's HACER Workshop Series (Student session)
DESCRIPTION:Title: 2021 McDonald's HACER Education Tour  \nDescription: Student leadership summit promoting a culture of education \nDate: 11/16/2021 \nTime: 1:00pm EST  \nLocation:Virtual
URL:https://coolspeak.com/event/mcdonalds-hacer-workshop-series-student-session-2/
END:VEVENT
BEGIN:VEVENT
DTSTART;TZID=America/New_York:20211115T210000
DTEND;TZID=America/New_York:20211115T220000
DTSTAMP:20260424T115238
CREATED:20210930T235915Z
LAST-MODIFIED:20210930T235915Z
UID:10000215-1637010000-1637013600@coolspeak.com
SUMMARY:CSUMB CAMP Virtual Fall Programming
DESCRIPTION:Title:CSUMB CAMP Virtual Fall Programming \nDescription:Virtual Fall Student and Parent Programming \nTheme: Student and Parent Presentations \nDate: 11/15/2021 \nTime: 6:00pm – 7:00pm PST \nLocation:Virtual
URL:https://coolspeak.com/event/csumb-camp-virtual-fall-programming-4/
END:VEVENT
BEGIN:VEVENT
DTSTART;TZID=America/New_York:20211115T210000
DTEND;TZID=America/New_York:20211115T220000
DTSTAMP:20260424T115238
CREATED:20210930T235915Z
LAST-MODIFIED:20210930T235915Z
UID:10000216-1637010000-1637013600@coolspeak.com
SUMMARY:CSUMB CAMP Virtual Fall Programming
DESCRIPTION:Title:CSUMB CAMP Virtual Fall Programming \nDescription:Virtual Fall Student and Parent Programming \nTheme: Student and Parent Presentations \nDate: 11/15/2021 \nTime: 6:00pm – 7:00pm PST \nLocation:Virtual
URL:https://coolspeak.com/event/csumb-camp-virtual-fall-programming-4-2/
END:VEVENT
BEGIN:VEVENT
DTSTART;TZID=America/New_York:20211115T170000
DTEND;TZID=America/New_York:20211115T190000
DTSTAMP:20260424T115238
CREATED:20210930T225828Z
LAST-MODIFIED:20210930T225828Z
UID:10000196-1636995600-1637002800@coolspeak.com
SUMMARY:2021 Grand Island GEAR UP LatinX Male/Female Mentoring Session
DESCRIPTION:Title:2021 Grand Island GEAR UP LatinX Male/Female Mentoring Session \nDescription: Workshop Series To Help Empower Young Males & Females \nDate: 11/15/2021 \nTime:4:00pm – 6:00pm CST \nLocation:Grand Island\, NE
URL:https://coolspeak.com/event/2021-grand-island-gear-up-latinx-male-female-mentoring-session-2/
END:VEVENT
BEGIN:VEVENT
DTSTART;TZID=America/New_York:20211115T170000
DTEND;TZID=America/New_York:20211115T190000
DTSTAMP:20260424T115238
CREATED:20210930T225828Z
LAST-MODIFIED:20210930T225828Z
UID:10000202-1636995600-1637002800@coolspeak.com
SUMMARY:2021 Grand Island GEAR UP LatinX Male/Female Mentoring Session
DESCRIPTION:Title:2021 Grand Island GEAR UP LatinX Male/Female Mentoring Session \nDescription: Workshop Series To Help Empower Young Males & Females \nDate: 11/15/2021 \nTime:4:00pm – 6:00pm CST \nLocation:Grand Island\, NE
URL:https://coolspeak.com/event/2021-grand-island-gear-up-latinx-male-female-mentoring-session-2-2/
END:VEVENT
BEGIN:VEVENT
DTSTART;TZID=America/New_York:20211115T150000
DTEND;TZID=America/New_York:20211115T160000
DTSTAMP:20260424T115238
CREATED:20210930T235914Z
LAST-MODIFIED:20210930T235914Z
UID:10000214-1636988400-1636992000@coolspeak.com
SUMMARY:CSUMB CAMP Virtual Fall Programming
DESCRIPTION:Title:CSUMB CAMP Virtual Fall Programming \nDescription:Virtual Fall Student and Parent Programming \nTheme: Student and Parent Presentations \nDate: 11/15/2021 \nTime: 12:00pm – 1:00pm PST \nLocation:Virtual
URL:https://coolspeak.com/event/csumb-camp-virtual-fall-programming-3-2/
END:VEVENT
BEGIN:VEVENT
DTSTART;TZID=America/New_York:20211115T150000
DTEND;TZID=America/New_York:20211115T160000
DTSTAMP:20260424T115238
CREATED:20210930T235914Z
LAST-MODIFIED:20210930T235914Z
UID:10000211-1636988400-1636992000@coolspeak.com
SUMMARY:CSUMB CAMP Virtual Fall Programming
DESCRIPTION:Title:CSUMB CAMP Virtual Fall Programming \nDescription:Virtual Fall Student and Parent Programming \nTheme: Student and Parent Presentations \nDate: 11/15/2021 \nTime: 12:00pm – 1:00pm PST \nLocation:Virtual
URL:https://coolspeak.com/event/csumb-camp-virtual-fall-programming-3/
END:VEVENT
BEGIN:VEVENT
DTSTART;TZID=America/New_York:20211112T000000
DTEND;TZID=America/New_York:20211112T235959
DTSTAMP:20260424T115238
CREATED:20210928T152742Z
LAST-MODIFIED:20210928T152742Z
UID:10000186-1636675200-1636761599@coolspeak.com
SUMMARY:Gooding High School In-Person PD: ENGAGE with Carlos Ojeda Jr.
DESCRIPTION:Speaker: Carlos Ojeda Jr.\nClient: Gooding High School GEAR UP\nDescription: In-Person Full Day Professional Development.
URL:https://coolspeak.com/event/gooding-high-school-in-person-pd-engage-with-carlos-ojeda-jr-2/
END:VEVENT
BEGIN:VEVENT
DTSTART;TZID=America/New_York:20211112T000000
DTEND;TZID=America/New_York:20211112T235959
DTSTAMP:20260424T115238
CREATED:20210928T152742Z
LAST-MODIFIED:20210928T152742Z
UID:10000179-1636675200-1636761599@coolspeak.com
SUMMARY:Gooding High School In-Person PD: ENGAGE with Carlos Ojeda Jr.
DESCRIPTION:Speaker: Carlos Ojeda Jr.\nClient: Gooding High School GEAR UP\nDescription: In-Person Full Day Professional Development.
URL:https://coolspeak.com/event/gooding-high-school-in-person-pd-engage-with-carlos-ojeda-jr/
END:VEVENT
BEGIN:VEVENT
DTSTART;TZID=America/New_York:20211109T103000
DTEND;TZID=America/New_York:20211109T123000
DTSTAMP:20260424T115238
CREATED:20210928T152742Z
LAST-MODIFIED:20210928T152742Z
UID:10000161-1636453800-1636461000@coolspeak.com
SUMMARY:Lehman High School Student Council
DESCRIPTION:Title: TASC’s LoneStarDistrict 18 Fall Convention with Juan Cangas\nDescription: Student Council Convention\nTheme: Reboot\nDate 11/09/2021\nTime: 9:30am CST\nLocation: Kyle\, TX
URL:https://coolspeak.com/event/lehman-high-school-student-council-2/
END:VEVENT
BEGIN:VEVENT
DTSTART;TZID=America/New_York:20211109T103000
DTEND;TZID=America/New_York:20211109T123000
DTSTAMP:20260424T115238
CREATED:20210928T152742Z
LAST-MODIFIED:20210928T152742Z
UID:10000178-1636453800-1636461000@coolspeak.com
SUMMARY:Lehman High School Student Council
DESCRIPTION:Title: TASC’s LoneStarDistrict 18 Fall Convention with Juan Cangas\nDescription: Student Council Convention\nTheme: Reboot\nDate 11/09/2021\nTime: 9:30am CST\nLocation: Kyle\, TX
URL:https://coolspeak.com/event/lehman-high-school-student-council/
END:VEVENT
BEGIN:VEVENT
DTSTART;TZID=America/New_York:20211108T110000
DTEND;TZID=America/New_York:20211108T120000
DTSTAMP:20260424T115238
CREATED:20210928T152742Z
LAST-MODIFIED:20210928T152742Z
UID:10000185-1636369200-1636372800@coolspeak.com
SUMMARY:Fort Scott Community College
DESCRIPTION:Event Title: First Generation Celebration Day\nDescription: First Generation Students Making Real Decisions with CoolSpeaker Juan Cangas\nTheme: First Generation Students Real Life Decisions\nDate: 11/08/2021\nTime: 10:00am CST\nLocation: Fort Scott\, KS
URL:https://coolspeak.com/event/fort-scott-community-college-2/
END:VEVENT
BEGIN:VEVENT
DTSTART;TZID=America/New_York:20211108T110000
DTEND;TZID=America/New_York:20211108T120000
DTSTAMP:20260424T115238
CREATED:20210928T152742Z
LAST-MODIFIED:20210928T152742Z
UID:10000167-1636369200-1636372800@coolspeak.com
SUMMARY:Fort Scott Community College
DESCRIPTION:Event Title: First Generation Celebration Day\nDescription: First Generation Students Making Real Decisions with CoolSpeaker Juan Cangas\nTheme: First Generation Students Real Life Decisions\nDate: 11/08/2021\nTime: 10:00am CST\nLocation: Fort Scott\, KS
URL:https://coolspeak.com/event/fort-scott-community-college/
END:VEVENT
BEGIN:VEVENT
DTSTART;TZID=America/New_York:20211104T200000
DTEND;TZID=America/New_York:20211104T210000
DTSTAMP:20260424T115238
CREATED:20210928T152742Z
LAST-MODIFIED:20210928T152742Z
UID:10000177-1636056000-1636059600@coolspeak.com
SUMMARY:McDonald's HACER Workshop Series (Scholarship session)
DESCRIPTION:Title: 2021 McDonald’s HACER Education Tour  \nDescription: Student leadership summit promoting a culture of education \nDate: 11/04/2021 \nTime: 8:00pm EST  \nLocation:Virtual
URL:https://coolspeak.com/event/mcdonalds-hacer-workshop-series-scholarship-session-2/
END:VEVENT
BEGIN:VEVENT
DTSTART;TZID=America/New_York:20211104T200000
DTEND;TZID=America/New_York:20211104T210000
DTSTAMP:20260424T115238
CREATED:20210928T152742Z
LAST-MODIFIED:20210928T152742Z
UID:10000184-1636056000-1636059600@coolspeak.com
SUMMARY:McDonald's HACER Workshop Series (Scholarship session)
DESCRIPTION:Title: 2021 McDonald’s HACER Education Tour  \nDescription: Student leadership summit promoting a culture of education \nDate: 11/04/2021 \nTime: 8:00pm EST  \nLocation:Virtual
URL:https://coolspeak.com/event/mcdonalds-hacer-workshop-series-scholarship-session-2-2/
END:VEVENT
BEGIN:VEVENT
DTSTART;TZID=America/New_York:20211103T190000
DTEND;TZID=America/New_York:20211103T200000
DTSTAMP:20260424T115238
CREATED:20210928T152742Z
LAST-MODIFIED:20210928T152742Z
UID:10000183-1635966000-1635969600@coolspeak.com
SUMMARY:McDonald's HACER Workshop Series (Parent session)
DESCRIPTION:Title: 2021 McDonald’s HACER Education Tour  \nDescription: Student leadership summit promoting a culture of education \nDate: 11/03/2021 \nTime: 7:00pm EST  \nLocation:Virtual
URL:https://coolspeak.com/event/mcdonalds-hacer-workshop-series-parent-session-2/
END:VEVENT
BEGIN:VEVENT
DTSTART;TZID=America/New_York:20211103T190000
DTEND;TZID=America/New_York:20211103T200000
DTSTAMP:20260424T115238
CREATED:20210928T152742Z
LAST-MODIFIED:20210928T152742Z
UID:10000176-1635966000-1635969600@coolspeak.com
SUMMARY:McDonald's HACER Workshop Series (Parent session)
DESCRIPTION:Title: 2021 McDonald’s HACER Education Tour  \nDescription: Student leadership summit promoting a culture of education \nDate: 11/03/2021 \nTime: 7:00pm EST  \nLocation:Virtual
URL:https://coolspeak.com/event/mcdonalds-hacer-workshop-series-parent-session/
END:VEVENT
BEGIN:VEVENT
DTSTART;TZID=America/New_York:20211103T130000
DTEND;TZID=America/New_York:20211103T140000
DTSTAMP:20260424T115238
CREATED:20210928T152742Z
LAST-MODIFIED:20210928T152742Z
UID:10000182-1635944400-1635948000@coolspeak.com
SUMMARY:McDonald's HACER Workshop Series (Educators session)
DESCRIPTION:Title: 2021 McDonald’s HACER Education Tour  \nDescription: Student leadership summit promoting a culture of education \nDate: 11/03/2021 \nTime: 1:00pm EST  \nLocation:Virtual
URL:https://coolspeak.com/event/mcdonalds-hacer-workshop-series-educators-session-2-2/
END:VEVENT
BEGIN:VEVENT
DTSTART;TZID=America/New_York:20211103T130000
DTEND;TZID=America/New_York:20211103T140000
DTSTAMP:20260424T115238
CREATED:20210928T152742Z
LAST-MODIFIED:20210928T152742Z
UID:10000175-1635944400-1635948000@coolspeak.com
SUMMARY:McDonald's HACER Workshop Series (Educators session)
DESCRIPTION:Title: 2021 McDonald’s HACER Education Tour  \nDescription: Student leadership summit promoting a culture of education \nDate: 11/03/2021 \nTime: 1:00pm EST  \nLocation:Virtual
URL:https://coolspeak.com/event/mcdonalds-hacer-workshop-series-educators-session-2/
END:VEVENT
BEGIN:VEVENT
DTSTART;TZID=America/New_York:20211028T130000
DTEND;TZID=America/New_York:20211028T143000
DTSTAMP:20260424T115238
CREATED:20210928T002827Z
LAST-MODIFIED:20210928T002827Z
UID:10000171-1635426000-1635431400@coolspeak.com
SUMMARY:GEAR UP Idaho Virtual Professional Development
DESCRIPTION:Speaker: Carlos Ojeda Jr. \nDescription: Carlos Ojeda Jr. (90-minute workshop presentation) on Tips and Tricks for Student Engagement \nTheme:Professional Development \nDate:10/28/2021 \nTime: 10:00am – 11:30am \nLocation:Virtual
URL:https://coolspeak.com/event/gear-up-idaho-virtual-professional-development/
END:VEVENT
BEGIN:VEVENT
DTSTART;TZID=America/New_York:20211028T130000
DTEND;TZID=America/New_York:20211028T143000
DTSTAMP:20260424T115238
CREATED:20210928T002827Z
LAST-MODIFIED:20210928T002827Z
UID:10000173-1635426000-1635431400@coolspeak.com
SUMMARY:GEAR UP Idaho Virtual Professional Development
DESCRIPTION:Speaker: Carlos Ojeda Jr. \nDescription: Carlos Ojeda Jr. (90-minute workshop presentation) on Tips and Tricks for Student Engagement \nTheme:Professional Development \nDate:10/28/2021 \nTime: 10:00am – 11:30am \nLocation:Virtual
URL:https://coolspeak.com/event/gear-up-idaho-virtual-professional-development-2/
END:VEVENT
BEGIN:VEVENT
DTSTART;TZID=America/New_York:20211028T130000
DTEND;TZID=America/New_York:20211028T140000
DTSTAMP:20260424T115238
CREATED:20210928T002827Z
LAST-MODIFIED:20210928T002827Z
UID:10000172-1635426000-1635429600@coolspeak.com
SUMMARY:Ivy Tech Community College
DESCRIPTION:Title: Wrestling with Demons & Overcoming Obstacles\nDescription: Growing up with a disability\, battles with addiction\, and overcoming adversity through the words and keynote presentation by Zach Gowen.\nTheme: Overcoming Adversity\nDate: 10/28/2021\nTime: 1:00pm EST\nLocation: Lafayette\, IN
URL:https://coolspeak.com/event/ivy-tech-community-college/
END:VEVENT
BEGIN:VEVENT
DTSTART;TZID=America/New_York:20211028T130000
DTEND;TZID=America/New_York:20211028T140000
DTSTAMP:20260424T115238
CREATED:20210928T002827Z
LAST-MODIFIED:20210928T002827Z
UID:10000174-1635426000-1635429600@coolspeak.com
SUMMARY:Ivy Tech Community College
DESCRIPTION:Title: Wrestling with Demons & Overcoming Obstacles\nDescription: Growing up with a disability\, battles with addiction\, and overcoming adversity through the words and keynote presentation by Zach Gowen.\nTheme: Overcoming Adversity\nDate: 10/28/2021\nTime: 1:00pm EST\nLocation: Lafayette\, IN
URL:https://coolspeak.com/event/ivy-tech-community-college-2/
END:VEVENT
BEGIN:VEVENT
DTSTART;TZID=America/New_York:20211026T183000
DTEND;TZID=America/New_York:20211026T193000
DTSTAMP:20260424T115238
CREATED:20210908T154340Z
LAST-MODIFIED:20210908T154340Z
UID:10000142-1635273000-1635276600@coolspeak.com
SUMMARY:East Fort Worth Montessori Academy Open House with Joaquin Zihuatnaejo
DESCRIPTION:Speaker: Joaquin Zihuatanejo.\nClient:  East Fort Worth Montessori Academy\nDescription: 1-hour open house format.  Focus on using your voice in your community.  In-Person.
URL:https://coolspeak.com/event/east-fort-worth-montessori-academy-open-house-with-joaquin-zihuatnaejo/
END:VEVENT
BEGIN:VEVENT
DTSTART;TZID=America/New_York:20211026T183000
DTEND;TZID=America/New_York:20211026T193000
DTSTAMP:20260424T115238
CREATED:20210908T154340Z
LAST-MODIFIED:20210908T154340Z
UID:10000144-1635273000-1635276600@coolspeak.com
SUMMARY:East Fort Worth Montessori Academy Open House with Joaquin Zihuatnaejo
DESCRIPTION:Speaker: Joaquin Zihuatanejo.\nClient:  East Fort Worth Montessori Academy\nDescription: 1-hour open house format.  Focus on using your voice in your community.  In-Person.
URL:https://coolspeak.com/event/east-fort-worth-montessori-academy-open-house-with-joaquin-zihuatnaejo-2/
END:VEVENT
BEGIN:VEVENT
DTSTART;TZID=America/New_York:20211026T090000
DTEND;TZID=America/New_York:20211026T140000
DTSTAMP:20260424T115238
CREATED:20210926T004448Z
LAST-MODIFIED:20210926T004448Z
UID:10000169-1635238800-1635256800@coolspeak.com
SUMMARY:CAIU 4th Annual Middle School Forum
DESCRIPTION:4th Annual Middle School Forum \nCapital Area Intermediate Unit One Day Conference featuring: \n\nCarlos Ojeda Jr.\nZach Gowen\nStephanie Humphrey\nDr. Griselda Rodriguez\nLamarr Womble\nMena Badros
URL:https://coolspeak.com/event/caiu-4th-annual-middle-school-forum/
LOCATION:Enola\, PA\, USA
END:VEVENT
BEGIN:VEVENT
DTSTART;TZID=America/New_York:20211026T090000
DTEND;TZID=America/New_York:20211026T140000
DTSTAMP:20260424T115238
CREATED:20210926T004448Z
LAST-MODIFIED:20210926T004448Z
UID:10000170-1635238800-1635256800@coolspeak.com
SUMMARY:CAIU 4th Annual Middle School Forum
DESCRIPTION:4th Annual Middle School Forum \nCapital Area Intermediate Unit One Day Conference featuring: \n\nCarlos Ojeda Jr.\nZach Gowen\nStephanie Humphrey\nDr. Griselda Rodriguez\nLamarr Womble\nMena Badros
URL:https://coolspeak.com/event/caiu-4th-annual-middle-school-forum-2/
LOCATION:Enola\, PA\, USA
END:VEVENT
BEGIN:VEVENT
DTSTART;TZID=America/New_York:20211025T190000
DTEND;TZID=America/New_York:20211025T200000
DTSTAMP:20260424T115238
CREATED:20210925T005835Z
LAST-MODIFIED:20210925T005835Z
UID:10000166-1635188400-1635192000@coolspeak.com
SUMMARY:McDonald's HACER Workshop Series (Scholarship session)
DESCRIPTION:Title: 2021 McDonald’s HACER Education Tour  \nDescription: Student leadership summit promoting a culture of education \nDate: 10/25/2021 \nTime: 7:00pm EST  \nLocation:Virtual
URL:https://coolspeak.com/event/mcdonalds-hacer-workshop-series-scholarship-session/
END:VEVENT
BEGIN:VEVENT
DTSTART;TZID=America/New_York:20211025T190000
DTEND;TZID=America/New_York:20211025T200000
DTSTAMP:20260424T115238
CREATED:20210925T005835Z
LAST-MODIFIED:20210925T005835Z
UID:10000168-1635188400-1635192000@coolspeak.com
SUMMARY:McDonald's HACER Workshop Series (Scholarship session)
DESCRIPTION:Title: 2021 McDonald’s HACER Education Tour  \nDescription: Student leadership summit promoting a culture of education \nDate: 10/25/2021 \nTime: 7:00pm EST  \nLocation:Virtual
URL:https://coolspeak.com/event/mcdonalds-hacer-workshop-series-scholarship-session-4/
END:VEVENT
END:VCALENDAR