BEGIN:VCALENDAR
VERSION:2.0
PRODID:-//CoolSpeak - ECPv6.15.18//NONSGML v1.0//EN
CALSCALE:GREGORIAN
METHOD:PUBLISH
X-WR-CALNAME:CoolSpeak
X-ORIGINAL-URL:https://coolspeak.com
X-WR-CALDESC:Events for CoolSpeak
REFRESH-INTERVAL;VALUE=DURATION:PT1H
X-Robots-Tag:noindex
X-PUBLISHED-TTL:PT1H
BEGIN:VTIMEZONE
TZID:America/New_York
BEGIN:DAYLIGHT
TZOFFSETFROM:-0500
TZOFFSETTO:-0400
TZNAME:EDT
DTSTART:20210314T070000
END:DAYLIGHT
BEGIN:STANDARD
TZOFFSETFROM:-0400
TZOFFSETTO:-0500
TZNAME:EST
DTSTART:20211107T060000
END:STANDARD
BEGIN:DAYLIGHT
TZOFFSETFROM:-0500
TZOFFSETTO:-0400
TZNAME:EDT
DTSTART:20220313T070000
END:DAYLIGHT
BEGIN:STANDARD
TZOFFSETFROM:-0400
TZOFFSETTO:-0500
TZNAME:EST
DTSTART:20221106T060000
END:STANDARD
BEGIN:DAYLIGHT
TZOFFSETFROM:-0500
TZOFFSETTO:-0400
TZNAME:EDT
DTSTART:20230312T070000
END:DAYLIGHT
BEGIN:STANDARD
TZOFFSETFROM:-0400
TZOFFSETTO:-0500
TZNAME:EST
DTSTART:20231105T060000
END:STANDARD
END:VTIMEZONE
BEGIN:VEVENT
DTSTART;TZID=America/New_York:20220622T090000
DTEND;TZID=America/New_York:20220622T150000
DTSTAMP:20260424T084516
CREATED:20220506T020414Z
LAST-MODIFIED:20220506T020414Z
UID:10000452-1655888400-1655910000@coolspeak.com
SUMMARY:Power of Youth - Erie\, PA
DESCRIPTION:
URL:https://coolspeak.com/event/brain-stem-erie-pa-3/
END:VEVENT
BEGIN:VEVENT
DTSTART;TZID=America/New_York:20220622T090000
DTEND;TZID=America/New_York:20220622T150000
DTSTAMP:20260424T084516
CREATED:20220506T020414Z
LAST-MODIFIED:20220506T020414Z
UID:10000449-1655888400-1655910000@coolspeak.com
SUMMARY:Power of Youth - Erie\, PA
DESCRIPTION:
URL:https://coolspeak.com/event/brain-stem-erie-pa/
END:VEVENT
BEGIN:VEVENT
DTSTART;TZID=America/New_York:20220622T160000
DTEND;TZID=America/New_York:20220622T173000
DTSTAMP:20260424T084516
CREATED:20220527T191345Z
LAST-MODIFIED:20220527T191345Z
UID:10000540-1655913600-1655919000@coolspeak.com
SUMMARY:The Kades Corporation 1st Company Retreat with Lamarr Womble
DESCRIPTION:Title:\nWaco/Houston/Beaumont McDonald’s Employees1st Retreat\nDescription:\nLamarr Womble will provide a Leadership Session\nTheme:\nInteractive/Engaging/Motivational\nDate:\n6/22/2022\nTime:\n3:00 PM-4:30 PM CST\nLocation:\nMontgomery\, TX
URL:https://coolspeak.com/event/the-kades-corporation-1st-company-retreat-with-lamarr-womble/
END:VEVENT
BEGIN:VEVENT
DTSTART;TZID=America/New_York:20220622T160000
DTEND;TZID=America/New_York:20220622T173000
DTSTAMP:20260424T084516
CREATED:20220527T191345Z
LAST-MODIFIED:20220527T191345Z
UID:10000542-1655913600-1655919000@coolspeak.com
SUMMARY:The Kades Corporation 1st Company Retreat with Lamarr Womble
DESCRIPTION:Title:\nWaco/Houston/Beaumont McDonald’s Employees1st Retreat\nDescription:\nLamarr Womble will provide a Leadership Session\nTheme:\nInteractive/Engaging/Motivational\nDate:\n6/22/2022\nTime:\n3:00 PM-4:30 PM CST\nLocation:\nMontgomery\, TX
URL:https://coolspeak.com/event/the-kades-corporation-1st-company-retreat-with-lamarr-womble-2/
END:VEVENT
BEGIN:VEVENT
DTSTART;TZID=America/New_York:20220623T090000
DTEND;TZID=America/New_York:20220623T150000
DTSTAMP:20260424T084516
CREATED:20220506T020414Z
LAST-MODIFIED:20220506T020414Z
UID:10000453-1655974800-1655996400@coolspeak.com
SUMMARY:Power of Youth - Erie\, PA
DESCRIPTION:
URL:https://coolspeak.com/event/brain-stem-erie-pa-2-2/
END:VEVENT
BEGIN:VEVENT
DTSTART;TZID=America/New_York:20220623T090000
DTEND;TZID=America/New_York:20220623T150000
DTSTAMP:20260424T084516
CREATED:20220506T020414Z
LAST-MODIFIED:20220506T020414Z
UID:10000450-1655974800-1655996400@coolspeak.com
SUMMARY:Power of Youth - Erie\, PA
DESCRIPTION:
URL:https://coolspeak.com/event/brain-stem-erie-pa-2/
END:VEVENT
BEGIN:VEVENT
DTSTART;TZID=America/New_York:20220623T100000
DTEND;TZID=America/New_York:20220623T120000
DTSTAMP:20260424T084516
CREATED:20220411T211309Z
LAST-MODIFIED:20220411T211309Z
UID:10000319-1655978400-1655985600@coolspeak.com
SUMMARY:The William Lloyd Garrison School PS/MS 31 Graduation Ceremony with Lamarr Womble.
DESCRIPTION:Title:The William Lloyd Garrison School PS/MS 31 Graduation Ceremony with Lamarr Womble. \nDescription:Graduation Ceremony for William Lloyd Garrison School PS/MS 31 Middle School Students. \nTheme: Passion \nDate: 06/23/2022 \nTime:10:00am – 12:00pm EST \nLocaiton:Bronx\, NY
URL:https://coolspeak.com/event/the-william-lloyd-garrison-school-ps-ms-31-graduation-ceremony-with-lamarr-womble-2/
END:VEVENT
BEGIN:VEVENT
DTSTART;TZID=America/New_York:20220623T100000
DTEND;TZID=America/New_York:20220623T120000
DTSTAMP:20260424T084516
CREATED:20220411T211309Z
LAST-MODIFIED:20220411T211309Z
UID:10000330-1655978400-1655985600@coolspeak.com
SUMMARY:The William Lloyd Garrison School PS/MS 31 Graduation Ceremony with Lamarr Womble.
DESCRIPTION:Title:The William Lloyd Garrison School PS/MS 31 Graduation Ceremony with Lamarr Womble. \nDescription:Graduation Ceremony for William Lloyd Garrison School PS/MS 31 Middle School Students. \nTheme: Passion \nDate: 06/23/2022 \nTime:10:00am – 12:00pm EST \nLocaiton:Bronx\, NY
URL:https://coolspeak.com/event/the-william-lloyd-garrison-school-ps-ms-31-graduation-ceremony-with-lamarr-womble/
END:VEVENT
BEGIN:VEVENT
DTSTART;TZID=America/New_York:20220624T090000
DTEND;TZID=America/New_York:20220624T120000
DTSTAMP:20260424T084516
CREATED:20220418T164809Z
LAST-MODIFIED:20220418T164809Z
UID:10000351-1656061200-1656072000@coolspeak.com
SUMMARY:S4TL Seminar
DESCRIPTION:Title:S4TL Seminar \nDescription:Personal Mastery with Carlos Ojeda Jr. \nTheme:In-Person Presentation. \nDate:06/24/2022 \nTime:9:00am – 12:00pm EST \nLocation:Lakeland\, FL
URL:https://coolspeak.com/event/s4tl-seminar/
END:VEVENT
BEGIN:VEVENT
DTSTART;TZID=America/New_York:20220624T090000
DTEND;TZID=America/New_York:20220624T120000
DTSTAMP:20260424T084516
CREATED:20220418T164809Z
LAST-MODIFIED:20220418T164809Z
UID:10000352-1656061200-1656072000@coolspeak.com
SUMMARY:S4TL Seminar
DESCRIPTION:Title:S4TL Seminar \nDescription:Personal Mastery with Carlos Ojeda Jr. \nTheme:In-Person Presentation. \nDate:06/24/2022 \nTime:9:00am – 12:00pm EST \nLocation:Lakeland\, FL
URL:https://coolspeak.com/event/s4tl-seminar-2/
END:VEVENT
BEGIN:VEVENT
DTSTART;TZID=America/New_York:20220624T123000
DTEND;TZID=America/New_York:20220624T133000
DTSTAMP:20260424T084516
CREATED:20220606T164343Z
LAST-MODIFIED:20220606T164343Z
UID:10000557-1656073800-1656077400@coolspeak.com
SUMMARY:Wonderful College Prep Academy GEAR UP
DESCRIPTION:Title:\nReef-Sunset Middle School Team Building Activities\nDescription:\nTeam Building Activities provided by Joaquin Zihuatanejo.\nTheme:\nTeam Building\nDate:\n06/09/2022\nTime:\n12:30 PM – 2:00 PM PST\nLocation:\nAvenal. CA
URL:https://coolspeak.com/event/wonderful-college-prep-academy-gear-up-4-2/
END:VEVENT
BEGIN:VEVENT
DTSTART;TZID=America/New_York:20220624T123000
DTEND;TZID=America/New_York:20220624T133000
DTSTAMP:20260424T084516
CREATED:20220606T164343Z
LAST-MODIFIED:20220606T164343Z
UID:10000555-1656073800-1656077400@coolspeak.com
SUMMARY:Wonderful College Prep Academy GEAR UP
DESCRIPTION:Title:\nReef-Sunset Middle School Team Building Activities\nDescription:\nTeam Building Activities provided by Joaquin Zihuatanejo.\nTheme:\nTeam Building\nDate:\n06/09/2022\nTime:\n12:30 PM – 2:00 PM PST\nLocation:\nAvenal. CA
URL:https://coolspeak.com/event/wonderful-college-prep-academy-gear-up-4/
END:VEVENT
BEGIN:VEVENT
DTSTART;TZID=America/New_York:20220626T080000
DTEND;TZID=America/New_York:20220626T210000
DTSTAMP:20260424T084516
CREATED:20220419T014310Z
LAST-MODIFIED:20220419T014310Z
UID:10000375-1656230400-1656277200@coolspeak.com
SUMMARY:(Tentative) Washington State Univeristy Summer Camp
DESCRIPTION:
URL:https://coolspeak.com/event/tentative-washington-state-univeristy-summer-camp/
END:VEVENT
BEGIN:VEVENT
DTSTART;TZID=America/New_York:20220626T080000
DTEND;TZID=America/New_York:20220626T210000
DTSTAMP:20260424T084516
CREATED:20220419T014310Z
LAST-MODIFIED:20220419T014310Z
UID:10000383-1656230400-1656277200@coolspeak.com
SUMMARY:(Tentative) Washington State Univeristy Summer Camp
DESCRIPTION:
URL:https://coolspeak.com/event/tentative-washington-state-univeristy-summer-camp-2/
END:VEVENT
BEGIN:VEVENT
DTSTART;TZID=America/New_York:20220626T110000
DTEND;TZID=America/New_York:20220626T230000
DTSTAMP:20260424T084516
CREATED:20220513T214535Z
LAST-MODIFIED:20220513T214535Z
UID:10000500-1656241200-1656284400@coolspeak.com
SUMMARY:WSU Tri-Cities 2 Day Summer Program
DESCRIPTION:Title: WSU Tri-Cities 2-Day Programming.  \nDescription:CoolSpeak team will provide keynote presentations/workshops.  \nTheme:Education and GEAR UP.  \nDate: 06/26/2022 & 06/27/2022 \nTime:8:00am – 8:00pm PST \nLocation:Pullman\, WA
URL:https://coolspeak.com/event/wsu-tri-cities-2-day-summer-program-2-2/
END:VEVENT
BEGIN:VEVENT
DTSTART;TZID=America/New_York:20220626T110000
DTEND;TZID=America/New_York:20220626T230000
DTSTAMP:20260424T084516
CREATED:20220513T214535Z
LAST-MODIFIED:20220513T214535Z
UID:10000498-1656241200-1656284400@coolspeak.com
SUMMARY:WSU Tri-Cities 2 Day Summer Program
DESCRIPTION:Title: WSU Tri-Cities 2-Day Programming.  \nDescription:CoolSpeak team will provide keynote presentations/workshops.  \nTheme:Education and GEAR UP.  \nDate: 06/26/2022 & 06/27/2022 \nTime:8:00am – 8:00pm PST \nLocation:Pullman\, WA
URL:https://coolspeak.com/event/wsu-tri-cities-2-day-summer-program-2/
END:VEVENT
BEGIN:VEVENT
DTSTART;TZID=America/New_York:20220627T080000
DTEND;TZID=America/New_York:20220627T211500
DTSTAMP:20260424T084516
CREATED:20220419T014310Z
LAST-MODIFIED:20220419T014310Z
UID:10000376-1656316800-1656364500@coolspeak.com
SUMMARY:Eastern New Mexico University GEAR UP June Summer Camp
DESCRIPTION:
URL:https://coolspeak.com/event/eastern-new-mexico-university-gear-up-june-summer-camp/
END:VEVENT
BEGIN:VEVENT
DTSTART;TZID=America/New_York:20220627T080000
DTEND;TZID=America/New_York:20220627T211500
DTSTAMP:20260424T084516
CREATED:20220419T014310Z
LAST-MODIFIED:20220419T014310Z
UID:10000384-1656316800-1656364500@coolspeak.com
SUMMARY:Eastern New Mexico University GEAR UP June Summer Camp
DESCRIPTION:
URL:https://coolspeak.com/event/eastern-new-mexico-university-gear-up-june-summer-camp-5/
END:VEVENT
BEGIN:VEVENT
DTSTART;TZID=America/New_York:20220627T110000
DTEND;TZID=America/New_York:20220627T230000
DTSTAMP:20260424T084516
CREATED:20220513T214535Z
LAST-MODIFIED:20220513T214535Z
UID:10000497-1656327600-1656370800@coolspeak.com
SUMMARY:WSU Tri-Cities 2 Day Summer Program
DESCRIPTION:Title: WSU Tri-Cities 2-Day Programming.  \nDescription:CoolSpeak team will provide keynote presentations/workshops.  \nTheme:Education and GEAR UP.  \nDate: 06/26/2022 & 06/27/2022 \nTime:8:00am – 8:00pm PST \nLocation:Pullman\, WA
URL:https://coolspeak.com/event/wsu-tri-cities-2-day-summer-program/
END:VEVENT
BEGIN:VEVENT
DTSTART;TZID=America/New_York:20220627T110000
DTEND;TZID=America/New_York:20220627T230000
DTSTAMP:20260424T084516
CREATED:20220513T214535Z
LAST-MODIFIED:20220513T214535Z
UID:10000499-1656327600-1656370800@coolspeak.com
SUMMARY:WSU Tri-Cities 2 Day Summer Program
DESCRIPTION:Title: WSU Tri-Cities 2-Day Programming.  \nDescription:CoolSpeak team will provide keynote presentations/workshops.  \nTheme:Education and GEAR UP.  \nDate: 06/26/2022 & 06/27/2022 \nTime:8:00am – 8:00pm PST \nLocation:Pullman\, WA
URL:https://coolspeak.com/event/wsu-tri-cities-2-day-summer-program-3/
END:VEVENT
BEGIN:VEVENT
DTSTART;TZID=America/New_York:20220628T080000
DTEND;TZID=America/New_York:20220628T211500
DTSTAMP:20260424T084516
CREATED:20220419T014310Z
LAST-MODIFIED:20220419T014310Z
UID:10000377-1656403200-1656450900@coolspeak.com
SUMMARY:Eastern New Mexico University GEAR UP June Summer Camp
DESCRIPTION:
URL:https://coolspeak.com/event/eastern-new-mexico-university-gear-up-june-summer-camp-2/
END:VEVENT
BEGIN:VEVENT
DTSTART;TZID=America/New_York:20220628T080000
DTEND;TZID=America/New_York:20220628T211500
DTSTAMP:20260424T084516
CREATED:20220419T014310Z
LAST-MODIFIED:20220419T014310Z
UID:10000385-1656403200-1656450900@coolspeak.com
SUMMARY:Eastern New Mexico University GEAR UP June Summer Camp
DESCRIPTION:
URL:https://coolspeak.com/event/eastern-new-mexico-university-gear-up-june-summer-camp-2-2/
END:VEVENT
BEGIN:VEVENT
DTSTART;TZID=America/New_York:20220628T090000
DTEND;TZID=America/New_York:20220628T153000
DTSTAMP:20260424T084516
CREATED:20220506T020416Z
LAST-MODIFIED:20220506T020416Z
UID:10000469-1656406800-1656430200@coolspeak.com
SUMMARY:Power of Youth - Reading\, PA
DESCRIPTION:
URL:https://coolspeak.com/event/brain-stem-reading-pa-3/
LOCATION:East Coast Migrant Head Start Project
END:VEVENT
BEGIN:VEVENT
DTSTART;TZID=America/New_York:20220628T090000
DTEND;TZID=America/New_York:20220628T153000
DTSTAMP:20260424T084516
CREATED:20220506T020416Z
LAST-MODIFIED:20220506T020416Z
UID:10000465-1656406800-1656430200@coolspeak.com
SUMMARY:Power of Youth - Reading\, PA
DESCRIPTION:
URL:https://coolspeak.com/event/brain-stem-reading-pa/
END:VEVENT
BEGIN:VEVENT
DTSTART;TZID=America/New_York:20220629T080000
DTEND;TZID=America/New_York:20220629T211500
DTSTAMP:20260424T084516
CREATED:20220419T014310Z
LAST-MODIFIED:20220419T014310Z
UID:10000378-1656489600-1656537300@coolspeak.com
SUMMARY:Eastern New Mexico University GEAR UP June Summer Camp
DESCRIPTION:
URL:https://coolspeak.com/event/eastern-new-mexico-university-gear-up-june-summer-camp-3/
END:VEVENT
BEGIN:VEVENT
DTSTART;TZID=America/New_York:20220629T080000
DTEND;TZID=America/New_York:20220629T211500
DTSTAMP:20260424T084516
CREATED:20220419T014310Z
LAST-MODIFIED:20220419T014310Z
UID:10000386-1656489600-1656537300@coolspeak.com
SUMMARY:Eastern New Mexico University GEAR UP June Summer Camp
DESCRIPTION:
URL:https://coolspeak.com/event/eastern-new-mexico-university-gear-up-june-summer-camp-3-2/
END:VEVENT
BEGIN:VEVENT
DTSTART;TZID=America/New_York:20220629T090000
DTEND;TZID=America/New_York:20220629T153000
DTSTAMP:20260424T084516
CREATED:20220506T020416Z
LAST-MODIFIED:20220506T020416Z
UID:10000470-1656493200-1656516600@coolspeak.com
SUMMARY:Power of Youth - Reading\, PA
DESCRIPTION:
URL:https://coolspeak.com/event/brain-stem-reading-pa-2-2/
LOCATION:The SEED Foundation
END:VEVENT
BEGIN:VEVENT
DTSTART;TZID=America/New_York:20220629T090000
DTEND;TZID=America/New_York:20220629T153000
DTSTAMP:20260424T084516
CREATED:20220506T020416Z
LAST-MODIFIED:20220506T020416Z
UID:10000466-1656493200-1656516600@coolspeak.com
SUMMARY:Power of Youth - Reading\, PA
DESCRIPTION:
URL:https://coolspeak.com/event/brain-stem-reading-pa-2/
END:VEVENT
BEGIN:VEVENT
DTSTART;TZID=America/New_York:20220630T080000
DTEND;TZID=America/New_York:20220630T211500
DTSTAMP:20260424T084516
CREATED:20220419T014311Z
LAST-MODIFIED:20220419T014311Z
UID:10000396-1656576000-1656623700@coolspeak.com
SUMMARY:Eastern New Mexico University GEAR UP June Summer Camp
DESCRIPTION:
URL:https://coolspeak.com/event/eastern-new-mexico-university-gear-up-june-summer-camp-4-2/
END:VEVENT
BEGIN:VEVENT
DTSTART;TZID=America/New_York:20220630T080000
DTEND;TZID=America/New_York:20220630T211500
DTSTAMP:20260424T084516
CREATED:20220419T014311Z
LAST-MODIFIED:20220419T014311Z
UID:10000387-1656576000-1656623700@coolspeak.com
SUMMARY:Eastern New Mexico University GEAR UP June Summer Camp
DESCRIPTION:
URL:https://coolspeak.com/event/eastern-new-mexico-university-gear-up-june-summer-camp-4/
END:VEVENT
END:VCALENDAR