BEGIN:VCALENDAR
VERSION:2.0
PRODID:-//CoolSpeak - ECPv6.15.18//NONSGML v1.0//EN
CALSCALE:GREGORIAN
METHOD:PUBLISH
X-WR-CALNAME:CoolSpeak
X-ORIGINAL-URL:https://coolspeak.com
X-WR-CALDESC:Events for CoolSpeak
REFRESH-INTERVAL;VALUE=DURATION:PT1H
X-Robots-Tag:noindex
X-PUBLISHED-TTL:PT1H
BEGIN:VTIMEZONE
TZID:America/New_York
BEGIN:DAYLIGHT
TZOFFSETFROM:-0500
TZOFFSETTO:-0400
TZNAME:EDT
DTSTART:20200308T070000
END:DAYLIGHT
BEGIN:STANDARD
TZOFFSETFROM:-0400
TZOFFSETTO:-0500
TZNAME:EST
DTSTART:20201101T060000
END:STANDARD
BEGIN:DAYLIGHT
TZOFFSETFROM:-0500
TZOFFSETTO:-0400
TZNAME:EDT
DTSTART:20210314T070000
END:DAYLIGHT
BEGIN:STANDARD
TZOFFSETFROM:-0400
TZOFFSETTO:-0500
TZNAME:EST
DTSTART:20211107T060000
END:STANDARD
BEGIN:DAYLIGHT
TZOFFSETFROM:-0500
TZOFFSETTO:-0400
TZNAME:EDT
DTSTART:20220313T070000
END:DAYLIGHT
BEGIN:STANDARD
TZOFFSETFROM:-0400
TZOFFSETTO:-0500
TZNAME:EST
DTSTART:20221106T060000
END:STANDARD
END:VTIMEZONE
BEGIN:VEVENT
DTSTART;TZID=America/New_York:20211025T190000
DTEND;TZID=America/New_York:20211025T200000
DTSTAMP:20260424T085751
CREATED:20210925T005835Z
LAST-MODIFIED:20210925T005835Z
UID:10000168-1635188400-1635192000@coolspeak.com
SUMMARY:McDonald's HACER Workshop Series (Scholarship session)
DESCRIPTION:Title: 2021 McDonald’s HACER Education Tour  \nDescription: Student leadership summit promoting a culture of education \nDate: 10/25/2021 \nTime: 7:00pm EST  \nLocation:Virtual
URL:https://coolspeak.com/event/mcdonalds-hacer-workshop-series-scholarship-session-4/
END:VEVENT
BEGIN:VEVENT
DTSTART;TZID=America/New_York:20211025T190000
DTEND;TZID=America/New_York:20211025T200000
DTSTAMP:20260424T085751
CREATED:20210925T005835Z
LAST-MODIFIED:20210925T005835Z
UID:10000166-1635188400-1635192000@coolspeak.com
SUMMARY:McDonald's HACER Workshop Series (Scholarship session)
DESCRIPTION:Title: 2021 McDonald’s HACER Education Tour  \nDescription: Student leadership summit promoting a culture of education \nDate: 10/25/2021 \nTime: 7:00pm EST  \nLocation:Virtual
URL:https://coolspeak.com/event/mcdonalds-hacer-workshop-series-scholarship-session/
END:VEVENT
BEGIN:VEVENT
DTSTART;TZID=America/New_York:20211021T190000
DTEND;TZID=America/New_York:20211021T203000
DTSTAMP:20260424T085751
CREATED:20211005T221320Z
LAST-MODIFIED:20211005T221320Z
UID:10000217-1634842800-1634848200@coolspeak.com
SUMMARY:Columbian Basin College Upward Bound
DESCRIPTION:Title:Columbia Basin College Upward Bound October 2021 Virtual Program With CoolSpeaker Juan Cangas \nDescription:Columbia Basin College Upward Bound Students \nTheme: Real Life Decisions \nDate:10/21/2021 \nTime:4:00pm – 5:30pm PST \nLocation:Virtual
URL:https://coolspeak.com/event/columbian-basin-college-upward-bound/
END:VEVENT
BEGIN:VEVENT
DTSTART;TZID=America/New_York:20211021T190000
DTEND;TZID=America/New_York:20211021T203000
DTSTAMP:20260424T085751
CREATED:20211005T221320Z
LAST-MODIFIED:20211005T221320Z
UID:10000218-1634842800-1634848200@coolspeak.com
SUMMARY:Columbian Basin College Upward Bound
DESCRIPTION:Title:Columbia Basin College Upward Bound October 2021 Virtual Program With CoolSpeaker Juan Cangas \nDescription:Columbia Basin College Upward Bound Students \nTheme: Real Life Decisions \nDate:10/21/2021 \nTime:4:00pm – 5:30pm PST \nLocation:Virtual
URL:https://coolspeak.com/event/columbian-basin-college-upward-bound-2/
END:VEVENT
BEGIN:VEVENT
DTSTART;TZID=America/New_York:20211021T150000
DTEND;TZID=America/New_York:20211021T160000
DTSTAMP:20260424T085751
CREATED:20210922T164444Z
LAST-MODIFIED:20210922T164444Z
UID:10000164-1634828400-1634832000@coolspeak.com
SUMMARY:McDonald's HACER Workshop Series (Student session)
DESCRIPTION:Title: 2021 McDonald’s HACER Education Tour  \nDescription: Student leadership summit promoting a culture of education \nDate: 10/21/2021 \nTime: 3:00pm EST  \nLocation:Virtual
URL:https://coolspeak.com/event/mcdonalds-hacer-workshop-series-student-session/
END:VEVENT
BEGIN:VEVENT
DTSTART;TZID=America/New_York:20211021T150000
DTEND;TZID=America/New_York:20211021T160000
DTSTAMP:20260424T085751
CREATED:20210922T164444Z
LAST-MODIFIED:20210922T164444Z
UID:10000165-1634828400-1634832000@coolspeak.com
SUMMARY:McDonald's HACER Workshop Series (Student session)
DESCRIPTION:Title: 2021 McDonald’s HACER Education Tour  \nDescription: Student leadership summit promoting a culture of education \nDate: 10/21/2021 \nTime: 3:00pm EST  \nLocation:Virtual
URL:https://coolspeak.com/event/mcdonalds-hacer-workshop-series-student-session-4/
END:VEVENT
BEGIN:VEVENT
DTSTART;TZID=America/New_York:20211021T130000
DTEND;TZID=America/New_York:20211021T143000
DTSTAMP:20260424T085751
CREATED:20210920T232815Z
LAST-MODIFIED:20210920T232815Z
UID:10000155-1634821200-1634826600@coolspeak.com
SUMMARY:GEAR UP Idaho Virtual Professional Development
DESCRIPTION:Speaker: Ernesto Mejia \nDescription: Ernesto Mejia (90-minute) on 2nd Part from Spring Virtual PD Event on Parent Engagement.  \nTheme:Professional Development \nDate:10/21/2021 \nTime: 10:00am – 11:30am \nLocation:Virtual
URL:https://coolspeak.com/event/gear-up-idaho-professional-development-with-ernesto-mejia/
END:VEVENT
BEGIN:VEVENT
DTSTART;TZID=America/New_York:20211021T130000
DTEND;TZID=America/New_York:20211021T143000
DTSTAMP:20260424T085751
CREATED:20210920T232815Z
LAST-MODIFIED:20210920T232815Z
UID:10000156-1634821200-1634826600@coolspeak.com
SUMMARY:GEAR UP Idaho Virtual Professional Development
DESCRIPTION:Speaker: Ernesto Mejia \nDescription: Ernesto Mejia (90-minute) on 2nd Part from Spring Virtual PD Event on Parent Engagement.  \nTheme:Professional Development \nDate:10/21/2021 \nTime: 10:00am – 11:30am \nLocation:Virtual
URL:https://coolspeak.com/event/gear-up-idaho-professional-development-with-ernesto-mejia-2/
END:VEVENT
BEGIN:VEVENT
DTSTART;TZID=America/New_York:20211021T100000
DTEND;TZID=America/New_York:20211021T120000
DTSTAMP:20260424T085751
CREATED:20210921T212913Z
LAST-MODIFIED:20210921T212913Z
UID:10000160-1634810400-1634817600@coolspeak.com
SUMMARY:Center for Schools and Communities
DESCRIPTION:Title:Family Engagement: The Key to Your Child's Academic Success \nDescription:CoolSpeak providing Keynote Presentations and Workshops \nTheme:Family Engagement \nDate:10/19/2021 & 10/21/2021 \nTime:10/19/2021 6:00pm – 8:00pm10/21/2021 10:00am – 12:00pm \nLocation: Virtual
URL:https://coolspeak.com/event/center-for-schools-and-communities-2-2/
END:VEVENT
BEGIN:VEVENT
DTSTART;TZID=America/New_York:20211021T100000
DTEND;TZID=America/New_York:20211021T120000
DTSTAMP:20260424T085751
CREATED:20210921T212913Z
LAST-MODIFIED:20210921T212913Z
UID:10000158-1634810400-1634817600@coolspeak.com
SUMMARY:Center for Schools and Communities
DESCRIPTION:Title:Family Engagement: The Key to Your Child's Academic Success \nDescription:CoolSpeak providing Keynote Presentations and Workshops \nTheme:Family Engagement \nDate:10/19/2021 & 10/21/2021 \nTime:10/19/2021 6:00pm – 8:00pm10/21/2021 10:00am – 12:00pm \nLocation: Virtual
URL:https://coolspeak.com/event/center-for-schools-and-communities-2/
END:VEVENT
BEGIN:VEVENT
DTSTART;TZID=America/New_York:20211019T180000
DTEND;TZID=America/New_York:20211019T200000
DTSTAMP:20260424T085751
CREATED:20210921T212913Z
LAST-MODIFIED:20210921T212913Z
UID:10000157-1634666400-1634673600@coolspeak.com
SUMMARY:Center for Schools and Communities
DESCRIPTION:Title:Family Engagement: The Key to Your Child’s Academic Success \nDescription:CoolSpeak providing Keynote Presentations and Workshops \nTheme:Family Engagement \nDate:10/19/2021 & 10/21/2021 \nTime:10/19/2021 6:00pm – 8:00pm10/21/2021 10:00am – 12:00pm \nLocation: Virtual
URL:https://coolspeak.com/event/center-for-schools-and-communities/
END:VEVENT
BEGIN:VEVENT
DTSTART;TZID=America/New_York:20211019T180000
DTEND;TZID=America/New_York:20211019T200000
DTSTAMP:20260424T085751
CREATED:20210921T212913Z
LAST-MODIFIED:20210921T212913Z
UID:10000159-1634666400-1634673600@coolspeak.com
SUMMARY:Center for Schools and Communities
DESCRIPTION:Title:Family Engagement: The Key to Your Child’s Academic Success \nDescription:CoolSpeak providing Keynote Presentations and Workshops \nTheme:Family Engagement \nDate:10/19/2021 & 10/21/2021 \nTime:10/19/2021 6:00pm – 8:00pm10/21/2021 10:00am – 12:00pm \nLocation: Virtual
URL:https://coolspeak.com/event/center-for-schools-and-communities-3/
END:VEVENT
BEGIN:VEVENT
DTSTART;TZID=America/New_York:20211018T210000
DTEND;TZID=America/New_York:20211018T220000
DTSTAMP:20260424T085751
CREATED:20210930T235914Z
LAST-MODIFIED:20210930T235914Z
UID:10000213-1634590800-1634594400@coolspeak.com
SUMMARY:CSUMB CAMP Virtual Fall Programming
DESCRIPTION:Title:CSUMB CAMP Virtual Fall Programming \nDescription:Virtual Fall Student and Parent Programming \nTheme: Student and Parent Presentations \nDate: 10/18/2021 \nTime: 6:00pm – 7:00pm PST \nLocation:Virtual
URL:https://coolspeak.com/event/csumb-camp-virtual-fall-programming-2-2/
END:VEVENT
BEGIN:VEVENT
DTSTART;TZID=America/New_York:20211018T210000
DTEND;TZID=America/New_York:20211018T220000
DTSTAMP:20260424T085751
CREATED:20210930T235914Z
LAST-MODIFIED:20210930T235914Z
UID:10000210-1634590800-1634594400@coolspeak.com
SUMMARY:CSUMB CAMP Virtual Fall Programming
DESCRIPTION:Title:CSUMB CAMP Virtual Fall Programming \nDescription:Virtual Fall Student and Parent Programming \nTheme: Student and Parent Presentations \nDate: 10/18/2021 \nTime: 6:00pm – 7:00pm PST \nLocation:Virtual
URL:https://coolspeak.com/event/csumb-camp-virtual-fall-programming-2/
END:VEVENT
BEGIN:VEVENT
DTSTART;TZID=America/New_York:20211018T150000
DTEND;TZID=America/New_York:20211018T160000
DTSTAMP:20260424T085751
CREATED:20210930T235914Z
LAST-MODIFIED:20210930T235914Z
UID:10000212-1634569200-1634572800@coolspeak.com
SUMMARY:CSUMB CAMP Virtual Fall Programming
DESCRIPTION:Title:CSUMB CAMP Virtual Fall Programming \nDescription:Virtual Fall Student and Parent Programming \nTheme: Student and Parent Presentations \nDate: 10/18/2021 \nTime: 12:00pm – 1:00pm PST \nLocation:Virtual
URL:https://coolspeak.com/event/csumb-camp-virtual-fall-programming-5/
END:VEVENT
BEGIN:VEVENT
DTSTART;TZID=America/New_York:20211018T150000
DTEND;TZID=America/New_York:20211018T160000
DTSTAMP:20260424T085751
CREATED:20210930T235914Z
LAST-MODIFIED:20210930T235914Z
UID:10000209-1634569200-1634572800@coolspeak.com
SUMMARY:CSUMB CAMP Virtual Fall Programming
DESCRIPTION:Title:CSUMB CAMP Virtual Fall Programming \nDescription:Virtual Fall Student and Parent Programming \nTheme: Student and Parent Presentations \nDate: 10/18/2021 \nTime: 12:00pm – 1:00pm PST \nLocation:Virtual
URL:https://coolspeak.com/event/csumb-camp-virtual-fall-programming/
END:VEVENT
BEGIN:VEVENT
DTSTART;TZID=America/New_York:20211014T190000
DTEND;TZID=America/New_York:20211014T200000
DTSTAMP:20260424T085751
CREATED:20210913T235939Z
LAST-MODIFIED:20210913T235939Z
UID:10000152-1634238000-1634241600@coolspeak.com
SUMMARY:University of North Texas Hispanic Heritage Month Presentation with Lilyan Prad-Carrillo
DESCRIPTION:Speaker: Lilyan Prado-Carrillo\nClient: University of North Texas\nDescription: 1-hour in-person presentation for Hispanic Heritage Month.
URL:https://coolspeak.com/event/university-of-north-texas-hispanic-heritage-month-presentation-with-lilyan-prad-carrillo-2/
END:VEVENT
BEGIN:VEVENT
DTSTART;TZID=America/New_York:20211014T190000
DTEND;TZID=America/New_York:20211014T200000
DTSTAMP:20260424T085751
CREATED:20210913T235939Z
LAST-MODIFIED:20210913T235939Z
UID:10000151-1634238000-1634241600@coolspeak.com
SUMMARY:University of North Texas Hispanic Heritage Month Presentation with Lilyan Prad-Carrillo
DESCRIPTION:Speaker: Lilyan Prado-Carrillo\nClient: University of North Texas\nDescription: 1-hour in-person presentation for Hispanic Heritage Month.
URL:https://coolspeak.com/event/university-of-north-texas-hispanic-heritage-month-presentation-with-lilyan-prad-carrillo/
END:VEVENT
BEGIN:VEVENT
DTSTART;TZID=America/New_York:20211013T160000
DTEND;TZID=America/New_York:20211013T170000
DTSTAMP:20260424T085751
CREATED:20210922T164443Z
LAST-MODIFIED:20210922T164443Z
UID:10000162-1634140800-1634144400@coolspeak.com
SUMMARY:McDonald's HACER Workshop Series (Educators session)
DESCRIPTION:Title: 2021 McDonald’s HACER Education Tour  \nDescription: Student leadership summit promoting a culture of education \nDate: 10/13/2021 \nTime: 4:00pm EST  \nLocation:Virtual
URL:https://coolspeak.com/event/mcdonalds-hacer-workshop-series-educators-session/
END:VEVENT
BEGIN:VEVENT
DTSTART;TZID=America/New_York:20211013T160000
DTEND;TZID=America/New_York:20211013T170000
DTSTAMP:20260424T085751
CREATED:20210922T164443Z
LAST-MODIFIED:20210922T164443Z
UID:10000163-1634140800-1634144400@coolspeak.com
SUMMARY:McDonald's HACER Workshop Series (Educators session)
DESCRIPTION:Title: 2021 McDonald’s HACER Education Tour  \nDescription: Student leadership summit promoting a culture of education \nDate: 10/13/2021 \nTime: 4:00pm EST  \nLocation:Virtual
URL:https://coolspeak.com/event/mcdonalds-hacer-workshop-series-educators-session-3/
END:VEVENT
BEGIN:VEVENT
DTSTART;TZID=America/New_York:20211011T170000
DTEND;TZID=America/New_York:20211011T190000
DTSTAMP:20260424T085751
CREATED:20210930T225827Z
LAST-MODIFIED:20210930T225827Z
UID:10000194-1633971600-1633978800@coolspeak.com
SUMMARY:2021 Grand Island GEAR UP LatinX Male/Female Mentoring Session
DESCRIPTION:Title:2021 Grand Island GEAR UP LatinX Male/Female Mentoring Session \nDescription: Workshop Series To Help Empower Young Males & Females \nDate: 10/11/2021 \nTime:4:00pm – 6:00pm CST \nLocation:Grand Island\, NE
URL:https://coolspeak.com/event/2021-grand-island-gear-up-latinx-male-female-mentoring-session-9/
END:VEVENT
BEGIN:VEVENT
DTSTART;TZID=America/New_York:20211011T170000
DTEND;TZID=America/New_York:20211011T190000
DTSTAMP:20260424T085751
CREATED:20210930T225827Z
LAST-MODIFIED:20210930T225827Z
UID:10000193-1633971600-1633978800@coolspeak.com
SUMMARY:2021 Grand Island GEAR UP LatinX Male/Female Mentoring Session
DESCRIPTION:Title:2021 Grand Island GEAR UP LatinX Male/Female Mentoring Session \nDescription: Workshop Series To Help Empower Young Males & Females \nDate: 10/11/2021 \nTime:4:00pm – 6:00pm CST \nLocation:Grand Island\, NE
URL:https://coolspeak.com/event/2021-grand-island-gear-up-latinx-male-female-mentoring-session/
END:VEVENT
BEGIN:VEVENT
DTSTART;TZID=America/New_York:20210923T173000
DTEND;TZID=America/New_York:20210923T183000
DTSTAMP:20260424T085751
CREATED:20210914T172918Z
LAST-MODIFIED:20210914T172918Z
UID:10000153-1632418200-1632421800@coolspeak.com
SUMMARY:Dougherty County Virtual High School Sessions
DESCRIPTION:Title: Dougherty County Virtual High School Sessions\nDate: 09/23/2021\nTime: 5:30pm – 6:30pm\nLocation: Virtual
URL:https://coolspeak.com/event/dougherty-county-virtual-high-school-sessions/
END:VEVENT
BEGIN:VEVENT
DTSTART;TZID=America/New_York:20210923T173000
DTEND;TZID=America/New_York:20210923T183000
DTSTAMP:20260424T085751
CREATED:20210914T172918Z
LAST-MODIFIED:20210914T172918Z
UID:10000154-1632418200-1632421800@coolspeak.com
SUMMARY:Dougherty County Virtual High School Sessions
DESCRIPTION:Title: Dougherty County Virtual High School Sessions\nDate: 09/23/2021\nTime: 5:30pm – 6:30pm\nLocation: Virtual
URL:https://coolspeak.com/event/dougherty-county-virtual-high-school-sessions-2/
END:VEVENT
BEGIN:VEVENT
DTSTART;TZID=America/New_York:20210922T190000
DTEND;TZID=America/New_York:20210922T210000
DTSTAMP:20260424T085751
CREATED:20210908T154340Z
LAST-MODIFIED:20210908T154340Z
UID:10000141-1632337200-1632344400@coolspeak.com
SUMMARY:DEMAND Virtual Male Empowerment Program: Ernesto Mejia
DESCRIPTION:Southeast Wichita GEAR UP program has partnered with CoolSpeak to present DEMAND: Male Empowerment Program.   A monthly virtual program for high school-aged young men.  This month the featured speaker is Ernesto Mejia.
URL:https://coolspeak.com/event/demand-virtual-male-empowerment-program/
LOCATION:Wichita\, KS\, USA
END:VEVENT
BEGIN:VEVENT
DTSTART;TZID=America/New_York:20210922T190000
DTEND;TZID=America/New_York:20210922T210000
DTSTAMP:20260424T085751
CREATED:20210908T154340Z
LAST-MODIFIED:20210908T154340Z
UID:10000143-1632337200-1632344400@coolspeak.com
SUMMARY:DEMAND Virtual Male Empowerment Program: Ernesto Mejia
DESCRIPTION:Southeast Wichita GEAR UP program has partnered with CoolSpeak to present DEMAND: Male Empowerment Program.   A monthly virtual program for high school-aged young men.  This month the featured speaker is Ernesto Mejia.
URL:https://coolspeak.com/event/demand-virtual-male-empowerment-program-2/
LOCATION:Wichita\, KS\, USA
END:VEVENT
BEGIN:VEVENT
DTSTART;TZID=America/New_York:20210922T140000
DTEND;TZID=America/New_York:20210922T160000
DTSTAMP:20260424T085751
CREATED:20210913T145921Z
LAST-MODIFIED:20210913T145921Z
UID:10000124-1632319200-1632326400@coolspeak.com
SUMMARY:Kansas Kids Gear Up Mental Awareness Program
DESCRIPTION:Title: Kansas Kids Gear Up Mental Awareness Program\nDescription: Mental Health and Youth Empowerment\nLocation: El Dorado\, KS
URL:https://coolspeak.com/event/kansas-kids-gear-up-mental-awareness-program-2/
END:VEVENT
BEGIN:VEVENT
DTSTART;TZID=America/New_York:20210922T140000
DTEND;TZID=America/New_York:20210922T160000
DTSTAMP:20260424T085751
CREATED:20210913T145921Z
LAST-MODIFIED:20210913T145921Z
UID:10000135-1632319200-1632326400@coolspeak.com
SUMMARY:Kansas Kids Gear Up Mental Awareness Program
DESCRIPTION:Title: Kansas Kids Gear Up Mental Awareness Program\nDescription: Mental Health and Youth Empowerment\nLocation: El Dorado\, KS
URL:https://coolspeak.com/event/kansas-kids-gear-up-mental-awareness-program/
END:VEVENT
BEGIN:VEVENT
DTSTART;TZID=America/New_York:20210920T100000
DTEND;TZID=America/New_York:20210920T130000
DTSTAMP:20260424T085751
CREATED:20210913T155907Z
LAST-MODIFIED:20210913T155907Z
UID:10000149-1632132000-1632142800@coolspeak.com
SUMMARY:2021 South San Antonio ISD GEAR UP Presentations
DESCRIPTION:Title: 2021 South San Antonio ISD GEAR UP Presentations\nDescription: GEAR UP Motivational Presentations by Joaquin Zihuatanejo\nTheme: GEAR UP Week\nDate: 09/20/2021\nLocation: San Antonio\, TX
URL:https://coolspeak.com/event/2021-south-san-antonio-isd-gear-up-presentations/
END:VEVENT
BEGIN:VEVENT
DTSTART;TZID=America/New_York:20210920T100000
DTEND;TZID=America/New_York:20210920T130000
DTSTAMP:20260424T085751
CREATED:20210913T155907Z
LAST-MODIFIED:20210913T155907Z
UID:10000150-1632132000-1632142800@coolspeak.com
SUMMARY:2021 South San Antonio ISD GEAR UP Presentations
DESCRIPTION:Title: 2021 South San Antonio ISD GEAR UP Presentations\nDescription: GEAR UP Motivational Presentations by Joaquin Zihuatanejo\nTheme: GEAR UP Week\nDate: 09/20/2021\nLocation: San Antonio\, TX
URL:https://coolspeak.com/event/2021-south-san-antonio-isd-gear-up-presentations-2/
END:VEVENT
END:VCALENDAR