BEGIN:VCALENDAR
VERSION:2.0
PRODID:-//CoolSpeak - ECPv6.15.18//NONSGML v1.0//EN
CALSCALE:GREGORIAN
METHOD:PUBLISH
X-WR-CALNAME:CoolSpeak
X-ORIGINAL-URL:https://coolspeak.com
X-WR-CALDESC:Events for CoolSpeak
REFRESH-INTERVAL;VALUE=DURATION:PT1H
X-Robots-Tag:noindex
X-PUBLISHED-TTL:PT1H
BEGIN:VTIMEZONE
TZID:America/New_York
BEGIN:DAYLIGHT
TZOFFSETFROM:-0500
TZOFFSETTO:-0400
TZNAME:EDT
DTSTART:20240310T070000
END:DAYLIGHT
BEGIN:STANDARD
TZOFFSETFROM:-0400
TZOFFSETTO:-0500
TZNAME:EST
DTSTART:20241103T060000
END:STANDARD
BEGIN:DAYLIGHT
TZOFFSETFROM:-0500
TZOFFSETTO:-0400
TZNAME:EDT
DTSTART:20250309T070000
END:DAYLIGHT
BEGIN:STANDARD
TZOFFSETFROM:-0400
TZOFFSETTO:-0500
TZNAME:EST
DTSTART:20251102T060000
END:STANDARD
BEGIN:DAYLIGHT
TZOFFSETFROM:-0500
TZOFFSETTO:-0400
TZNAME:EDT
DTSTART:20260308T070000
END:DAYLIGHT
BEGIN:STANDARD
TZOFFSETFROM:-0400
TZOFFSETTO:-0500
TZNAME:EST
DTSTART:20261101T060000
END:STANDARD
END:VTIMEZONE
BEGIN:VEVENT
DTSTART;TZID=America/New_York:20250924T080000
DTEND;TZID=America/New_York:20250924T200000
DTSTAMP:20260421T061551
CREATED:20250909T221126Z
LAST-MODIFIED:20250919T052649Z
UID:10002004-1758700800-1758744000@coolspeak.com
SUMMARY:Coldspring Oakhurts HS GEAR UP Week with Marlon Lizama
DESCRIPTION:Speaker: Marlon Lizama\nEvent Title: Fall 2025 R2 UT Austin GEAR UP Week ColdSpring Oakhurst with Marlon Lizama\nClient Program/Organization: University of Texas at Austin\nEvent Description: Presentation by Marlon Lizama\nTheme: Celebrating GEAR UP Week\nStart Date: 2025-09-24\nEnd Date: 2025-09-24\nStart Time: 8:45 AM\nEnd Time: 10:00 AM\nCity/State: Coldspring\, TX\nAudience: High School\nNumber attending: 250
URL:https://coolspeak.com/event/coldspring-oakhurts-hs-gear-up-week-with-marlon-lizama/
CATEGORIES:Event
END:VEVENT
BEGIN:VEVENT
DTSTART;TZID=America/New_York:20250924T080000
DTEND;TZID=America/New_York:20250924T200000
DTSTAMP:20260421T061551
CREATED:20250907T041155Z
LAST-MODIFIED:20250919T052649Z
UID:10002001-1758700800-1758744000@coolspeak.com
SUMMARY:Fall 2025 Lamar State College Port Arthur
DESCRIPTION:Speaker: Juan Cangas\nEvent: Fall 2025 Lamar State College Port Arthur\nDescription: Juan will share his story and provide a workshop with the students of Lamar State College\nTheme: Motivation\nDate:  9/24/2025\nPresentation Start Time:  11:00 AM\nWorkshop Start Time: 12:00 PM\nEvent Address: Port Arthur\, TX\nNumber Attending: 50
URL:https://coolspeak.com/event/fall-2025-lamar-state-college-port-arthur/
CATEGORIES:Event
END:VEVENT
BEGIN:VEVENT
DTSTART;TZID=America/New_York:20250924T080000
DTEND;TZID=America/New_York:20250924T200000
DTSTAMP:20260421T061551
CREATED:20250829T045636Z
LAST-MODIFIED:20250919T052649Z
UID:10001987-1758700800-1758744000@coolspeak.com
SUMMARY:2025 University of Washington GEAR UP Week 3 Day Tour
DESCRIPTION:Speaker:\n\nDr. Laura Rizo\n\n\nEvent: \n\n2025 University of Washington GEAR UP Week 3 Day Tour\n\n\nDescription: \n\nSummer Bridge program for middle school students\n\n\nTheme: \n\nSummer Bridge\n\n\nDate:  \n\n9/22/2025 – 9/24/2025\n\n\nPresentation Start Time:  \n\n9:00 AM\n\n\nWorkshop Start Time: \n\n10:00 AM\n\n\nEvent Address: \n\nYakima\, WA\n\n\nAudience: \n\nMiddle School\n\n\nNumber Attending: \n\n2\,000
URL:https://coolspeak.com/event/2025-university-of-washington-gear-up-week-3-day-tour-3/
CATEGORIES:Event
END:VEVENT
BEGIN:VEVENT
DTSTART;TZID=America/New_York:20250924T080000
DTEND;TZID=America/New_York:20250924T200000
DTSTAMP:20260421T061551
CREATED:20250829T045636Z
LAST-MODIFIED:20250919T052649Z
UID:10001988-1758700800-1758744000@coolspeak.com
SUMMARY:Fall 2025 Auburn University GEAR UP Week 5 School Tour
DESCRIPTION:Speaker:\n\nChris Collins\n\n\nEvent: \n\nFall 2025 Auburn University GEAR UP Week 5 School Tour\n\n\nDescription: \n\nCoolSpeak will deliver a keynote to the students of Russell County and Eufaula High School\n\n\nTheme: \n\nGEAR UP Week\n\n\nDate:  \n\n9/24/2025\n\n\nPresentation Start Time:  \n\n9:00 AM\n\n\nEvent Address: \n\nBrundidge\, AL\n\n\nVenue: \n\nSchool Auditorium\n\n\nAudience: \n\nHigh School\n\n\nNumber Attending: \n\n441
URL:https://coolspeak.com/event/fall-2025-auburn-university-gear-up-week-5-school-tour-3/
CATEGORIES:Event
END:VEVENT
BEGIN:VEVENT
DTSTART;TZID=America/New_York:20250924T080000
DTEND;TZID=America/New_York:20250924T200000
DTSTAMP:20260421T061551
CREATED:20250814T205709Z
LAST-MODIFIED:20250825T175728Z
UID:10001959-1758700800-1758744000@coolspeak.com
SUMMARY:2025 Greeley Schools District6 GEAR UP Week Student and Family Engagement Programming.
DESCRIPTION:Below are the event details: \n\nSpeaker: \n\nJuan Cangas\n\n\nEvent Title: \n\n2025 Greeley Schools District6 GEAR UP Week Student and Family Engagement Programming.\n\n\nClient Program/Organization: \n\nGreeley Schools\n\n\nEvent Description: \n\nJuan Cangas will be providing Student and Family Engagement programming over the course of three days.\n\n\nTheme: \n\nStudent/Family Engagement\, Post-Secondary Awareness\, GEAR UP.\n\n\nStart Date: \n\n2025-09-23\n\n\nEnd Date: \n\n2025-09-25\n\n\nStart Time: \n\n8:00 AM\n\n\nEnd Time: \n\n8:00 PM\n\n\nCity/State: \n\nGreeley\, CO\n\n\nAudience: \n\nMiddle School\n\n\nNumber attending: \n\n150
URL:https://coolspeak.com/event/2025-greeley-schools-district6-gear-up-week-student-and-family-engagement-programming-2/
CATEGORIES:Event
END:VEVENT
BEGIN:VEVENT
DTSTART;TZID=America/New_York:20250924T080000
DTEND;TZID=America/New_York:20250924T160000
DTSTAMP:20260421T061551
CREATED:20250825T104137Z
LAST-MODIFIED:20250919T052650Z
UID:10001975-1758700800-1758729600@coolspeak.com
SUMMARY:Josten's Fight Forward Tour - Houston\, TX
DESCRIPTION:Speaker: Carlos Ojeda Jr.\nEvent Title: 2025 Jostens Fight Forward Tour with Carlos Ojeda Jr. – Houston\, TX\nClient Program/Organization: Jostens Renaissance\nEvent Description: Carlos Ojeda Jr. will join Jostens to inspire Students and Educators to never fight back and alway fight forward.\nTheme: Students and Educators Celebration.\nStart Date: 2025-09-24\nEnd Date: 2025-09-24\nStart Time: 9:00 AM\nEnd Time: 1:00 PM\nCity/State: Houston\, TX\nAudience: High School\nNumber attending: 1500
URL:https://coolspeak.com/event/jostens-fight-forward-tour-houston-tx/
CATEGORIES:Event
END:VEVENT
BEGIN:VEVENT
DTSTART;TZID=America/New_York:20250924T080000
DTEND;TZID=America/New_York:20250924T150000
DTSTAMP:20260421T061551
CREATED:20250911T071126Z
LAST-MODIFIED:20250916T132654Z
UID:10002006-1758700800-1758726000@coolspeak.com
SUMMARY:2025 Philadelphia GEAR UP Week Celebration
DESCRIPTION:Speaker: Zach Gowen and Lilyan Prado\nEvent Title: 2025 Philadelphia GEAR UP Week Celebration.\nClient Program/Organization: The School District of Philadelphia\nEvent Description: Zach Gowen will provide Student Keynote Presentations\, and Lilyan Prado-Carrillo will provide Bilingual Presentations.\nTheme: GEAR UP Week/College Readiness/Resiliency/Youth Empowerment\nStart Date: 2025-09-24\nEnd Date: 2025-09-26\nStart Time: 8:00 AM\nEnd Time: 3:00 PM\nCity/State: Philadelphia\, PA\nAudience: High School\nNumber attending: 1000
URL:https://coolspeak.com/event/2025-philadelphia-gear-up-week-celebration/
LOCATION:Philadelphia\, PA\, USA
CATEGORIES:Event
END:VEVENT
BEGIN:VEVENT
DTSTART;TZID=America/New_York:20250924T080000
DTEND;TZID=America/New_York:20250924T140000
DTSTAMP:20260421T061551
CREATED:20250915T222618Z
LAST-MODIFIED:20250919T052650Z
UID:10002015-1758700800-1758722400@coolspeak.com
SUMMARY:DC GEAR UP Thinkfast Game Show Programming with Lamarr Womble
DESCRIPTION:Speaker: Lamarr Womble\nEvent Title: DC GEAR UP Thinkfast Game Show Programming\nClient Program/Organization: DC CAP Scholars\nEvent Description: CoolSpeak will provide Thinkfast Interactive Game Show and Keynote Presentations provided by Lamarr Womble for 9th Grade GEAR UP Students.\nTheme: GEAR UP Week/Thinkfast Game Show/College/Career Readiness.\nStart Date: 2025-09-22\nEnd Date: 2025-09-26\nStart Time: 8:00 AM\nEnd Time: 2:00 PM\nCity/State: Washington\, DC\nAudience: High School\nNumber attending: 600
URL:https://coolspeak.com/event/dc-gear-up-thinkfast-game-show-programming-with-lamarr-womble-3/
CATEGORIES:Event
END:VEVENT
BEGIN:VEVENT
DTSTART;TZID=America/New_York:20250923T100000
DTEND;TZID=America/New_York:20250923T130000
DTSTAMP:20260421T061551
CREATED:20250917T191123Z
LAST-MODIFIED:20250919T052649Z
UID:10002026-1758621600-1758632400@coolspeak.com
SUMMARY:College Now Greater Cleveland GEAR UP Week Celebration with Zach Gowen
DESCRIPTION:Speaker: Zach Gowen\nEvent Title: Euclid City Schools GEAR UP Week with Zach Gowen\nClient Program/Organization: College Now Greater Cleveland\nEvent Description: Euclid City Schools GEAR UP Week with Zach Gowen\nTheme: Celebrating GEAR UP\nStart Date: 2025-09-23\nEnd Date: 2025-09-23\nStart Time: 9:00 AM\nEnd Time: 12:00 PM\nCity/State: Euclid\, OH\nAudience: Middle School\nNumber attending: 600
URL:https://coolspeak.com/event/college-now-greater-cleveland-gear-up-week-celebration-with-zach-gowen/
CATEGORIES:Event
END:VEVENT
BEGIN:VEVENT
DTSTART;TZID=America/New_York:20250923T080000
DTEND;TZID=America/New_York:20250923T200000
DTSTAMP:20260421T061551
CREATED:20250907T015626Z
LAST-MODIFIED:20250919T052649Z
UID:10001999-1758614400-1758657600@coolspeak.com
SUMMARY:Fall 2025 Region 4 Auburn University 2 School Tour
DESCRIPTION:Speaker: Juan Cangas\nEvent: Fall 2025 Region 4 Auburn University 2 School Tour\nDescription: Juan will Share his story with the students at Region 4\nTheme: GEAR UP Week\nDate:  9/23/2025\nPresentation Start Time:  8:00 AM\nEvent Address: \, Gilbert & Butler\, AL\, \nAudience: High School\nNumber Attending: 70
URL:https://coolspeak.com/event/fall-2025-region-4-auburn-university-2-school-tour/
CATEGORIES:Event
END:VEVENT
BEGIN:VEVENT
DTSTART;TZID=America/New_York:20250923T080000
DTEND;TZID=America/New_York:20250923T200000
DTSTAMP:20260421T061551
CREATED:20250829T045636Z
LAST-MODIFIED:20250919T052649Z
UID:10001985-1758614400-1758657600@coolspeak.com
SUMMARY:2025 University of Washington GEAR UP Week 3 Day Tour
DESCRIPTION:Speaker:\n\nDr. Laura Rizo\n\n\nEvent: \n\n2025 University of Washington GEAR UP Week 3 Day Tour\n\n\nDescription: \n\nSummer Bridge program for middle school students\n\n\nTheme: \n\nSummer Bridge\n\n\nDate:  \n\n9/22/2025 – 9/24/2025\n\n\nPresentation Start Time:  \n\n9:00 AM\n\n\nWorkshop Start Time: \n\n10:00 AM\n\n\nEvent Address: \n\nYakima\, WA\n\n\nAudience: \n\nMiddle School\n\n\nNumber Attending: \n\n2\,000
URL:https://coolspeak.com/event/2025-university-of-washington-gear-up-week-3-day-tour-2/
CATEGORIES:Event
END:VEVENT
BEGIN:VEVENT
DTSTART;TZID=America/New_York:20250923T080000
DTEND;TZID=America/New_York:20250923T200000
DTSTAMP:20260421T061551
CREATED:20250829T045636Z
LAST-MODIFIED:20250919T052649Z
UID:10001986-1758614400-1758657600@coolspeak.com
SUMMARY:Fall 2025 Auburn University GEAR UP Week 5 School Tour
DESCRIPTION:Speaker:\n\nChris Collins\n\n\nEvent: \n\nFall 2025 Auburn University GEAR UP Week 5 School Tour\n\n\nDescription: \n\nCoolSpeak will deliver a keynote to the students of Russell County and Eufaula High School\n\n\nTheme: \n\nGEAR UP Week\n\n\nDate:  \n\n9/23/2025\n\n\nPresentation Start Time:  \n\n9:00 AM\n\n\nEvent Address: \n\nSeale\, AL \n\n\nVenue: \n\nSchool Auditorium\n\n\nAudience: \n\nHigh School\n\n\nNumber Attending: \n\n441
URL:https://coolspeak.com/event/fall-2025-auburn-university-gear-up-week-5-school-tour-2/
CATEGORIES:Event
END:VEVENT
BEGIN:VEVENT
DTSTART;TZID=America/New_York:20250923T080000
DTEND;TZID=America/New_York:20250923T200000
DTSTAMP:20260421T061551
CREATED:20250814T205709Z
LAST-MODIFIED:20250825T175727Z
UID:10001958-1758614400-1758657600@coolspeak.com
SUMMARY:2025 Greeley Schools District6 GEAR UP Week Student and Family Engagement Programming.
DESCRIPTION:Below are the event details: \n\nSpeaker: \n\nJuan Cangas\n\n\nEvent Title: \n\n2025 Greeley Schools District6 GEAR UP Week Student and Family Engagement Programming.\n\n\nClient Program/Organization: \n\nGreeley Schools\n\n\nEvent Description: \n\nJuan Cangas will be providing Student and Family Engagement programming over the course of three days.\n\n\nTheme: \n\nStudent/Family Engagement\, Post-Secondary Awareness\, GEAR UP.\n\n\nStart Date: \n\n2025-09-23\n\n\nEnd Date: \n\n2025-09-25\n\n\nStart Time: \n\n8:00 AM\n\n\nEnd Time: \n\n8:00 PM\n\n\nCity/State: \n\nGreeley\, CO\n\n\nAudience: \n\nMiddle School\n\n\nNumber attending: \n\n150
URL:https://coolspeak.com/event/2025-greeley-schools-district6-gear-up-week-student-and-family-engagement-programming/
CATEGORIES:Event
END:VEVENT
BEGIN:VEVENT
DTSTART;TZID=America/New_York:20250923T080000
DTEND;TZID=America/New_York:20250923T140000
DTSTAMP:20260421T061551
CREATED:20250915T222617Z
LAST-MODIFIED:20250919T052649Z
UID:10002014-1758614400-1758636000@coolspeak.com
SUMMARY:DC GEAR UP Thinkfast Game Show Programming with Lamarr Womble
DESCRIPTION:Speaker: Lamarr Womble\nEvent Title: DC GEAR UP Thinkfast Game Show Programming\nClient Program/Organization: DC CAP Scholars\nEvent Description: CoolSpeak will provide Thinkfast Interactive Game Show and Keynote Presentations provided by Lamarr Womble for 9th Grade GEAR UP Students.\nTheme: GEAR UP Week/Thinkfast Game Show/College/Career Readiness.\nStart Date: 2025-09-22\nEnd Date: 2025-09-26\nStart Time: 8:00 AM\nEnd Time: 2:00 PM\nCity/State: Washington\, DC\nAudience: High School\nNumber attending: 600
URL:https://coolspeak.com/event/dc-gear-up-thinkfast-game-show-programming-with-lamarr-womble-2/
CATEGORIES:Event
END:VEVENT
BEGIN:VEVENT
DTSTART;TZID=America/New_York:20250922T183000
DTEND;TZID=America/New_York:20250922T210000
DTSTAMP:20260421T061551
CREATED:20250828T202759Z
LAST-MODIFIED:20250919T052649Z
UID:10001982-1758565800-1758574800@coolspeak.com
SUMMARY:UT Austin GEAR UP at Jasper ISD with Lilyan Prado
DESCRIPTION:Speaker: Lilyan Prado Carrillo\nEvent Title: 2025 GEAR UP Week Jasper ISD\nClient Program/Organization: University of Texas at Austin\nEvent Description: Lilyan will deliver her keynote presentation to the families of Jasper High School during the evening event.\nTheme: GEAR UP Week\nStart Date: 2025-09-22\nEnd Date: 2025-09-22\nStart Time: 5:30 PM\nEnd Time: 8:00 PM\nCity/State: Jasper\, TX\nAudience: Parents\nNumber attending: 50
URL:https://coolspeak.com/event/ut-austin-gear-up-at-jasper-isd-with-lilyan-prado/
CATEGORIES:Event
END:VEVENT
BEGIN:VEVENT
DTSTART;TZID=America/New_York:20250922T080000
DTEND;TZID=America/New_York:20250922T200000
DTSTAMP:20260421T061551
CREATED:20250829T045635Z
LAST-MODIFIED:20250919T052649Z
UID:10001983-1758528000-1758571200@coolspeak.com
SUMMARY:Fall 2025 Auburn University GEAR UP Week 5 School Tour
DESCRIPTION:Speaker:\n\nChris Collins\n\n\nEvent: \n\nFall 2025 Auburn University GEAR UP Week 5 School Tour\n\n\nDescription: \n\nCoolSpeak will deliver a keynote to the students of Russell County and Eufaula High School\n\n\nTheme: \n\nGEAR UP Week\n\n\nDate:  \n\n9/22/2025\n\n\nPresentation Start Time:  \n\n9:00 AM\n\n\nEvent Address: \n\nEufaula\, AL\n\n\nVenue: \n\nSchool Auditorium\n\n\nAudience: \n\nHigh School\n\n\nNumber Attending: \n\n441
URL:https://coolspeak.com/event/fall-2025-auburn-university-gear-up-week-5-school-tour/
CATEGORIES:Event
END:VEVENT
BEGIN:VEVENT
DTSTART;TZID=America/New_York:20250922T080000
DTEND;TZID=America/New_York:20250922T200000
DTSTAMP:20260421T061551
CREATED:20250829T045635Z
LAST-MODIFIED:20250919T052649Z
UID:10001984-1758528000-1758571200@coolspeak.com
SUMMARY:2025 University of Washington GEAR UP Week 3 Day Tour
DESCRIPTION:Speaker:\n\nDr. Laura Rizo\n\n\nEvent: \n\n2025 University of Washington GEAR UP Week 3 Day Tour\n\n\nDescription: \n\nSummer Bridge program for middle school students\n\n\nTheme: \n\nSummer Bridge\n\n\nDate:  \n\n9/22/2025 – 9/24/2025\n\n\nPresentation Start Time:  \n\n9:00 AM\n\n\nWorkshop Start Time: \n\n10:00 AM\n\n\nEvent Address: \n\nYakima\, WA\n\n\nAudience: \n\nMiddle School\n\n\nNumber Attending: \n\n2\,000
URL:https://coolspeak.com/event/2025-university-of-washington-gear-up-week-3-day-tour/
CATEGORIES:Event
END:VEVENT
BEGIN:VEVENT
DTSTART;TZID=America/New_York:20250922T080000
DTEND;TZID=America/New_York:20250922T140000
DTSTAMP:20260421T061551
CREATED:20250915T222617Z
LAST-MODIFIED:20250916T144223Z
UID:10002013-1758528000-1758549600@coolspeak.com
SUMMARY:DC GEAR UP Thinkfast Game Show Programming with Lamarr Womble
DESCRIPTION:Speaker: Lamarr Womble\nEvent Title: DC GEAR UP Thinkfast Game Show Programming\nClient Program/Organization: DC CAP Scholars\nEvent Description: CoolSpeak will provide Thinkfast Interactive Game Show and Keynote Presentations provided by Lamarr Womble for 9th Grade GEAR UP Students.\nTheme: GEAR UP Week/Thinkfast Game Show/College/Career Readiness.\nStart Date: 2025-09-22\nEnd Date: 2025-09-26\nStart Time: 8:00 AM\nEnd Time: 2:00 PM\nCity/State: Washington\, DC\nAudience: High School\nNumber attending: 600
URL:https://coolspeak.com/event/dc-gear-up-thinkfast-game-show-programming-with-lamarr-womble/
CATEGORIES:Event
END:VEVENT
BEGIN:VEVENT
DTSTART;TZID=America/New_York:20250918T090000
DTEND;TZID=America/New_York:20250918T120000
DTSTAMP:20260421T061551
CREATED:20250915T162627Z
LAST-MODIFIED:20250918T155647Z
UID:10002012-1758186000-1758196800@coolspeak.com
SUMMARY:Morehouse College Professional Development with MJ Bridges
DESCRIPTION:Speaker: Melvin Bridges Jr.\nEvent Title: Fall 2025 Morehouse College TRIO Financial Literacy Professional Development by MJ Bridges\nClient Program/Organization: Morehouse College\nEvent Description: Professional Development for Morehouse College TRIO program\nTheme: Financial Literacy\nStart Date: 2025-09-18\nEnd Date: 2025-09-18\nStart Time: 9:00 AM\nEnd Time: 12:00 PM\nCity/State: Atlanta\, GA\nAudience: Professional\nNumber attending: 21
URL:https://coolspeak.com/event/morehouse-college-professional-development-with-mj-bridges/
CATEGORIES:Event
END:VEVENT
BEGIN:VEVENT
DTSTART;TZID=America/New_York:20250917T100000
DTEND;TZID=America/New_York:20250917T150000
DTSTAMP:20260421T061551
CREATED:20250821T182701Z
LAST-MODIFIED:20250917T181129Z
UID:10001974-1758103200-1758121200@coolspeak.com
SUMMARY:Fall 2025 Region 16 ESC Student Conference with Dr. Laura Rizo
DESCRIPTION:Speaker: Laura Rizo\nEvent Title: Region 16 ESC Student Conference\nClient Program/Organization: Region 16 Education Service Center\nEvent Description: Laura Rizo to present to high school students\nTheme: Not yet determined\nStart Date: 2025-09-17\nEnd Date: 2025-09-17\nStart Time: 9:00 AM\nEnd Time: 2:00 PM\nCity/State: AMARILLO\, TX\nAudience: High School\nNumber attending: 75
URL:https://coolspeak.com/event/fall-2025-region-16-esc-student-conference-with-dr-laura-rizo/
CATEGORIES:Event
END:VEVENT
BEGIN:VEVENT
DTSTART;TZID=America/New_York:20250917T090000
DTEND;TZID=America/New_York:20250917T201500
DTSTAMP:20260421T061551
CREATED:20250903T021150Z
LAST-MODIFIED:20250918T001128Z
UID:10001991-1758099600-1758140100@coolspeak.com
SUMMARY:Fall 2025 Blount County Schools Family Night
DESCRIPTION:Speaker:\n\nErnesto Mejia\n\n\nEvent: \n\nFall 2025 Blount County Schools Family Night\n\n\nDescription: \n\nErnesto will be working with the families of Blount County Schools\n\n\nTheme: \n\nFamily Engagement\n\n\nDate:  \n\n9/17/2025\n\n\nPresentation Start Time:  \n\n5:30 PM\n\n\nWorkshop Start Time: \n\n6:00 PM\n\n\nAudience: \n\nParents\n\n\nNumber Attending: \n\n500
URL:https://coolspeak.com/event/fall-2025-blount-county-schools-family-night/
CATEGORIES:Event
END:VEVENT
BEGIN:VEVENT
DTSTART;TZID=America/New_York:20250917T080000
DTEND;TZID=America/New_York:20250917T200000
DTSTAMP:20260421T061551
CREATED:20250820T045632Z
LAST-MODIFIED:20250917T231130Z
UID:10001973-1758096000-1758139200@coolspeak.com
SUMMARY:Fall 2025 UVU GEAR UP 2 Day Tour
DESCRIPTION:Speaker:\n\nCarlos Ojeda Jr\n\n\nEvent: \n\nFall 2025 UVU GEAR UP 2 Day Tour\n\n\nDescription: \n\nCoolSpeak will be touring 2 different school sites in Utah\n\n\nTheme: \n\nSchool Year Kickoff\n\n\nDate:  \n\n9/17/2025\n\n\nPresentation Start Time:  \n\n9:00 AM\n\n\nWorkshop Start Time: \n\n10:00 AM\n\n\nEvent Address: \n\nSalt Lake\, UT\n\n\nVenue: \n\nSchool Auditorium\n\n\nAudience: \n\nHigh School\n\n\nNumber Attending: \n\n800
URL:https://coolspeak.com/event/fall-2025-uvu-gear-up-2-day-tour-2/
CATEGORIES:Event
END:VEVENT
BEGIN:VEVENT
DTSTART;TZID=America/New_York:20250916T080000
DTEND;TZID=America/New_York:20250916T200000
DTSTAMP:20260421T061551
CREATED:20250820T045632Z
LAST-MODIFIED:20250916T225642Z
UID:10001972-1758009600-1758052800@coolspeak.com
SUMMARY:Fall 2025 UVU GEAR UP 2 Day Tour
DESCRIPTION:Speaker:\n\nCarlos Ojeda Jr\n\n\nEvent: \n\nFall 2025 UVU GEAR UP 2 Day Tour\n\n\nDescription: \n\nCoolSpeak will be touring 2 different school sites in Utah\n\n\nTheme: \n\nSchool Year Kickoff\n\n\nDate:  \n\n9/16/2025\n\n\nPresentation Start Time:  \n\n9:00 AM\n\n\nWorkshop Start Time: \n\n10:00 AM\n\n\nEvent Address: \n\nSalt Lake\, UT\n\n\nVenue: \n\nSchool Auditorium\n\n\nAudience: \n\nHigh School\n\n\nNumber Attending: \n\n800
URL:https://coolspeak.com/event/fall-2025-uvu-gear-up-2-day-tour/
CATEGORIES:Event
END:VEVENT
BEGIN:VEVENT
DTSTART;TZID=America/New_York:20250915T080000
DTEND;TZID=America/New_York:20250915T200000
DTSTAMP:20260421T061551
CREATED:20250915T105617Z
LAST-MODIFIED:20250915T232639Z
UID:10002011-1757923200-1757966400@coolspeak.com
SUMMARY:Fall 2025 UVU GEAR UP Wasatch
DESCRIPTION:Speaker: Carlos Ojeda Jr & Joaquin Zihuatanejo\nEvent Title: Fall 2025 UVU GEAR UP Wasatch\nClient Program/Organization: Utah Valley University\nEvent Description: CoolSpeak will be touring 2 different school sites in Utah\nTheme: School Year Kickoff\nDate: 9/15/2025\nStart Time: 8:00 AM\nCity/State: Heber City\, UT\nAudience: High School\nNumber attending: 800
URL:https://coolspeak.com/event/fall-2025-uvu-gear-up-wasatch/
CATEGORIES:Event
END:VEVENT
BEGIN:VEVENT
DTSTART;TZID=America/New_York:20250915T080000
DTEND;TZID=America/New_York:20250915T200000
DTSTAMP:20260421T061551
CREATED:20250907T031125Z
LAST-MODIFIED:20250915T232639Z
UID:10002000-1757923200-1757966400@coolspeak.com
SUMMARY:Fall 2025 Region 5 Auburn University at Woodlawn
DESCRIPTION:Speaker: Chris Collins\nEvent: Fall 2025 Region 5 Auburn University at Woodlawn\nDescription: Chris will share his store with the students at Woodlawn HS\nTheme: GEAR UP Week\nDate:  9/15/2025\nPresentation Start Time:  9:30 AM\nEvent Address: Birmingham\, AL\nAudience: High School\nNumber Attending: 256
URL:https://coolspeak.com/event/fall-2025-region-5-auburn-university-at-woodlawn/
CATEGORIES:Event
END:VEVENT
BEGIN:VEVENT
DTSTART;TZID=America/New_York:20250915T080000
DTEND;TZID=America/New_York:20250915T200000
DTSTAMP:20260421T061551
CREATED:20250904T044134Z
LAST-MODIFIED:20250915T232639Z
UID:10001997-1757923200-1757966400@coolspeak.com
SUMMARY:Fall 2025 Palmdale Aerospace Academy
DESCRIPTION:Speaker: Dr. Laura Rizo\nEvent: Fall 2025 Palmdale Aerospace Academy\nDescription: Dr. Rizo will share her story with Middle and High School Students\nTheme: Suicide Awareness\nDate:  9/15/2025\nPresentation Start Time:  11:00 AM\nEvent Address: Palmdale\, CA\nAudience: High School\nNumber Attending: 1\,700
URL:https://coolspeak.com/event/fall-2025-palmdale-aerospace-academy/
CATEGORIES:Event
END:VEVENT
BEGIN:VEVENT
DTSTART;TZID=America/New_York:20250913T130000
DTEND;TZID=America/New_York:20250913T160000
DTSTAMP:20260421T061551
CREATED:20250909T221125Z
LAST-MODIFIED:20250913T191125Z
UID:10002003-1757768400-1757779200@coolspeak.com
SUMMARY:Fall 2025 Marshall University Upward Bound with Lamarr Womble
DESCRIPTION:Speaker: Lamarr Womble\nEvent Title: Fall 2025 Marshall University Upward Bound with Lamarr Womble\nClient Program/Organization: Marshall University\nEvent Description: College Readiness\nTheme: Leadership\, Community Building\, and College Readiness\nStart Date: 2025-09-13\nEnd Date: 2025-09-13\nStart Time: 1:00 PM\nEnd Time: 4:00 PM\nCity/State: Huntington\, WV\nAudience: High School\nNumber attending: 50
URL:https://coolspeak.com/event/fall-2025-marshall-university-upward-bound-with-lamarr-womble/
CATEGORIES:Event
END:VEVENT
BEGIN:VEVENT
DTSTART;TZID=America/New_York:20250913T080000
DTEND;TZID=America/New_York:20250913T200000
DTSTAMP:20260421T061551
CREATED:20250904T002629Z
LAST-MODIFIED:20250913T232627Z
UID:10001992-1757750400-1757793600@coolspeak.com
SUMMARY:Visit 1 Fall 2025 San Joaquin County Office of Education PD Series
DESCRIPTION:Speaker: Juan Cangas\nEvent: Visit 1 Fall 2025 San Joaquin County Office of Education PD Series\nDescription: Juan will be working with the Families of SJCOE on Financial Fluency and Enhancing Communication\nTheme:\nDate:  9/13/2025\nPresentation Start Time:  8:00 AM\nWorkshop Start Time: 9:00 AM\nEvent Address: Stockton\, CA\nAudience: Professional\nNumber Attending: 20
URL:https://coolspeak.com/event/visit-1-fall-2025-san-joaquin-county-office-of-education-pd-series/
CATEGORIES:Event
END:VEVENT
BEGIN:VEVENT
DTSTART;VALUE=DATE:20250910
DTEND;VALUE=DATE:20250913
DTSTAMP:20260421T061551
CREATED:20250826T195823Z
LAST-MODIFIED:20250912T231126Z
UID:10001976-1757462400-1757721599@coolspeak.com
SUMMARY:Twin Falls School District Tour
DESCRIPTION:Speaker:\nEvent Title: Fall 2025 Twin Falls School District Tour with Ernesto Mejia\nClient Program/Organization: Twin Falls School District\nEvent Description: Ernesto Mejia to present to Twin Falls School District’s students\, staff\, and families.\nTheme: Engagement and Empowerment\nStart Date: 2025-09-10\nEnd Date: 2025-09-12\nStart Time: 9:00 AM\nEnd Time: 4:00 PM\nCity/State: Twin Falls\, ID\nAudience:\nNumber attending: 700
URL:https://coolspeak.com/event/twin-falls-school-district-tour/
CATEGORIES:Event
END:VEVENT
BEGIN:VEVENT
DTSTART;TZID=America/New_York:20250905T080000
DTEND;TZID=America/New_York:20250905T193000
DTSTAMP:20260421T061552
CREATED:20250430T030405Z
LAST-MODIFIED:20250905T225624Z
UID:10001802-1757059200-1757100600@coolspeak.com
SUMMARY:Spring 2025 Scott's Valley High School
DESCRIPTION:Speaker:\n\nDr. Laura Rizo\n\n\nEvent: \n\nSpring 2025 Scott’s Valley High School\n\n\nDescription: \n\nRizo will share her keynote with the entire student body and work with student leaders\n\n\nTheme: \n\nRespect Week\n\n\nDate:  \n\n9/5/2025\n\n\nPresentation Start Time:  \n\n10:30 AM\n\n\nWorkshop Start Time: \n\n11:30 AM\n\n\nAudience: \n\nHigh School\n\n\nNumber Attending: \n\n600
URL:https://coolspeak.com/event/spring-2025-scotts-valley-high-school/
CATEGORIES:Event
END:VEVENT
END:VCALENDAR