BEGIN:VCALENDAR
VERSION:2.0
PRODID:-//CoolSpeak - ECPv6.15.18//NONSGML v1.0//EN
CALSCALE:GREGORIAN
METHOD:PUBLISH
X-WR-CALNAME:CoolSpeak
X-ORIGINAL-URL:https://coolspeak.com
X-WR-CALDESC:Events for CoolSpeak
REFRESH-INTERVAL;VALUE=DURATION:PT1H
X-Robots-Tag:noindex
X-PUBLISHED-TTL:PT1H
BEGIN:VTIMEZONE
TZID:America/New_York
BEGIN:DAYLIGHT
TZOFFSETFROM:-0500
TZOFFSETTO:-0400
TZNAME:EDT
DTSTART:20200308T070000
END:DAYLIGHT
BEGIN:STANDARD
TZOFFSETFROM:-0400
TZOFFSETTO:-0500
TZNAME:EST
DTSTART:20201101T060000
END:STANDARD
BEGIN:DAYLIGHT
TZOFFSETFROM:-0500
TZOFFSETTO:-0400
TZNAME:EDT
DTSTART:20210314T070000
END:DAYLIGHT
BEGIN:STANDARD
TZOFFSETFROM:-0400
TZOFFSETTO:-0500
TZNAME:EST
DTSTART:20211107T060000
END:STANDARD
BEGIN:DAYLIGHT
TZOFFSETFROM:-0500
TZOFFSETTO:-0400
TZNAME:EDT
DTSTART:20220313T070000
END:DAYLIGHT
BEGIN:STANDARD
TZOFFSETFROM:-0400
TZOFFSETTO:-0500
TZNAME:EST
DTSTART:20221106T060000
END:STANDARD
END:VTIMEZONE
BEGIN:VEVENT
DTSTART;TZID=America/New_York:20210922T190000
DTEND;TZID=America/New_York:20210922T210000
DTSTAMP:20260424T115435
CREATED:20210908T154340Z
LAST-MODIFIED:20210908T154340Z
UID:10000141-1632337200-1632344400@coolspeak.com
SUMMARY:DEMAND Virtual Male Empowerment Program: Ernesto Mejia
DESCRIPTION:Southeast Wichita GEAR UP program has partnered with CoolSpeak to present DEMAND: Male Empowerment Program.   A monthly virtual program for high school-aged young men.  This month the featured speaker is Ernesto Mejia.
URL:https://coolspeak.com/event/demand-virtual-male-empowerment-program/
LOCATION:Wichita\, KS\, USA
END:VEVENT
BEGIN:VEVENT
DTSTART;TZID=America/New_York:20210922T190000
DTEND;TZID=America/New_York:20210922T210000
DTSTAMP:20260424T115435
CREATED:20210908T154340Z
LAST-MODIFIED:20210908T154340Z
UID:10000143-1632337200-1632344400@coolspeak.com
SUMMARY:DEMAND Virtual Male Empowerment Program: Ernesto Mejia
DESCRIPTION:Southeast Wichita GEAR UP program has partnered with CoolSpeak to present DEMAND: Male Empowerment Program.   A monthly virtual program for high school-aged young men.  This month the featured speaker is Ernesto Mejia.
URL:https://coolspeak.com/event/demand-virtual-male-empowerment-program-2/
LOCATION:Wichita\, KS\, USA
END:VEVENT
BEGIN:VEVENT
DTSTART;TZID=America/New_York:20210922T140000
DTEND;TZID=America/New_York:20210922T160000
DTSTAMP:20260424T115435
CREATED:20210913T145921Z
LAST-MODIFIED:20210913T145921Z
UID:10000124-1632319200-1632326400@coolspeak.com
SUMMARY:Kansas Kids Gear Up Mental Awareness Program
DESCRIPTION:Title: Kansas Kids Gear Up Mental Awareness Program\nDescription: Mental Health and Youth Empowerment\nLocation: El Dorado\, KS
URL:https://coolspeak.com/event/kansas-kids-gear-up-mental-awareness-program-2/
END:VEVENT
BEGIN:VEVENT
DTSTART;TZID=America/New_York:20210922T140000
DTEND;TZID=America/New_York:20210922T160000
DTSTAMP:20260424T115435
CREATED:20210913T145921Z
LAST-MODIFIED:20210913T145921Z
UID:10000135-1632319200-1632326400@coolspeak.com
SUMMARY:Kansas Kids Gear Up Mental Awareness Program
DESCRIPTION:Title: Kansas Kids Gear Up Mental Awareness Program\nDescription: Mental Health and Youth Empowerment\nLocation: El Dorado\, KS
URL:https://coolspeak.com/event/kansas-kids-gear-up-mental-awareness-program/
END:VEVENT
BEGIN:VEVENT
DTSTART;TZID=America/New_York:20210920T100000
DTEND;TZID=America/New_York:20210920T130000
DTSTAMP:20260424T115435
CREATED:20210913T155907Z
LAST-MODIFIED:20210913T155907Z
UID:10000149-1632132000-1632142800@coolspeak.com
SUMMARY:2021 South San Antonio ISD GEAR UP Presentations
DESCRIPTION:Title: 2021 South San Antonio ISD GEAR UP Presentations\nDescription: GEAR UP Motivational Presentations by Joaquin Zihuatanejo\nTheme: GEAR UP Week\nDate: 09/20/2021\nLocation: San Antonio\, TX
URL:https://coolspeak.com/event/2021-south-san-antonio-isd-gear-up-presentations/
END:VEVENT
BEGIN:VEVENT
DTSTART;TZID=America/New_York:20210920T100000
DTEND;TZID=America/New_York:20210920T130000
DTSTAMP:20260424T115435
CREATED:20210913T155907Z
LAST-MODIFIED:20210913T155907Z
UID:10000150-1632132000-1632142800@coolspeak.com
SUMMARY:2021 South San Antonio ISD GEAR UP Presentations
DESCRIPTION:Title: 2021 South San Antonio ISD GEAR UP Presentations\nDescription: GEAR UP Motivational Presentations by Joaquin Zihuatanejo\nTheme: GEAR UP Week\nDate: 09/20/2021\nLocation: San Antonio\, TX
URL:https://coolspeak.com/event/2021-south-san-antonio-isd-gear-up-presentations-2/
END:VEVENT
BEGIN:VEVENT
DTSTART;TZID=America/New_York:20210917T080000
DTEND;TZID=America/New_York:20210917T090000
DTSTAMP:20260424T115435
CREATED:20210913T145921Z
LAST-MODIFIED:20210913T145921Z
UID:10000147-1631865600-1631869200@coolspeak.com
SUMMARY:High Risk Maneuvers Presentations
DESCRIPTION:Title: High Risk Maneuvers Presentations\nDescription: Keynote by Zach Gowen\nTheme: Resiliency and Motivation\nDate: 09/17/2021\nLocation: Quincy\, MI
URL:https://coolspeak.com/event/high-risk-maneuvers-presentations/
END:VEVENT
BEGIN:VEVENT
DTSTART;TZID=America/New_York:20210917T080000
DTEND;TZID=America/New_York:20210917T090000
DTSTAMP:20260424T115435
CREATED:20210913T145921Z
LAST-MODIFIED:20210913T145921Z
UID:10000148-1631865600-1631869200@coolspeak.com
SUMMARY:High Risk Maneuvers Presentations
DESCRIPTION:Title: High Risk Maneuvers Presentations\nDescription: Keynote by Zach Gowen\nTheme: Resiliency and Motivation\nDate: 09/17/2021\nLocation: Quincy\, MI
URL:https://coolspeak.com/event/high-risk-maneuvers-presentations-2/
END:VEVENT
BEGIN:VEVENT
DTSTART;TZID=America/New_York:20210914T110000
DTEND;TZID=America/New_York:20210914T120000
DTSTAMP:20260424T115435
CREATED:20210909T132927Z
LAST-MODIFIED:20210909T132927Z
UID:10000145-1631617200-1631620800@coolspeak.com
SUMMARY:TASC District 13
DESCRIPTION:Description: Cultural Acceptance Keynote Presentation provided by Chris Collins.\nDate:  9/14/2021\nPresentation Start Time:  10:00 AM\nLocation: Missouri\, TX
URL:https://coolspeak.com/event/tasc-district-13/
END:VEVENT
BEGIN:VEVENT
DTSTART;TZID=America/New_York:20210914T110000
DTEND;TZID=America/New_York:20210914T120000
DTSTAMP:20260424T115435
CREATED:20210909T132927Z
LAST-MODIFIED:20210909T132927Z
UID:10000146-1631617200-1631620800@coolspeak.com
SUMMARY:TASC District 13
DESCRIPTION:Description: Cultural Acceptance Keynote Presentation provided by Chris Collins.\nDate:  9/14/2021\nPresentation Start Time:  10:00 AM\nLocation: Missouri\, TX
URL:https://coolspeak.com/event/tasc-district-13-2/
END:VEVENT
BEGIN:VEVENT
DTSTART;TZID=America/New_York:20210827T170000
DTEND;TZID=America/New_York:20210827T180000
DTSTAMP:20260424T115435
CREATED:20210802T152811Z
LAST-MODIFIED:20210802T152811Z
UID:10000138-1630083600-1630087200@coolspeak.com
SUMMARY:Arcadia University In-Person Presentation with Carlos Ojeda Jr.
DESCRIPTION:Speaker: Carlos Ojeda Jr.\nClient: Arcadia University\nDescription: Orientation presentation for students to gain knowledge regarding diversity\, equity\, inclusion\, and anti-black racism.
URL:https://coolspeak.com/event/arcadia-university-in-person-presentation-with-carlos-ojeda-jr/
END:VEVENT
BEGIN:VEVENT
DTSTART;TZID=America/New_York:20210827T170000
DTEND;TZID=America/New_York:20210827T180000
DTSTAMP:20260424T115435
CREATED:20210802T152811Z
LAST-MODIFIED:20210802T152811Z
UID:10000140-1630083600-1630087200@coolspeak.com
SUMMARY:Arcadia University In-Person Presentation with Carlos Ojeda Jr.
DESCRIPTION:Speaker: Carlos Ojeda Jr.\nClient: Arcadia University\nDescription: Orientation presentation for students to gain knowledge regarding diversity\, equity\, inclusion\, and anti-black racism.
URL:https://coolspeak.com/event/arcadia-university-in-person-presentation-with-carlos-ojeda-jr-2/
END:VEVENT
BEGIN:VEVENT
DTSTART;TZID=America/New_York:20210820T090000
DTEND;TZID=America/New_York:20210820T110000
DTSTAMP:20260424T115435
CREATED:20210720T233010Z
LAST-MODIFIED:20210720T233010Z
UID:10000136-1629450000-1629457200@coolspeak.com
SUMMARY:August Meridan CT “GU Kick-Off” Transition into High School.
DESCRIPTION:Speaker: 4 CoolFacilitators\nClient: Meridan CT GEAR UP\nDescription: In-person Camp SEL\, team-building\, leadership for 2 High Schools.
URL:https://coolspeak.com/event/august-meridan-ct-gu-kick-off-transition-into-high-school-2/
END:VEVENT
BEGIN:VEVENT
DTSTART;TZID=America/New_York:20210820T090000
DTEND;TZID=America/New_York:20210820T110000
DTSTAMP:20260424T115435
CREATED:20210720T233010Z
LAST-MODIFIED:20210720T233010Z
UID:10000134-1629450000-1629457200@coolspeak.com
SUMMARY:August Meridan CT “GU Kick-Off” Transition into High School.
DESCRIPTION:Speaker: 4 CoolFacilitators\nClient: Meridan CT GEAR UP\nDescription: In-person Camp SEL\, team-building\, leadership for 2 High Schools.
URL:https://coolspeak.com/event/august-meridan-ct-gu-kick-off-transition-into-high-school/
END:VEVENT
BEGIN:VEVENT
DTSTART;TZID=America/New_York:20210819T090000
DTEND;TZID=America/New_York:20210819T110000
DTSTAMP:20260424T115435
CREATED:20210719T235806Z
LAST-MODIFIED:20210719T235806Z
UID:10000132-1629363600-1629370800@coolspeak.com
SUMMARY:August Meriden CT “GU Kick-Off” Transition into High School
DESCRIPTION:Speaker: 4 CoolFacilitatorsClient: Meridan CT GEAR UPDescription: In-person Camp SEL\, team-building\, leadership for 2 High Schools. \n \n \n 
URL:https://coolspeak.com/event/august-meriden-ct-gu-kick-off-transition-into-high-school/
END:VEVENT
BEGIN:VEVENT
DTSTART;TZID=America/New_York:20210819T090000
DTEND;TZID=America/New_York:20210819T110000
DTSTAMP:20260424T115435
CREATED:20210719T235806Z
LAST-MODIFIED:20210719T235806Z
UID:10000133-1629363600-1629370800@coolspeak.com
SUMMARY:August Meriden CT “GU Kick-Off” Transition into High School
DESCRIPTION:Speaker: 4 CoolFacilitatorsClient: Meridan CT GEAR UPDescription: In-person Camp SEL\, team-building\, leadership for 2 High Schools. \n \n \n 
URL:https://coolspeak.com/event/august-meriden-ct-gu-kick-off-transition-into-high-school-2/
END:VEVENT
BEGIN:VEVENT
DTSTART;TZID=America/New_York:20210816T130000
DTEND;TZID=America/New_York:20210820T180000
DTSTAMP:20260424T115435
CREATED:20210716T231556Z
LAST-MODIFIED:20210716T231556Z
UID:10000130-1629118800-1629482400@coolspeak.com
SUMMARY:CSUMB
DESCRIPTION:
URL:https://coolspeak.com/event/csumb/
END:VEVENT
BEGIN:VEVENT
DTSTART;TZID=America/New_York:20210816T130000
DTEND;TZID=America/New_York:20210820T180000
DTSTAMP:20260424T115435
CREATED:20210716T231556Z
LAST-MODIFIED:20210716T231556Z
UID:10000131-1629118800-1629482400@coolspeak.com
SUMMARY:CSUMB
DESCRIPTION:
URL:https://coolspeak.com/event/csumb-2/
END:VEVENT
BEGIN:VEVENT
DTSTART;TZID=America/New_York:20210812T170000
DTEND;TZID=America/New_York:20210812T180000
DTSTAMP:20260424T115435
CREATED:20210802T152811Z
LAST-MODIFIED:20210802T152811Z
UID:10000137-1628787600-1628791200@coolspeak.com
SUMMARY:Arcadia University Virtual Presentation with Carlos Ojeda Jr.
DESCRIPTION:Speaker: Carlos Ojeda Jr.\nClient: Arcadia University\nDescription: 1-hour virtual keynote presentation.
URL:https://coolspeak.com/event/arcadia-university-virtual-presentation-with-carlos-ojeda-jr/
END:VEVENT
BEGIN:VEVENT
DTSTART;TZID=America/New_York:20210812T170000
DTEND;TZID=America/New_York:20210812T180000
DTSTAMP:20260424T115435
CREATED:20210802T152811Z
LAST-MODIFIED:20210802T152811Z
UID:10000139-1628787600-1628791200@coolspeak.com
SUMMARY:Arcadia University Virtual Presentation with Carlos Ojeda Jr.
DESCRIPTION:Speaker: Carlos Ojeda Jr.\nClient: Arcadia University\nDescription: 1-hour virtual keynote presentation.
URL:https://coolspeak.com/event/arcadia-university-virtual-presentation-with-carlos-ojeda-jr-2/
END:VEVENT
BEGIN:VEVENT
DTSTART;TZID=America/New_York:20210810T000000
DTEND;TZID=America/New_York:20210812T235959
DTSTAMP:20260424T115435
CREATED:20210711T000040Z
LAST-MODIFIED:20210711T000040Z
UID:10000128-1628553600-1628812799@coolspeak.com
SUMMARY:2021 Washington State University GEAR UP Power of YOUth Virtual Conference
DESCRIPTION:Speaker: CoolSpeak Team\nClient: Washington State University GEAR UP\nDescription: 3-day virtual summer youth conference
URL:https://coolspeak.com/event/2021-washington-state-university-gear-up-power-of-youth-virtual-conference/
END:VEVENT
BEGIN:VEVENT
DTSTART;TZID=America/New_York:20210810T000000
DTEND;TZID=America/New_York:20210812T235959
DTSTAMP:20260424T115435
CREATED:20210711T000040Z
LAST-MODIFIED:20210711T000040Z
UID:10000129-1628553600-1628812799@coolspeak.com
SUMMARY:2021 Washington State University GEAR UP Power of YOUth Virtual Conference
DESCRIPTION:Speaker: CoolSpeak Team\nClient: Washington State University GEAR UP\nDescription: 3-day virtual summer youth conference
URL:https://coolspeak.com/event/2021-washington-state-university-gear-up-power-of-youth-virtual-conference-2/
END:VEVENT
BEGIN:VEVENT
DTSTART;TZID=America/New_York:20210802T000000
DTEND;TZID=America/New_York:20210806T235959
DTSTAMP:20260424T115435
CREATED:20210702T232858Z
LAST-MODIFIED:20210702T232858Z
UID:10000126-1627862400-1628294399@coolspeak.com
SUMMARY:MEP BRAIN STEM VIRTUAL CAMP
DESCRIPTION:
URL:https://coolspeak.com/event/mep-brain-stem-virtual-camp/
END:VEVENT
BEGIN:VEVENT
DTSTART;TZID=America/New_York:20210802T000000
DTEND;TZID=America/New_York:20210806T235959
DTSTAMP:20260424T115435
CREATED:20210702T232858Z
LAST-MODIFIED:20210702T232858Z
UID:10000127-1627862400-1628294399@coolspeak.com
SUMMARY:MEP BRAIN STEM VIRTUAL CAMP
DESCRIPTION:
URL:https://coolspeak.com/event/mep-brain-stem-virtual-camp-2/
END:VEVENT
BEGIN:VEVENT
DTSTART;TZID=America/New_York:20210726T140000
DTEND;TZID=America/New_York:20210729T153000
DTSTAMP:20260424T115435
CREATED:20210626T001501Z
LAST-MODIFIED:20210626T001501Z
UID:10000123-1627308000-1627572600@coolspeak.com
SUMMARY:Grand Island GEAR UP Virtual Leadership Summer Camp
DESCRIPTION:Speaker: CoolSpeak\nClient: Grand Island GEAR UP\nDescription:\nVirtual Presentation for 1.5 Hours of Content.\nTime: 1-2:30PM
URL:https://coolspeak.com/event/grand-island-gear-up-virtual-leadership-summer-camp/
END:VEVENT
BEGIN:VEVENT
DTSTART;TZID=America/New_York:20210726T140000
DTEND;TZID=America/New_York:20210729T153000
DTSTAMP:20260424T115435
CREATED:20210626T001501Z
LAST-MODIFIED:20210626T001501Z
UID:10000125-1627308000-1627572600@coolspeak.com
SUMMARY:Grand Island GEAR UP Virtual Leadership Summer Camp
DESCRIPTION:Speaker: CoolSpeak\nClient: Grand Island GEAR UP\nDescription:\nVirtual Presentation for 1.5 Hours of Content.\nTime: 1-2:30PM
URL:https://coolspeak.com/event/grand-island-gear-up-virtual-leadership-summer-camp-2/
END:VEVENT
BEGIN:VEVENT
DTSTART;TZID=America/New_York:20210716T130000
DTEND;TZID=America/New_York:20210716T150000
DTSTAMP:20260424T115435
CREATED:20210615T232930Z
LAST-MODIFIED:20210615T232930Z
UID:10000121-1626440400-1626447600@coolspeak.com
SUMMARY:Fresno State University Upward Bound
DESCRIPTION:Speaker: Joaquin Zihuatanejo\nClient: Fresno State University Upward Bound\nDescription: 2-hr Virtual Writing Workshop for Upward Bound Students
URL:https://coolspeak.com/event/fresno-state-university-upward-bound/
END:VEVENT
BEGIN:VEVENT
DTSTART;TZID=America/New_York:20210716T130000
DTEND;TZID=America/New_York:20210716T150000
DTSTAMP:20260424T115435
CREATED:20210615T232930Z
LAST-MODIFIED:20210615T232930Z
UID:10000122-1626440400-1626447600@coolspeak.com
SUMMARY:Fresno State University Upward Bound
DESCRIPTION:Speaker: Joaquin Zihuatanejo\nClient: Fresno State University Upward Bound\nDescription: 2-hr Virtual Writing Workshop for Upward Bound Students
URL:https://coolspeak.com/event/fresno-state-university-upward-bound-2/
END:VEVENT
BEGIN:VEVENT
DTSTART;TZID=America/New_York:20210709T113000
DTEND;TZID=America/New_York:20210709T123000
DTSTAMP:20260424T115435
CREATED:20210608T231341Z
LAST-MODIFIED:20210608T231341Z
UID:10000117-1625830200-1625833800@coolspeak.com
SUMMARY:Arizona State University - GEAR UP Virtual Gratitude Presentation with Ernesto Mejia.
DESCRIPTION:Speaker: Ernesto Mejia\nClient: Arizona State University GEAR UP\nDescription: 1-hour Virtual Gratitude Presentation.\nClient will provide a virtual zoom link.
URL:https://coolspeak.com/event/arizona-state-university-gear-up-virtual-gratitude-presentation-with-ernesto-mejia/
END:VEVENT
BEGIN:VEVENT
DTSTART;TZID=America/New_York:20210709T113000
DTEND;TZID=America/New_York:20210709T123000
DTSTAMP:20260424T115435
CREATED:20210608T231341Z
LAST-MODIFIED:20210608T231341Z
UID:10000119-1625830200-1625833800@coolspeak.com
SUMMARY:Arizona State University - GEAR UP Virtual Gratitude Presentation with Ernesto Mejia.
DESCRIPTION:Speaker: Ernesto Mejia\nClient: Arizona State University GEAR UP\nDescription: 1-hour Virtual Gratitude Presentation.\nClient will provide a virtual zoom link.
URL:https://coolspeak.com/event/arizona-state-university-gear-up-virtual-gratitude-presentation-with-ernesto-mejia-2/
END:VEVENT
END:VCALENDAR