BEGIN:VCALENDAR
VERSION:2.0
PRODID:-//CoolSpeak - ECPv6.15.18//NONSGML v1.0//EN
CALSCALE:GREGORIAN
METHOD:PUBLISH
X-WR-CALNAME:CoolSpeak
X-ORIGINAL-URL:https://coolspeak.com
X-WR-CALDESC:Events for CoolSpeak
REFRESH-INTERVAL;VALUE=DURATION:PT1H
X-Robots-Tag:noindex
X-PUBLISHED-TTL:PT1H
BEGIN:VTIMEZONE
TZID:America/New_York
BEGIN:DAYLIGHT
TZOFFSETFROM:-0500
TZOFFSETTO:-0400
TZNAME:EDT
DTSTART:20200308T070000
END:DAYLIGHT
BEGIN:STANDARD
TZOFFSETFROM:-0400
TZOFFSETTO:-0500
TZNAME:EST
DTSTART:20201101T060000
END:STANDARD
BEGIN:DAYLIGHT
TZOFFSETFROM:-0500
TZOFFSETTO:-0400
TZNAME:EDT
DTSTART:20210314T070000
END:DAYLIGHT
BEGIN:STANDARD
TZOFFSETFROM:-0400
TZOFFSETTO:-0500
TZNAME:EST
DTSTART:20211107T060000
END:STANDARD
BEGIN:DAYLIGHT
TZOFFSETFROM:-0500
TZOFFSETTO:-0400
TZNAME:EDT
DTSTART:20220313T070000
END:DAYLIGHT
BEGIN:STANDARD
TZOFFSETFROM:-0400
TZOFFSETTO:-0500
TZNAME:EST
DTSTART:20221106T060000
END:STANDARD
END:VTIMEZONE
BEGIN:VEVENT
DTSTART;TZID=America/New_York:20210726T140000
DTEND;TZID=America/New_York:20210729T153000
DTSTAMP:20260424T145101
CREATED:20210626T001501Z
LAST-MODIFIED:20210626T001501Z
UID:10000123-1627308000-1627572600@coolspeak.com
SUMMARY:Grand Island GEAR UP Virtual Leadership Summer Camp
DESCRIPTION:Speaker: CoolSpeak\nClient: Grand Island GEAR UP\nDescription:\nVirtual Presentation for 1.5 Hours of Content.\nTime: 1-2:30PM
URL:https://coolspeak.com/event/grand-island-gear-up-virtual-leadership-summer-camp/
END:VEVENT
BEGIN:VEVENT
DTSTART;TZID=America/New_York:20210726T140000
DTEND;TZID=America/New_York:20210729T153000
DTSTAMP:20260424T145101
CREATED:20210626T001501Z
LAST-MODIFIED:20210626T001501Z
UID:10000125-1627308000-1627572600@coolspeak.com
SUMMARY:Grand Island GEAR UP Virtual Leadership Summer Camp
DESCRIPTION:Speaker: CoolSpeak\nClient: Grand Island GEAR UP\nDescription:\nVirtual Presentation for 1.5 Hours of Content.\nTime: 1-2:30PM
URL:https://coolspeak.com/event/grand-island-gear-up-virtual-leadership-summer-camp-2/
END:VEVENT
BEGIN:VEVENT
DTSTART;TZID=America/New_York:20210716T130000
DTEND;TZID=America/New_York:20210716T150000
DTSTAMP:20260424T145101
CREATED:20210615T232930Z
LAST-MODIFIED:20210615T232930Z
UID:10000121-1626440400-1626447600@coolspeak.com
SUMMARY:Fresno State University Upward Bound
DESCRIPTION:Speaker: Joaquin Zihuatanejo\nClient: Fresno State University Upward Bound\nDescription: 2-hr Virtual Writing Workshop for Upward Bound Students
URL:https://coolspeak.com/event/fresno-state-university-upward-bound/
END:VEVENT
BEGIN:VEVENT
DTSTART;TZID=America/New_York:20210716T130000
DTEND;TZID=America/New_York:20210716T150000
DTSTAMP:20260424T145101
CREATED:20210615T232930Z
LAST-MODIFIED:20210615T232930Z
UID:10000122-1626440400-1626447600@coolspeak.com
SUMMARY:Fresno State University Upward Bound
DESCRIPTION:Speaker: Joaquin Zihuatanejo\nClient: Fresno State University Upward Bound\nDescription: 2-hr Virtual Writing Workshop for Upward Bound Students
URL:https://coolspeak.com/event/fresno-state-university-upward-bound-2/
END:VEVENT
BEGIN:VEVENT
DTSTART;TZID=America/New_York:20210709T113000
DTEND;TZID=America/New_York:20210709T123000
DTSTAMP:20260424T145101
CREATED:20210608T231341Z
LAST-MODIFIED:20210608T231341Z
UID:10000119-1625830200-1625833800@coolspeak.com
SUMMARY:Arizona State University - GEAR UP Virtual Gratitude Presentation with Ernesto Mejia.
DESCRIPTION:Speaker: Ernesto Mejia\nClient: Arizona State University GEAR UP\nDescription: 1-hour Virtual Gratitude Presentation.\nClient will provide a virtual zoom link.
URL:https://coolspeak.com/event/arizona-state-university-gear-up-virtual-gratitude-presentation-with-ernesto-mejia-2/
END:VEVENT
BEGIN:VEVENT
DTSTART;TZID=America/New_York:20210709T113000
DTEND;TZID=America/New_York:20210709T123000
DTSTAMP:20260424T145101
CREATED:20210608T231341Z
LAST-MODIFIED:20210608T231341Z
UID:10000117-1625830200-1625833800@coolspeak.com
SUMMARY:Arizona State University - GEAR UP Virtual Gratitude Presentation with Ernesto Mejia.
DESCRIPTION:Speaker: Ernesto Mejia\nClient: Arizona State University GEAR UP\nDescription: 1-hour Virtual Gratitude Presentation.\nClient will provide a virtual zoom link.
URL:https://coolspeak.com/event/arizona-state-university-gear-up-virtual-gratitude-presentation-with-ernesto-mejia/
END:VEVENT
BEGIN:VEVENT
DTSTART;TZID=America/New_York:20210709T090000
DTEND;TZID=America/New_York:20210709T120000
DTSTAMP:20260424T145101
CREATED:20210608T231341Z
LAST-MODIFIED:20210608T231341Z
UID:10000118-1625821200-1625832000@coolspeak.com
SUMMARY:Rotary Club S4TL Virtual Seminar with Carlos Ojeda Jr.
DESCRIPTION:Speaker: Carlos Ojeda Jr.\nClient: Rotary Club\nDescription: 3-hour virtual presentation.  Topic: Personal Mastery.\nClient will provide a virtual zoom link.
URL:https://coolspeak.com/event/rotary-club-s4tl-virtual-seminar-with-carlos-ojeda-jr/
END:VEVENT
BEGIN:VEVENT
DTSTART;TZID=America/New_York:20210709T090000
DTEND;TZID=America/New_York:20210709T120000
DTSTAMP:20260424T145101
CREATED:20210608T231341Z
LAST-MODIFIED:20210608T231341Z
UID:10000120-1625821200-1625832000@coolspeak.com
SUMMARY:Rotary Club S4TL Virtual Seminar with Carlos Ojeda Jr.
DESCRIPTION:Speaker: Carlos Ojeda Jr.\nClient: Rotary Club\nDescription: 3-hour virtual presentation.  Topic: Personal Mastery.\nClient will provide a virtual zoom link.
URL:https://coolspeak.com/event/rotary-club-s4tl-virtual-seminar-with-carlos-ojeda-jr-2/
END:VEVENT
BEGIN:VEVENT
DTSTART;TZID=America/New_York:20210628T090000
DTEND;TZID=America/New_York:20210630T113000
DTSTAMP:20260424T145101
CREATED:20210528T231547Z
LAST-MODIFIED:20210528T231547Z
UID:10000115-1624870800-1625052600@coolspeak.com
SUMMARY:Naugatuck Valley Community College GEAR UP CT Waterbury Summer In-Person Power of YOUth Camp.
DESCRIPTION:Speaker: POY Camp CoolFacilitators\nClient: Naugatuck Valley Community College GEAR UP CT.\nDescription: In-Person Camp.  2.5 Hours of POY Curriculum.
URL:https://coolspeak.com/event/naugatuck-valley-community-college-gear-up-ct-waterbury-summer-in-person-power-of-youth-camp/
END:VEVENT
BEGIN:VEVENT
DTSTART;TZID=America/New_York:20210628T090000
DTEND;TZID=America/New_York:20210630T113000
DTSTAMP:20260424T145101
CREATED:20210528T231547Z
LAST-MODIFIED:20210528T231547Z
UID:10000116-1624870800-1625052600@coolspeak.com
SUMMARY:Naugatuck Valley Community College GEAR UP CT Waterbury Summer In-Person Power of YOUth Camp.
DESCRIPTION:Speaker: POY Camp CoolFacilitators\nClient: Naugatuck Valley Community College GEAR UP CT.\nDescription: In-Person Camp.  2.5 Hours of POY Curriculum.
URL:https://coolspeak.com/event/naugatuck-valley-community-college-gear-up-ct-waterbury-summer-in-person-power-of-youth-camp-2/
END:VEVENT
BEGIN:VEVENT
DTSTART;TZID=America/New_York:20210621T160000
DTEND;TZID=America/New_York:20210624T180000
DTSTAMP:20260424T145101
CREATED:20210522T001306Z
LAST-MODIFIED:20210522T001306Z
UID:10000110-1624291200-1624557600@coolspeak.com
SUMMARY:Fresno State Upward Bound CoolBridges Program
DESCRIPTION:4-5 CoolFacilitators\nClient: Fresno State Upward Bound\nDescription:\n(2) 4 day Virtual Summer Bridge Programs for 40 and 30 students.\nCoolSpeak will provide the virtual platform.
URL:https://coolspeak.com/event/fresno-state-upward-bound-coolbridges-program-2/
END:VEVENT
BEGIN:VEVENT
DTSTART;TZID=America/New_York:20210621T160000
DTEND;TZID=America/New_York:20210624T180000
DTSTAMP:20260424T145101
CREATED:20210522T001306Z
LAST-MODIFIED:20210522T001306Z
UID:10000109-1624291200-1624557600@coolspeak.com
SUMMARY:Fresno State Upward Bound CoolBridges Program
DESCRIPTION:4-5 CoolFacilitators\nClient: Fresno State Upward Bound\nDescription:\n(2) 4 day Virtual Summer Bridge Programs for 40 and 30 students.\nCoolSpeak will provide the virtual platform.
URL:https://coolspeak.com/event/fresno-state-upward-bound-coolbridges-program/
END:VEVENT
BEGIN:VEVENT
DTSTART;TZID=America/New_York:20210621T110000
DTEND;TZID=America/New_York:20210624T130000
DTSTAMP:20260424T145101
CREATED:20210528T191559Z
LAST-MODIFIED:20210528T191559Z
UID:10000112-1624273200-1624539600@coolspeak.com
SUMMARY:DeSoto ISD Virtual Camp
DESCRIPTION:
URL:https://coolspeak.com/event/desoto-isd-virtual-camp/
END:VEVENT
BEGIN:VEVENT
DTSTART;TZID=America/New_York:20210621T110000
DTEND;TZID=America/New_York:20210624T130000
DTSTAMP:20260424T145101
CREATED:20210528T191559Z
LAST-MODIFIED:20210528T191559Z
UID:10000114-1624273200-1624539600@coolspeak.com
SUMMARY:DeSoto ISD Virtual Camp
DESCRIPTION:
URL:https://coolspeak.com/event/desoto-isd-virtual-camp-2/
END:VEVENT
BEGIN:VEVENT
DTSTART;TZID=America/New_York:20210609T110000
DTEND;TZID=America/New_York:20210609T130000
DTSTAMP:20260424T145101
CREATED:20210517T131407Z
LAST-MODIFIED:20210517T131407Z
UID:10000107-1623236400-1623243600@coolspeak.com
SUMMARY:KCK GEAR UP Virtual PD with Carlos Ojeda Jr.
DESCRIPTION:This event has a video call.\nJoin: https://meet.google.com/bku-nwbx-zpk\n(US) +1 929-238-0228 PIN: 536121859#\nView more phone numbers: https://tel.meet/bku-nwbx-zpk?pin=1965446882072&hs=7
URL:https://coolspeak.com/event/kck-gear-up-virtual-pd-2/
END:VEVENT
BEGIN:VEVENT
DTSTART;TZID=America/New_York:20210609T110000
DTEND;TZID=America/New_York:20210609T130000
DTSTAMP:20260424T145101
CREATED:20210517T131407Z
LAST-MODIFIED:20210517T131407Z
UID:10000108-1623236400-1623243600@coolspeak.com
SUMMARY:KCK GEAR UP Virtual PD with Carlos Ojeda Jr.
DESCRIPTION:This event has a video call.\nJoin: https://meet.google.com/bku-nwbx-zpk\n(US) +1 929-238-0228 PIN: 536121859#\nView more phone numbers: https://tel.meet/bku-nwbx-zpk?pin=1965446882072&hs=7
URL:https://coolspeak.com/event/kck-gear-up-virtual-pd/
END:VEVENT
BEGIN:VEVENT
DTSTART;TZID=America/New_York:20210609T100000
DTEND;TZID=America/New_York:20210609T170000
DTSTAMP:20260424T145101
CREATED:20210509T235910Z
LAST-MODIFIED:20210509T235910Z
UID:10000103-1623232800-1623258000@coolspeak.com
SUMMARY:Education Service Center - Region 15 In-Person Parent & Family Training with Ernesto Mejia.
DESCRIPTION:Speaker: Ernesto Mejia\nClient: Region – 15\nDescription:\nIn-Person Training for Parent and Families.
URL:https://coolspeak.com/event/education-service-center-region-15-in-person-parent-family-training-with-ernesto-mejia/
END:VEVENT
BEGIN:VEVENT
DTSTART;TZID=America/New_York:20210609T100000
DTEND;TZID=America/New_York:20210609T170000
DTSTAMP:20260424T145101
CREATED:20210509T235910Z
LAST-MODIFIED:20210509T235910Z
UID:10000104-1623232800-1623258000@coolspeak.com
SUMMARY:Education Service Center - Region 15 In-Person Parent & Family Training with Ernesto Mejia.
DESCRIPTION:Speaker: Ernesto Mejia\nClient: Region – 15\nDescription:\nIn-Person Training for Parent and Families.
URL:https://coolspeak.com/event/education-service-center-region-15-in-person-parent-family-training-with-ernesto-mejia-2/
END:VEVENT
BEGIN:VEVENT
DTSTART;TZID=America/New_York:20210608T190000
DTEND;TZID=America/New_York:20210608T203000
DTSTAMP:20260424T145101
CREATED:20210508T231406Z
LAST-MODIFIED:20210508T231406Z
UID:10000099-1623178800-1623184200@coolspeak.com
SUMMARY:Operation Snowball\, Inc. Virtual Presentation with Carlos Ojeda Jr.
DESCRIPTION:Speaker: Carlos Ojeda Jr.\nClient: Operation Snowball\, Inc.\nDescription: Virtual Presentation on Zoom Platform for Middle School Youth\, High School Youth and Adults.  Virtual Workshop on Leadership\, Job Readiness & Career Workforce.  Client will provide Zoom Platform.\nThis event has a video call.\nJoin: https://meet.google.com/dyw-sdha-bbx\n(US) +1 774-507-0150 PIN: 854407784#\nView more phone numbers: https://tel.meet/dyw-sdha-bbx?pin=4072352028355&hs=7
URL:https://coolspeak.com/event/operation-snowball-inc-virtual-presentation-with-carlos-ojeda-jr-2/
END:VEVENT
BEGIN:VEVENT
DTSTART;TZID=America/New_York:20210608T190000
DTEND;TZID=America/New_York:20210608T203000
DTSTAMP:20260424T145101
CREATED:20210508T231406Z
LAST-MODIFIED:20210508T231406Z
UID:10000101-1623178800-1623184200@coolspeak.com
SUMMARY:Operation Snowball\, Inc. Virtual Presentation with Carlos Ojeda Jr.
DESCRIPTION:Speaker: Carlos Ojeda Jr.\nClient: Operation Snowball\, Inc.\nDescription: Virtual Presentation on Zoom Platform for Middle School Youth\, High School Youth and Adults.  Virtual Workshop on Leadership\, Job Readiness & Career Workforce.  Client will provide Zoom Platform.\nThis event has a video call.\nJoin: https://meet.google.com/dyw-sdha-bbx\n(US) +1 774-507-0150 PIN: 854407784#\nView more phone numbers: https://tel.meet/dyw-sdha-bbx?pin=4072352028355&hs=7
URL:https://coolspeak.com/event/operation-snowball-inc-virtual-presentation-with-carlos-ojeda-jr/
END:VEVENT
BEGIN:VEVENT
DTSTART;TZID=America/New_York:20210608T130000
DTEND;TZID=America/New_York:20210609T153000
DTSTAMP:20260424T145101
CREATED:20210508T231406Z
LAST-MODIFIED:20210508T231406Z
UID:10000102-1623157200-1623252600@coolspeak.com
SUMMARY:CSUF Educational Talent Search Virtual Programming
DESCRIPTION:Speaker: (2) CoolSpeakers\nClient: CSUF Talent Search\n2.5 Hours focus on: Scholarships\, Fafsa\, Financial Aid and Dream Act.\nCoolSpeak will provide virtual platform.
URL:https://coolspeak.com/event/csuf-educational-talent-search-virtual-programming-2/
END:VEVENT
BEGIN:VEVENT
DTSTART;TZID=America/New_York:20210608T130000
DTEND;TZID=America/New_York:20210609T153000
DTSTAMP:20260424T145101
CREATED:20210508T231406Z
LAST-MODIFIED:20210508T231406Z
UID:10000100-1623157200-1623252600@coolspeak.com
SUMMARY:CSUF Educational Talent Search Virtual Programming
DESCRIPTION:Speaker: (2) CoolSpeakers\nClient: CSUF Talent Search\n2.5 Hours focus on: Scholarships\, Fafsa\, Financial Aid and Dream Act.\nCoolSpeak will provide virtual platform.
URL:https://coolspeak.com/event/csuf-educational-talent-search-virtual-programming/
END:VEVENT
BEGIN:VEVENT
DTSTART;TZID=America/New_York:20210607T150000
DTEND;TZID=America/New_York:20210611T170000
DTSTAMP:20260424T145101
CREATED:20210507T234503Z
LAST-MODIFIED:20210507T234503Z
UID:10000095-1623078000-1623430800@coolspeak.com
SUMMARY:CSUF - The Power of YOUth Virtual Summer Academy
DESCRIPTION:Speaker: CoolFacilitators\nClient: CSUF GEAR UP\nDescription: 2 Hours per day on a virtual platform.\nIdentity Focused. 30-60 students
URL:https://coolspeak.com/event/csuf-the-power-of-youth-virtual-summer-academy-2/
END:VEVENT
BEGIN:VEVENT
DTSTART;TZID=America/New_York:20210607T150000
DTEND;TZID=America/New_York:20210611T170000
DTSTAMP:20260424T145101
CREATED:20210507T234503Z
LAST-MODIFIED:20210507T234503Z
UID:10000096-1623078000-1623430800@coolspeak.com
SUMMARY:CSUF - The Power of YOUth Virtual Summer Academy
DESCRIPTION:Speaker: CoolFacilitators\nClient: CSUF GEAR UP\nDescription: 2 Hours per day on a virtual platform.\nIdentity Focused. 30-60 students
URL:https://coolspeak.com/event/csuf-the-power-of-youth-virtual-summer-academy/
END:VEVENT
BEGIN:VEVENT
DTSTART;TZID=America/New_York:20210607T100000
DTEND;TZID=America/New_York:20210612T160000
DTSTAMP:20260424T145101
CREATED:20210507T234504Z
LAST-MODIFIED:20210507T234504Z
UID:10000097-1623060000-1623513600@coolspeak.com
SUMMARY:Region 12 BRAIN STEM Chemistry and Physics Summer Camp.
DESCRIPTION:Program: BRAIN STEM Chemistry (6/7-6/9/21) and Physics (6/10-6/12/21)\nClient: Region 12
URL:https://coolspeak.com/event/region-12-brain-stem-chemistry-and-physics-summer-camp/
END:VEVENT
BEGIN:VEVENT
DTSTART;TZID=America/New_York:20210607T100000
DTEND;TZID=America/New_York:20210612T160000
DTSTAMP:20260424T145101
CREATED:20210507T234504Z
LAST-MODIFIED:20210507T234504Z
UID:10000098-1623060000-1623513600@coolspeak.com
SUMMARY:Region 12 BRAIN STEM Chemistry and Physics Summer Camp.
DESCRIPTION:Program: BRAIN STEM Chemistry (6/7-6/9/21) and Physics (6/10-6/12/21)\nClient: Region 12
URL:https://coolspeak.com/event/region-12-brain-stem-chemistry-and-physics-summer-camp-2/
END:VEVENT
BEGIN:VEVENT
DTSTART;TZID=America/New_York:20210603T103000
DTEND;TZID=America/New_York:20210603T143000
DTSTAMP:20260424T145101
CREATED:20210503T231818Z
LAST-MODIFIED:20210503T231818Z
UID:10000094-1622716200-1622730600@coolspeak.com
SUMMARY:Region 12 Creative Writing Virtual Camp with Natasha Carrizosa.
DESCRIPTION:Speaker: Natasha Carrizosa.\nClient: Region 12\nDescription: 3 day Creative Writing Camp.\nCoolSpeak will provide the virtual platform.
URL:https://coolspeak.com/event/region-12-creative-writing-virtual-camp-with-natasha-carrizosa-3/
END:VEVENT
BEGIN:VEVENT
DTSTART;TZID=America/New_York:20210603T103000
DTEND;TZID=America/New_York:20210603T143000
DTSTAMP:20260424T145101
CREATED:20210503T231818Z
LAST-MODIFIED:20210503T231818Z
UID:10000093-1622716200-1622730600@coolspeak.com
SUMMARY:Region 12 Creative Writing Virtual Camp with Natasha Carrizosa.
DESCRIPTION:Speaker: Natasha Carrizosa.\nClient: Region 12\nDescription: 3 day Creative Writing Camp.\nCoolSpeak will provide the virtual platform.
URL:https://coolspeak.com/event/region-12-creative-writing-virtual-camp-with-natasha-carrizosa-3-2/
END:VEVENT
BEGIN:VEVENT
DTSTART;TZID=America/New_York:20210603T090000
DTEND;TZID=America/New_York:20210603T110000
DTSTAMP:20260424T145101
CREATED:20210528T191559Z
LAST-MODIFIED:20210528T191559Z
UID:10000111-1622710800-1622718000@coolspeak.com
SUMMARY:Midlands GEAR UP Virtual Professional Development with Carlos Ojeda Jr.
DESCRIPTION:Speaker: Carlos Ojeda Jr.\nClient: Midlands GEAR UP\nDescription: 2-hour virtual Professional Development.
URL:https://coolspeak.com/event/midlands-gear-up-virtual-professional-development-with-carlos-ojeda-jr/
END:VEVENT
BEGIN:VEVENT
DTSTART;TZID=America/New_York:20210603T090000
DTEND;TZID=America/New_York:20210603T110000
DTSTAMP:20260424T145101
CREATED:20210528T191559Z
LAST-MODIFIED:20210528T191559Z
UID:10000113-1622710800-1622718000@coolspeak.com
SUMMARY:Midlands GEAR UP Virtual Professional Development with Carlos Ojeda Jr.
DESCRIPTION:Speaker: Carlos Ojeda Jr.\nClient: Midlands GEAR UP\nDescription: 2-hour virtual Professional Development.
URL:https://coolspeak.com/event/midlands-gear-up-virtual-professional-development-with-carlos-ojeda-jr-2/
END:VEVENT
END:VCALENDAR