BEGIN:VCALENDAR
VERSION:2.0
PRODID:-//CoolSpeak - ECPv6.15.18//NONSGML v1.0//EN
CALSCALE:GREGORIAN
METHOD:PUBLISH
X-WR-CALNAME:CoolSpeak
X-ORIGINAL-URL:https://coolspeak.com
X-WR-CALDESC:Events for CoolSpeak
REFRESH-INTERVAL;VALUE=DURATION:PT1H
X-Robots-Tag:noindex
X-PUBLISHED-TTL:PT1H
BEGIN:VTIMEZONE
TZID:America/New_York
BEGIN:DAYLIGHT
TZOFFSETFROM:-0500
TZOFFSETTO:-0400
TZNAME:EDT
DTSTART:20240310T070000
END:DAYLIGHT
BEGIN:STANDARD
TZOFFSETFROM:-0400
TZOFFSETTO:-0500
TZNAME:EST
DTSTART:20241103T060000
END:STANDARD
BEGIN:DAYLIGHT
TZOFFSETFROM:-0500
TZOFFSETTO:-0400
TZNAME:EDT
DTSTART:20250309T070000
END:DAYLIGHT
BEGIN:STANDARD
TZOFFSETFROM:-0400
TZOFFSETTO:-0500
TZNAME:EST
DTSTART:20251102T060000
END:STANDARD
BEGIN:DAYLIGHT
TZOFFSETFROM:-0500
TZOFFSETTO:-0400
TZNAME:EDT
DTSTART:20260308T070000
END:DAYLIGHT
BEGIN:STANDARD
TZOFFSETFROM:-0400
TZOFFSETTO:-0500
TZNAME:EST
DTSTART:20261101T060000
END:STANDARD
END:VTIMEZONE
BEGIN:VEVENT
DTSTART;TZID=America/New_York:20250822T090000
DTEND;TZID=America/New_York:20250822T160000
DTSTAMP:20260421T121432
CREATED:20250801T152706Z
LAST-MODIFIED:20250822T195703Z
UID:10001937-1755853200-1755878400@coolspeak.com
SUMMARY:Abraham Baldwin Agriculture College Students and Parents Retreat.
DESCRIPTION:Event Title: \n\nAbraham Baldwin Agriculture College Students and Parents Retreat.\n\n\nClient Program/Organization: \n\nAbraham Baldwin Agricultural College\n\n\nEvent Description: \n\nLilyan Prado-Carrillo will provide a Keynote Presentation and a Full Day Programming for students and parents.\n\n\nTheme: \n\nUpward Bound Students/Parents/Education\n\n\nStart Date: \n\n2025-08-22\n\n\nEnd Date:\n\n 2025-08-23\n\n\nStart Time: \n\n9:00 AM\n\n\nEnd Time: \n\n4:00 PM\n\n\nCity/State: \n\nTifton\, GA\n\n\nAudience: \n\nHigh School\n\n\nNumber attending: \n\n40
URL:https://coolspeak.com/event/abraham-baldwin-agriculture-college-students-and-parents-retreat-5/
CATEGORIES:Event
END:VEVENT
BEGIN:VEVENT
DTSTART;TZID=America/New_York:20250822T080000
DTEND;TZID=America/New_York:20250822T200000
DTSTAMP:20260421T121432
CREATED:20250820T024134Z
LAST-MODIFIED:20250822T235645Z
UID:10001971-1755849600-1755892800@coolspeak.com
SUMMARY:Fall 2025 YWCA El Paso del Norte PD
DESCRIPTION:Speaker:\n\nDr. Laura Rizo\n\n\nEvent: \n\nFall 2025 YWCA El Paso del Norte PD\n\n\nDescription: \n\nRizo will work will do her keynote\, workshop & team building activities with the professionals of Workforce Solutions Borderplex\n\n\nTheme: \n\nYou Are a Superhero\n\n\nDate:  \n\n8/22/2025\n\n\nPresentation Start Time:  \n\n12:00 PM\n\n\nWorkshop Start Time: \n\n1:00 PM\n\n\nEvent Address: \n\nEl Paso\, TX\n\n\nAudience: \n\nProfessional\n\n\nNumber Attending: \n\n68
URL:https://coolspeak.com/event/fall-2025-ywca-el-paso-del-norte-pd/
CATEGORIES:Event
END:VEVENT
BEGIN:VEVENT
DTSTART;TZID=America/New_York:20250822T080000
DTEND;TZID=America/New_York:20250822T200000
DTSTAMP:20260421T121432
CREATED:20250820T014152Z
LAST-MODIFIED:20250822T235645Z
UID:10001970-1755849600-1755892800@coolspeak.com
SUMMARY:Fall 2025 Memorial Jr. High School Kickoff
DESCRIPTION:Speaker\n\nMarley Lizama\n\n\nEvent: \n\nFall 2025 Memorial Jr. High School Kickoff\n\n\nDescription: \n\nMarley will visit Memorial to kickoff the 25/26 school year\n\n\nTheme: \n\nKickoff\n\n\nDate:  \n\n8/22/2025\n\n\nPresentation Start Time:  \n\n9:00 AM\n\n\nEvent Address: \n\nEagle Pass\, TX\n\n\nVenue: \n\nSchool Auditorium\n\n\nAudience: \n\nMiddle School\n\n\nNumber Attending: \n\n500
URL:https://coolspeak.com/event/fall-2025-memorial-jr-high-school-kickoff/
CATEGORIES:Event
END:VEVENT
BEGIN:VEVENT
DTSTART;TZID=America/New_York:20250821T090000
DTEND;TZID=America/New_York:20250821T150000
DTSTAMP:20260421T121432
CREATED:20250811T215620Z
LAST-MODIFIED:20250821T182659Z
UID:10001952-1755766800-1755788400@coolspeak.com
SUMMARY:2025 EOF Scholar Orientation
DESCRIPTION:Below are the event details: \n\nSpeaker: \n\nMultiple Speakers\n\n\nEvent Title: \n\n2025 EOF Scholar Orientation\n\n\nClient Program/Organization: \n\nRaritan Valley Community College\n\n\nEvent Description: \n\nCoolSpeakers Chris Collins\, Lilyan Prado-Carrillo\, and Zach Gowen will provide Keynote Presentations and Team Building Activities Scholar Orientation for New EOF Scholars.\n\n\nTheme: \n\nEducation. Goal Setting. Team Building. EOF.\n\n\nStart Date:\n\n 2025-08-19\n\n\nEnd Date: \n\n2025-08-21\n\n\nStart Time: \n\n9:00 AM\n\n\nEnd Time: \n\n3:00 PM\n\n\nCity/State: \n\nBranchburg\, NJ\n\n\nAudience: \n\nCollege\n\n\nNumber attending:\n\n 100
URL:https://coolspeak.com/event/2025-eof-scholar-orientation-3/
CATEGORIES:Event
END:VEVENT
BEGIN:VEVENT
DTSTART;TZID=America/New_York:20250821T090000
DTEND;TZID=America/New_York:20250821T103000
DTSTAMP:20260421T121432
CREATED:20250819T221205Z
LAST-MODIFIED:20250821T141210Z
UID:10001967-1755766800-1755772200@coolspeak.com
SUMMARY:Port Arthur UT GEAR UP with Lamarr Womble
DESCRIPTION:Web Calendar Event Information\nSpeaker: Lamarr Womble\nEvent Title: Wilson Early College High School GEAR UP Presentation Day.\nClient Program/Organization: University of Texas at Austin\nEvent Description: Lamarr Womble will provide a Keynote Presentation.\nTheme: Leadership Development\nStart Date: 2025-08-21\nEnd Date: 2025-08-21\nStart Time: 8:00 AM\nEnd Time: 9:00 AM\nCity/State: Port Arthur\, TX\nAudience: High School\nNumber attending: 200
URL:https://coolspeak.com/event/port-arthur-ut-gear-up-with-lamarr-womble/
CATEGORIES:Event
END:VEVENT
BEGIN:VEVENT
DTSTART;TZID=America/New_York:20250821T080000
DTEND;TZID=America/New_York:20250821T200000
DTSTAMP:20260421T121432
CREATED:20250815T184144Z
LAST-MODIFIED:20250821T212700Z
UID:10001962-1755763200-1755806400@coolspeak.com
SUMMARY:Fall 2025 Mount Vernon School Year Kickoff
DESCRIPTION:Speaker:\n\nJuan Cangas\n\n\nEvent: \n\nFall 2025 Mount Vernon School Year Kickoff\n\n\nDescription: \n\nJuan will work with Parents and Freshman Students during the Freshman Orientation\n\n\nTheme: \n\nBridge | Transitioning Into High School\n\n\nDate:  \n\n8/21/2025\n\n\nPresentation Start Time:  \n\n11:30 AM\n\n\nWorkshop Start Time: \n\n8:00 AM\n\n\nEvent Address: \n\nMount Vernon\, WA\n\n\nRoom:\n\nAuditorium\n\n\nAudience: \n\nHigh School\n\n\nNumber Attending: \n\n500
URL:https://coolspeak.com/event/fall-2025-mount-vernon-school-year-kickoff/
CATEGORIES:Event
END:VEVENT
BEGIN:VEVENT
DTSTART;TZID=America/New_York:20250820T090000
DTEND;TZID=America/New_York:20250820T150000
DTSTAMP:20260421T121432
CREATED:20250811T215620Z
LAST-MODIFIED:20250820T184150Z
UID:10001951-1755680400-1755702000@coolspeak.com
SUMMARY:2025 EOF Scholar Orientation
DESCRIPTION:Below are the event details: \n\nSpeaker: \n\nMultiple Speakers\n\n\nEvent Title: \n\n2025 EOF Scholar Orientation\n\n\nClient Program/Organization: \n\nRaritan Valley Community College\n\n\nEvent Description: \n\nCoolSpeakers Chris Collins\, Lilyan Prado-Carrillo\, and Zach Gowen will provide Keynote Presentations and Team Building Activities Scholar Orientation for New EOF Scholars.\n\n\nTheme: \n\nEducation. Goal Setting. Team Building. EOF.\n\n\nStart Date:\n\n 2025-08-19\n\n\nEnd Date: \n\n2025-08-21\n\n\nStart Time: \n\n9:00 AM\n\n\nEnd Time: \n\n3:00 PM\n\n\nCity/State: \n\nBranchburg\, NJ\n\n\nAudience: \n\nCollege\n\n\nNumber attending:\n\n 100
URL:https://coolspeak.com/event/2025-eof-scholar-orientation-2/
CATEGORIES:Event
END:VEVENT
BEGIN:VEVENT
DTSTART;TZID=America/New_York:20250820T080000
DTEND;TZID=America/New_York:20250820T200000
DTSTAMP:20260421T121432
CREATED:20250517T001734Z
LAST-MODIFIED:20250820T235658Z
UID:10001839-1755676800-1755720000@coolspeak.com
SUMMARY:2025 Niguel Hills Middle School
DESCRIPTION:Speaker:\n\nLamarr Womble\n\n\nEvent: \n\n2025 Niguel Hills Middle School\n\n\nDescription: \n\nLamarr will provide 3 presentations to the students of Niguel Hills Middle School on Leadership\, Engagement\, Accountability and Determination\n\n\nTheme: \n\nLeadership\, Standing Up For The Right Thing\n\n\nDate:  \n\n8/20/2025\n\n\nPresentation Start Time:  \n\n9:00 AM\n\n\nAudience: \n\nMiddle School\n\n\nNumber Attending: \n\n740
URL:https://coolspeak.com/event/2025-niguel-hills-middle-school/
CATEGORIES:Event
END:VEVENT
BEGIN:VEVENT
DTSTART;TZID=America/New_York:20250820T070000
DTEND;TZID=America/New_York:20250820T220000
DTSTAMP:20260421T121432
CREATED:20250801T152705Z
LAST-MODIFIED:20250821T015652Z
UID:10001936-1755673200-1755727200@coolspeak.com
SUMMARY:All Aboard Tours New York\, NY Bus Tour.
DESCRIPTION:Below are the event details: \n\nSpeaker: \n\nSamuel Brown\n\n\nEvent Title: \n\nAll Aboard Tours New York\, NY Bus Tour.\n\n\nClient Program/Organization:\n\n All Aboard Tours\n\n\nEvent Description: \n\nSamuel Brown will Facilitate a Bus Trip with Student to New York City.\n\n\nTheme: \n\nAll Aboard Bus Tour/Education/College Readiness.\n\n\nStart Date: \n\n2025-08-20\n\n\nEnd Date: \n\n2025-08-20\n\n\nStart Time:\n\n 7:00 AM\n\n\nEnd Time: \n\n10:00 PM\n\n\nCity/State:\n\n New York\, NY\n\n\nAudience: \n\nHigh School\n\n\nNumber attending:\n\n 55
URL:https://coolspeak.com/event/all-aboard-tours-new-york-ny-bus-tour/
CATEGORIES:Event
END:VEVENT
BEGIN:VEVENT
DTSTART;TZID=America/New_York:20250819T090000
DTEND;TZID=America/New_York:20250819T150000
DTSTAMP:20260421T121432
CREATED:20250811T215620Z
LAST-MODIFIED:20250819T185702Z
UID:10001950-1755594000-1755615600@coolspeak.com
SUMMARY:2025 EOF Scholar Orientation
DESCRIPTION:Below are the event details: \n\nSpeaker: \n\nMultiple Speakers\n\n\nEvent Title: \n\n2025 EOF Scholar Orientation\n\n\nClient Program/Organization: \n\nRaritan Valley Community College\n\n\nEvent Description: \n\nCoolSpeakers Chris Collins\, Lilyan Prado-Carrillo\, and Zach Gowen will provide Keynote Presentations and Team Building Activities Scholar Orientation for New EOF Scholars.\n\n\nTheme: \n\nEducation. Goal Setting. Team Building. EOF.\n\n\nStart Date:\n\n 2025-08-19\n\n\nEnd Date: \n\n2025-08-21\n\n\nStart Time: \n\n9:00 AM\n\n\nEnd Time: \n\n3:00 PM\n\n\nCity/State: \n\nBranchburg\, NJ\n\n\nAudience: \n\nCollege\n\n\nNumber attending:\n\n 100
URL:https://coolspeak.com/event/2025-eof-scholar-orientation/
CATEGORIES:Event
END:VEVENT
BEGIN:VEVENT
DTSTART;TZID=America/New_York:20250819T080000
DTEND;TZID=America/New_York:20250819T200000
DTSTAMP:20260421T121432
CREATED:20250817T215623Z
LAST-MODIFIED:20250819T232706Z
UID:10001964-1755590400-1755633600@coolspeak.com
SUMMARY:Fall 2025 UTRGV GEAR UP PD
DESCRIPTION:Speaker:\n\nErnesto Mejia\n\n\nEvent: \n\nFall 2025 UTRGV GEAR UP PD\n\n\nTheme: \n\nLeadership\, Empowerment\n\n\nDate:  \n\n8/18/2025\n\n\nPresentation Start Time:  \n\n8:00 AM\n\n\nWorkshop Start Time: \n\n9:30 AM\n\n\nEvent Address: \n\nWeslaco\, TX\n\n\nAudience: \n\nProfessional\n\n\nNumber Attending: \n\n100
URL:https://coolspeak.com/event/fall-2025-utrgv-gear-up-pd-2/
CATEGORIES:Event
END:VEVENT
BEGIN:VEVENT
DTSTART;TZID=America/New_York:20250819T080000
DTEND;TZID=America/New_York:20250819T200000
DTSTAMP:20260421T121432
CREATED:20250802T045735Z
LAST-MODIFIED:20250819T232706Z
UID:10001941-1755590400-1755633600@coolspeak.com
SUMMARY:Fall 2025 Systems of Care Family Engagement
DESCRIPTION:Speaker:\n\nZach Gowen\n\n\nEvent: \n\nFall 2025 Systems of Care Family Engagement\n\n\nDescription: \n\nZach will share his story with the Families of Kansas City MO.\n\n\nTheme: \n\nHealth is Wealth\n\n\nDate:  \n\n8/19/2025\n\n\nPresentation Start Time:  \n\n6:00 PM\n\n\nWorkshop Start Time: \n\n6:30 PM\n\n\nAudience: \n\nFamilies\n\n\nNumber Attending: \n\n200
URL:https://coolspeak.com/event/fall-2025-systems-of-care-family-engagement/
CATEGORIES:Event
END:VEVENT
BEGIN:VEVENT
DTSTART;TZID=America/New_York:20250819T080000
DTEND;TZID=America/New_York:20250819T200000
DTSTAMP:20260421T121432
CREATED:20250619T172223Z
LAST-MODIFIED:20250819T232706Z
UID:10001902-1755590400-1755633600@coolspeak.com
SUMMARY:Fall 2025 San Marcos High School
DESCRIPTION:Speaker:\n\nLamarr Womble\n\n\nEvent: \n\nFall 2025 San Marcos High School\n\n\nDescription: \n\nLamarr Womble will provide Keynote Presentations and Breakout Sessions with ASB Students.\n\n\nTheme: \n\nSchool Culture\n\n\nDate:  \n\n8/19/2025\n\n\nPresentation Start Time:  \n\n8:00 AM\n\n\nAudience: \n\nHigh School\n\n\nNumber Attending: \n\n3\,500
URL:https://coolspeak.com/event/fall-2025-san-marcos-high-school/
CATEGORIES:Event
END:VEVENT
BEGIN:VEVENT
DTSTART;TZID=America/New_York:20250818T080000
DTEND;TZID=America/New_York:20250818T200000
DTSTAMP:20260421T121432
CREATED:20250817T215623Z
LAST-MODIFIED:20250818T234133Z
UID:10001963-1755504000-1755547200@coolspeak.com
SUMMARY:Fall 2025 UTRGV GEAR UP PD
DESCRIPTION:Speaker: \n\nErnesto Mejia\n\n\nEvent: \n\nFall 2025 UTRGV GEAR UP PD\n\n\nTheme: \n\nLeadership\, Empowerment\n\n\nDate:  \n\n8/18/2025\n\n\nPresentation Start Time:  \n\n8:00 AM\n\n\nWorkshop Start Time: \n\n9:30 AM\n\n\nEvent Address: \n\nEdinburg\, TX\n\n\nAudience: \n\nProfessional\n\n\nNumber Attending: \n\n100
URL:https://coolspeak.com/event/fall-2025-utrgv-gear-up-pd/
CATEGORIES:Event
END:VEVENT
BEGIN:VEVENT
DTSTART;TZID=America/New_York:20250814T120000
DTEND;TZID=America/New_York:20250814T150000
DTSTAMP:20260421T121432
CREATED:20250522T172145Z
LAST-MODIFIED:20250814T185636Z
UID:10001857-1755172800-1755183600@coolspeak.com
SUMMARY:Dodge City High Back to School Student Assemblies.
DESCRIPTION:Below are the event details \n\nSpeaker:\n\n Laura Rizo\n\n\nEvent Title:\n\n Dodge City High Back to School Student Assemblies.\n\n\nClient Program/Organization: \n\nDodge City Public Schools\n\n\nEvent Description:\n\n Laura Rizo will provide Multiple Student Assembly Presentations for High School Students.\n\n\nTheme:\n\n Community/SEL/Self-Regulation.\n\n\nStart Date: \n\n2025-08-14\n\n\nEnd Date: \n\n2025-08-14\n\n\nStart Time: \n\n11:00 AM\n\n\nEnd Time: \n\n2:00 PM\n\n\nCity/State: \n\nDodge City\, KS\n\n\nAudience:\n\n High School\n\n\nNumber attending: \n\n1800
URL:https://coolspeak.com/event/dodge-city-high-back-to-school-student-assemblies/
CATEGORIES:Event
END:VEVENT
BEGIN:VEVENT
DTSTART;TZID=America/New_York:20250814T110000
DTEND;TZID=America/New_York:20250814T150000
DTSTAMP:20260421T121432
CREATED:20250808T205626Z
LAST-MODIFIED:20250814T185636Z
UID:10001945-1755169200-1755183600@coolspeak.com
SUMMARY:Fall 2025 Savannah State University with Mj Bridges
DESCRIPTION:Speaker: Melvin Bridges Jr.\nEvent Title: Savannah State University Financial Literacy with MJ Bridges\nClient Program/Organization: Savannah State University\nEvent Description: Young and Debt Free Session with MJ Bridges\nTheme: Financial Literacy\nStart Date: 2025-08-14\nEnd Date: 2025-08-14\nCity/State: Savannah\, GA\nAudience: College\nNumber attending: 75
URL:https://coolspeak.com/event/fall-2025-savannah-state-university-with-mj-bridges/
CATEGORIES:Event
END:VEVENT
BEGIN:VEVENT
DTSTART;VALUE=DATE:20250813
DTEND;VALUE=DATE:20250814
DTSTAMP:20260421T121432
CREATED:20250808T215617Z
LAST-MODIFIED:20250813T234126Z
UID:10001947-1755043200-1755129599@coolspeak.com
SUMMARY:Summer 2025 ESC Region 16 With Ernesto Mejia
DESCRIPTION:Speaker: Ernesto Mejia\nEvent Title: Migrant Education Staff Event\nClient Program/Organization: Region 16 Education Service Center\nEvent Description: Professional Development by Ernesto Mejia\nTheme: Engagement and Communication Strategies\nStart Date: 2025-08-13\nEnd Date: 2025-08-13\nStart Time: 9:00 AM\nEnd Time: 2:00 PM\nCity/State: Amarillo\, TX\nAudience: Professional\nNumber attending: 75
URL:https://coolspeak.com/event/summer-2025-esc-region-16-with-ernesto-mejia-2/
CATEGORIES:Event
END:VEVENT
BEGIN:VEVENT
DTSTART;TZID=America/New_York:20250812T080000
DTEND;TZID=America/New_York:20250812T200000
DTSTAMP:20260421T121432
CREATED:20250730T031131Z
LAST-MODIFIED:20250812T234234Z
UID:10001932-1754985600-1755028800@coolspeak.com
SUMMARY:CaliTour 2025 Madera South High School
DESCRIPTION:Speaker:\n\nJuan Cangas\n\n\nEvent: \n\nCaliTour 2025 Madera South High School\n\n\nDescription: \n\nJuan Cangas will deliver a keynote to the students of Madera South High School\n\n\nTheme: \n\nLeadership\, Motivation\n\n\nDate:  \n\n8/12/2025\n\n\nPresentation Start Time:  \n\n8:00 AM\n\n\nAudience: \n\nHigh School\n\n\nNumber Attending: \n\n300
URL:https://coolspeak.com/event/calitour-2025-madera-south-high-school/
CATEGORIES:Event
END:VEVENT
BEGIN:VEVENT
DTSTART;TZID=America/New_York:20250811T080000
DTEND;TZID=America/New_York:20250811T200000
DTSTAMP:20260421T121432
CREATED:20250730T031131Z
LAST-MODIFIED:20250811T235622Z
UID:10001931-1754899200-1754942400@coolspeak.com
SUMMARY:CaliTour 2025 Matilda Torres High School
DESCRIPTION:Speaker:\n\nJuan Cangas\n\n\nEvent: \n\nCaliTour 2025 Matilda Torres High School\n\n\nDescription: \n\nJuan Cangas will deliver a keynote to the students of Matilda Torres High School\n\n\nTheme: \n\nLeadership\, Motivation\n\n\nDate:  \n\n8/11/2025\n\n\nPresentation Start Time:  \n\n8:00 AM\n\n\nAudience: \n\nHigh School\n\n\nNumber Attending: \n\n300
URL:https://coolspeak.com/event/calitour-2025-matilda-torres-high-school/
CATEGORIES:Event
END:VEVENT
BEGIN:VEVENT
DTSTART;TZID=America/New_York:20250811T070000
DTEND;TZID=America/New_York:20250811T220000
DTSTAMP:20260421T121432
CREATED:20250801T152705Z
LAST-MODIFIED:20250812T015631Z
UID:10001935-1754895600-1754949600@coolspeak.com
SUMMARY:All Aboard Tours Washington DC Bus Tour.
DESCRIPTION:Below are the event details: \n\nSpeaker: \n\nSamuel Brown\n\n\nEvent Title: \n\n All Aboard Tours Washington DC Bus Tour.\n\n\nClient Program/Organization:\n\n All Aboard Tours\n\n\nEvent Description: \n\nMarleana Heaven will Facilitate a Bus Trip with Student to Washington\, DC.\n\n\nTheme: \n\nAll Aboard Bus Tour/Education/College Readiness.\n\n\nStart Date: \n\n2025-08-20\n\n\nEnd Date: \n\n2025-08-20\n\n\nStart Time:\n\n 7:00 AM\n\n\nEnd Time: \n\n10:00 PM\n\n\nCity/State:\n\n New York\, NY\n\n\nAudience: \n\nHigh School\n\n\nNumber attending:\n\n 55
URL:https://coolspeak.com/event/all-aboard-tours-washington-dc-bus-tour/
CATEGORIES:Event
END:VEVENT
BEGIN:VEVENT
DTSTART;VALUE=DATE:20250811
DTEND;VALUE=DATE:20250812
DTSTAMP:20260421T121432
CREATED:20250808T215617Z
LAST-MODIFIED:20250811T235622Z
UID:10001946-1754870400-1754956799@coolspeak.com
SUMMARY:Fall 2025 Santa Paula HS with Lamarr Womble
DESCRIPTION:Speaker: Lamarr Womble\nEvent Title: Fall 2025 Santa Paula High School with Lamarr Womble\nClient Program/Organization: Santa Paula High School\nEvent Description: Welcome \nTheme: 2025-2026 School Year Motivational Kick Off\nStart Date: 2025-08-11\nEnd Date: 2025-08-11\nStart Time: 8:30 AM\nEnd Time: 1:00 PM\nCity/State: Santa Paula\, CA\nAudience: High School\nNumber attending: 350
URL:https://coolspeak.com/event/fall-2025-santa-paula-hs-with-lamarr-womble/
CATEGORIES:Event
END:VEVENT
BEGIN:VEVENT
DTSTART;TZID=America/New_York:20250809T080000
DTEND;TZID=America/New_York:20250809T200000
DTSTAMP:20260421T121432
CREATED:20250725T234118Z
LAST-MODIFIED:20250809T231143Z
UID:10001929-1754726400-1754769600@coolspeak.com
SUMMARY:Fall 2025 University of Washington Level Up Night
DESCRIPTION:Speaker:\n\nErnesto Mejia\n\n\nEvent: \n\nFall 2025 University of Washington Level Up Night\n\n\nDescription: \n\nFinal Major Class of 2024 GEAR UP events as you prepare for your 2d year of college! We’ve got a fantastic celebration planned to honor your roots and achievements.\n\n\nTheme: \n\nLevel Up From Year One To What’s Next\n\n\nDate:  \n\n8/9/2025\n\n\nPresentation Start Time:  \n\n4:00 PM\n\n\nWorkshop Start Time: \n\nN/A\n\n\nAudience: \n\nCollege\n\n\nNumber Attending: \n\n100
URL:https://coolspeak.com/event/fall-2025-university-of-washington-level-up-night/
CATEGORIES:Event
END:VEVENT
BEGIN:VEVENT
DTSTART;TZID=America/New_York:20250808T080000
DTEND;TZID=America/New_York:20250808T200000
DTSTAMP:20260421T121432
CREATED:20250730T031130Z
LAST-MODIFIED:20250808T235620Z
UID:10001930-1754640000-1754683200@coolspeak.com
SUMMARY:CaliTour 2025 Madera High School
DESCRIPTION:Speaker: \n\nJuan Cangas\n\n\nEvent: \n\nCaliTour 2025 Madera High School\n\n\nDescription: \n\nJuan will deliver a keynote to the students of Madera High School\n\n\nTheme: \n\nLeadership\, Motivation\n\n\nDate:  \n\n8/8/2025\n\n\nPresentation Start Time:  \n\n8:00 AM\n\n\nRoom:\n\nAuditorium \n\n\nAudience: \n\nHigh School\n\n\nNumber Attending: \n\n300
URL:https://coolspeak.com/event/calitour-2025-madera-high-school/
CATEGORIES:Event
END:VEVENT
BEGIN:VEVENT
DTSTART;VALUE=DATE:20250806
DTEND;VALUE=DATE:20250808
DTSTAMP:20260421T121432
CREATED:20250722T025623Z
LAST-MODIFIED:20250807T231119Z
UID:10001927-1754438400-1754611199@coolspeak.com
SUMMARY:Fall 2025 Bakersfield College EOPS Kickoff Event
DESCRIPTION:Speaker:\n\nErnesto Mejia\n\n\nEvent: \n\nFall 2025 Bakersfield College EOPS Kickoff Event\n\n\nDescription: \n\nWelcome event for incoming EOPS Students\n\n\nTheme: \n\nKickoff\, Motivating\n\n\nDate:  \n\n8/6/2025 & 8/7/2025\n\n\nPresentation Start Time:  \n\n9:00 AM\n\n\nWorkshop Start Time: \n\n10:00 AM\n\n\nEvent Address: \n\nBakersfield\, CA 93203\n\n\nAudience: \n\nCollege\n\n\nNumber Attending: \n\n200
URL:https://coolspeak.com/event/fall-2025-bakersfield-college-eops-kickoff-event/
CATEGORIES:Event
END:VEVENT
BEGIN:VEVENT
DTSTART;TZID=America/New_York:20250805T120000
DTEND;TZID=America/New_York:20250805T133000
DTSTAMP:20260421T121432
CREATED:20250609T215150Z
LAST-MODIFIED:20250805T164126Z
UID:10001895-1754395200-1754400600@coolspeak.com
SUMMARY:2025 Western Nevada College CREST Presentation.
DESCRIPTION:Below are the event details: \n\nSpeaker: \n\nLamarr Womble\n\n\nEvent Title: \n\n2025 Western Nevada College CREST Presentation.\n\n\nClient Program/Organization: \n\nWestern Nevada College\n\n\nEvent Description: \n\nLamarr Womble will provide a Keynote Presentation with a Q&A Session to follow for College Ready Students with Disabilities.\n\n\nTheme: \n\nResilience\, Youth Empowerment and Overcoming Obstacles.\n\n\nStart Date: \n\n2025-08-05\n\n\nEnd Date: \n\n2025-08-05\n\n\nStart Time:\n\n9:00 AM\n\n\nEnd Time: \n\n10:30 AM\n\n\nCity/State: \n\nCarson City\, NV\n\n\nAudience:\n\n College\n\n\nNumber attending:\n\n 50
URL:https://coolspeak.com/event/2025-western-nevada-college-crest-presentation/
CATEGORIES:Event
END:VEVENT
BEGIN:VEVENT
DTSTART;TZID=America/New_York:20250805T090000
DTEND;TZID=America/New_York:20250805T130000
DTSTAMP:20260421T121432
CREATED:20250620T042207Z
LAST-MODIFIED:20250805T164127Z
UID:10001903-1754384400-1754398800@coolspeak.com
SUMMARY:Fall 2025 Beeville ISD Food & Nutrition Services PD
DESCRIPTION:Speaker:\n\nErnesto Mejia\n\n\nEvent: \n\nFall 2025 Beeville ISD Food & Nutrition Services PD\n\n\nDescription: \n\nErnesto will be working with staff from multiple departments in Beeville ISD\n\n\nTheme: \n\nSupport Staff Appreciation\n\n\nDate:  \n\n8/5/2025\n\n\nPresentation Start Time:  \n\n9:00 AM\n\n\nWorkshop Start Time: \n\n10:00 AM\n\n\nAudience: \n\nProfessional\n\n\nNumber Attending: \n\n100
URL:https://coolspeak.com/event/fall-2025-beeville-isd-food-nutrition-services-pd/
CATEGORIES:Event
END:VEVENT
BEGIN:VEVENT
DTSTART;TZID=America/New_York:20250805T080000
DTEND;TZID=America/New_York:20250805T200000
DTSTAMP:20260421T121432
CREATED:20250720T064122Z
LAST-MODIFIED:20250805T231149Z
UID:10001924-1754380800-1754424000@coolspeak.com
SUMMARY:2025 LLLC GEAR UP Leadership Bootcamp
DESCRIPTION:Speaker: \n\nChris Collins\n\n\nEvent: \n\n2025 LLLC GEAR UP Leadership Bootcamp\n\n\nDescription: \n\nHelp educate students\, staff and parents about GEAR UP and the resources that are available\n\n\nTheme: \n\nFinishing The School Year Strong\n\n\nDate:  \n\n8/5/2025\n\n\nPresentation Start Time:  \n\n8:00 AM\n\n\nWorkshop Start Time: \n\n12:00 PM\n\n\nAudience: \n\nHigh School\n\n\nNumber Attending: \n\n100
URL:https://coolspeak.com/event/2025-lllc-gear-up-leadership-bootcamp/
CATEGORIES:Event
END:VEVENT
BEGIN:VEVENT
DTSTART;VALUE=DATE:20250805
DTEND;VALUE=DATE:20250806
DTSTAMP:20260421T121432
CREATED:20250606T043648Z
LAST-MODIFIED:20250805T231149Z
UID:10001881-1754352000-1754438399@coolspeak.com
SUMMARY:Fall 2025 WSU GEAR UP TriCities Kickoff W. Joaquin
DESCRIPTION:Speaker:\n\nJoaquin Zihuatanejo\n\n\nEvent: \n\nFall 2025 WSU GEAR UP TriCities Kickoff W. Joaquin\n\n\nDescription: \n\nJoaquin will be working with TriCities staff on different writing exercises to show their students during the 25/26 school year\n\n\nTheme: \n\nKickoff\n\n\nDate:  \n\n8/5/2025\n\n\nWorkshop Start Time: \n\n8:00 AM\n\n\nAudience: \n\n\nProfessional\n\n\nNumber Attending: \n\n80
URL:https://coolspeak.com/event/fall-2025-wsu-gear-up-tricities-kickoff-w-joaquin/
CATEGORIES:Event
END:VEVENT
BEGIN:VEVENT
DTSTART;TZID=America/New_York:20250804T100000
DTEND;TZID=America/New_York:20250804T110000
DTSTAMP:20260421T121432
CREATED:20241217T201345Z
LAST-MODIFIED:20250804T141117Z
UID:10001590-1754301600-1754305200@coolspeak.com
SUMMARY:Fall 2025 Chester ISD PD Session W. Natty
DESCRIPTION:Below are the event details: \n\nSpeaker: \n\nNatasha Carrizosa\n\n\nEvent Title:\n\n Fall 2025 Chester ISD PD Session W. Natty\n\n\nClient Program/Organization:\n\n Chester Independent School District\n\n\nEvent Description: \n\nNatty will do her workshop “Stones Throw” with the staff of Chester ISD\n\n\nTheme: \n\nProfessional Development\n\n\nStart Date:\n\n 2025-08-04\n\n\nEnd Date:\n\n 2025-08-04\n\n\nStart Time:\n\n 9:00 AM\n\n\nEnd Time: \n\n10:00 AM\n\n\nCity/State: \n\nChester\, TX\n\n\nAudience: \n\nProfessional\n\n\nNumber attending: \n\n40
URL:https://coolspeak.com/event/fall-2025-chester-isd-pd-session-w-natty/
CATEGORIES:Event
END:VEVENT
BEGIN:VEVENT
DTSTART;VALUE=DATE:20250804
DTEND;VALUE=DATE:20250805
DTSTAMP:20260421T121432
CREATED:20250730T222624Z
LAST-MODIFIED:20250804T231130Z
UID:10001933-1754265600-1754351999@coolspeak.com
SUMMARY:Alief ISD Staff Development with Ernesto Mejia
DESCRIPTION:Web Calendar Event Information\nSpeaker: Ernesto Mejia\nEvent Title: Professional Development by Ernesto Mejia\nClient Program/Organization: Alief Independent School District\nEvent Description: Professional Development by Ernesto Mejia on how to engage newcomer families\nTheme: Family Engagement\nStart Date: 2025-08-04\nEnd Date: 2025-08-04\nStart Time: 8:30 AM\nEnd Time: 12:00 PM\nCity/State: Houston\, TX\nAudience: Professional\nNumber attending: 50
URL:https://coolspeak.com/event/alief-isd-staff-development-with-ernesto-mejia/
CATEGORIES:Event
END:VEVENT
END:VCALENDAR