BEGIN:VCALENDAR
VERSION:2.0
PRODID:-//CoolSpeak - ECPv6.15.18//NONSGML v1.0//EN
CALSCALE:GREGORIAN
METHOD:PUBLISH
X-WR-CALNAME:CoolSpeak
X-ORIGINAL-URL:https://coolspeak.com
X-WR-CALDESC:Events for CoolSpeak
REFRESH-INTERVAL;VALUE=DURATION:PT1H
X-Robots-Tag:noindex
X-PUBLISHED-TTL:PT1H
BEGIN:VTIMEZONE
TZID:America/New_York
BEGIN:DAYLIGHT
TZOFFSETFROM:-0500
TZOFFSETTO:-0400
TZNAME:EDT
DTSTART:20200308T070000
END:DAYLIGHT
BEGIN:STANDARD
TZOFFSETFROM:-0400
TZOFFSETTO:-0500
TZNAME:EST
DTSTART:20201101T060000
END:STANDARD
BEGIN:DAYLIGHT
TZOFFSETFROM:-0500
TZOFFSETTO:-0400
TZNAME:EDT
DTSTART:20210314T070000
END:DAYLIGHT
BEGIN:STANDARD
TZOFFSETFROM:-0400
TZOFFSETTO:-0500
TZNAME:EST
DTSTART:20211107T060000
END:STANDARD
BEGIN:DAYLIGHT
TZOFFSETFROM:-0500
TZOFFSETTO:-0400
TZNAME:EDT
DTSTART:20220313T070000
END:DAYLIGHT
BEGIN:STANDARD
TZOFFSETFROM:-0400
TZOFFSETTO:-0500
TZNAME:EST
DTSTART:20221106T060000
END:STANDARD
END:VTIMEZONE
BEGIN:VEVENT
DTSTART;TZID=America/New_York:20210607T100000
DTEND;TZID=America/New_York:20210612T160000
DTSTAMP:20260424T174209
CREATED:20210507T234504Z
LAST-MODIFIED:20210507T234504Z
UID:10000098-1623060000-1623513600@coolspeak.com
SUMMARY:Region 12 BRAIN STEM Chemistry and Physics Summer Camp.
DESCRIPTION:Program: BRAIN STEM Chemistry (6/7-6/9/21) and Physics (6/10-6/12/21)\nClient: Region 12
URL:https://coolspeak.com/event/region-12-brain-stem-chemistry-and-physics-summer-camp-2/
END:VEVENT
BEGIN:VEVENT
DTSTART;TZID=America/New_York:20210607T100000
DTEND;TZID=America/New_York:20210612T160000
DTSTAMP:20260424T174209
CREATED:20210507T234504Z
LAST-MODIFIED:20210507T234504Z
UID:10000097-1623060000-1623513600@coolspeak.com
SUMMARY:Region 12 BRAIN STEM Chemistry and Physics Summer Camp.
DESCRIPTION:Program: BRAIN STEM Chemistry (6/7-6/9/21) and Physics (6/10-6/12/21)\nClient: Region 12
URL:https://coolspeak.com/event/region-12-brain-stem-chemistry-and-physics-summer-camp/
END:VEVENT
BEGIN:VEVENT
DTSTART;TZID=America/New_York:20210603T103000
DTEND;TZID=America/New_York:20210603T143000
DTSTAMP:20260424T174209
CREATED:20210503T231818Z
LAST-MODIFIED:20210503T231818Z
UID:10000093-1622716200-1622730600@coolspeak.com
SUMMARY:Region 12 Creative Writing Virtual Camp with Natasha Carrizosa.
DESCRIPTION:Speaker: Natasha Carrizosa.\nClient: Region 12\nDescription: 3 day Creative Writing Camp.\nCoolSpeak will provide the virtual platform.
URL:https://coolspeak.com/event/region-12-creative-writing-virtual-camp-with-natasha-carrizosa-3-2/
END:VEVENT
BEGIN:VEVENT
DTSTART;TZID=America/New_York:20210603T103000
DTEND;TZID=America/New_York:20210603T143000
DTSTAMP:20260424T174209
CREATED:20210503T231818Z
LAST-MODIFIED:20210503T231818Z
UID:10000094-1622716200-1622730600@coolspeak.com
SUMMARY:Region 12 Creative Writing Virtual Camp with Natasha Carrizosa.
DESCRIPTION:Speaker: Natasha Carrizosa.\nClient: Region 12\nDescription: 3 day Creative Writing Camp.\nCoolSpeak will provide the virtual platform.
URL:https://coolspeak.com/event/region-12-creative-writing-virtual-camp-with-natasha-carrizosa-3/
END:VEVENT
BEGIN:VEVENT
DTSTART;TZID=America/New_York:20210603T090000
DTEND;TZID=America/New_York:20210603T110000
DTSTAMP:20260424T174209
CREATED:20210528T191559Z
LAST-MODIFIED:20210528T191559Z
UID:10000111-1622710800-1622718000@coolspeak.com
SUMMARY:Midlands GEAR UP Virtual Professional Development with Carlos Ojeda Jr.
DESCRIPTION:Speaker: Carlos Ojeda Jr.\nClient: Midlands GEAR UP\nDescription: 2-hour virtual Professional Development.
URL:https://coolspeak.com/event/midlands-gear-up-virtual-professional-development-with-carlos-ojeda-jr/
END:VEVENT
BEGIN:VEVENT
DTSTART;TZID=America/New_York:20210603T090000
DTEND;TZID=America/New_York:20210603T110000
DTSTAMP:20260424T174209
CREATED:20210528T191559Z
LAST-MODIFIED:20210528T191559Z
UID:10000113-1622710800-1622718000@coolspeak.com
SUMMARY:Midlands GEAR UP Virtual Professional Development with Carlos Ojeda Jr.
DESCRIPTION:Speaker: Carlos Ojeda Jr.\nClient: Midlands GEAR UP\nDescription: 2-hour virtual Professional Development.
URL:https://coolspeak.com/event/midlands-gear-up-virtual-professional-development-with-carlos-ojeda-jr-2/
END:VEVENT
BEGIN:VEVENT
DTSTART;TZID=America/New_York:20210602T103000
DTEND;TZID=America/New_York:20210602T143000
DTSTAMP:20260424T174209
CREATED:20210502T235944Z
LAST-MODIFIED:20210502T235944Z
UID:10000091-1622629800-1622644200@coolspeak.com
SUMMARY:Region 12 Creative Writing Virtual Camp with Natasha Carrizosa.
DESCRIPTION:Speaker: Natasha Carrizosa.\nClient: Region 12\nDescription: 3-day Creative Writing Camp.\nCoolSpeak will provide the virtual platform.
URL:https://coolspeak.com/event/region-12-creative-writing-virtual-camp-with-natasha-carrizosa-2/
END:VEVENT
BEGIN:VEVENT
DTSTART;TZID=America/New_York:20210602T103000
DTEND;TZID=America/New_York:20210602T143000
DTSTAMP:20260424T174209
CREATED:20210502T235944Z
LAST-MODIFIED:20210502T235944Z
UID:10000092-1622629800-1622644200@coolspeak.com
SUMMARY:Region 12 Creative Writing Virtual Camp with Natasha Carrizosa.
DESCRIPTION:Speaker: Natasha Carrizosa.\nClient: Region 12\nDescription: 3-day Creative Writing Camp.\nCoolSpeak will provide the virtual platform.
URL:https://coolspeak.com/event/region-12-creative-writing-virtual-camp-with-natasha-carrizosa-2-2/
END:VEVENT
BEGIN:VEVENT
DTSTART;TZID=America/New_York:20210601T103000
DTEND;TZID=America/New_York:20210601T143000
DTSTAMP:20260424T174209
CREATED:20210501T232945Z
LAST-MODIFIED:20210501T232945Z
UID:10000090-1622543400-1622557800@coolspeak.com
SUMMARY:Region 12 Creative Writing Virtual Camp with Natasha Carrizosa.
DESCRIPTION:Speaker: Natasha Carrizosa.\nClient: Region 12\nDescription: 3-day Virtual Creative Writing Workshop.\nCoolSpeak will provide virtual platform.
URL:https://coolspeak.com/event/region-12-creative-writing-virtual-camp-with-natasha-carrizosa-4/
END:VEVENT
BEGIN:VEVENT
DTSTART;TZID=America/New_York:20210601T103000
DTEND;TZID=America/New_York:20210601T143000
DTSTAMP:20260424T174209
CREATED:20210501T232945Z
LAST-MODIFIED:20210501T232945Z
UID:10000089-1622543400-1622557800@coolspeak.com
SUMMARY:Region 12 Creative Writing Virtual Camp with Natasha Carrizosa.
DESCRIPTION:Speaker: Natasha Carrizosa.\nClient: Region 12\nDescription: 3-day Virtual Creative Writing Workshop.\nCoolSpeak will provide virtual platform.
URL:https://coolspeak.com/event/region-12-creative-writing-virtual-camp-with-natasha-carrizosa/
END:VEVENT
BEGIN:VEVENT
DTSTART;TZID=America/New_York:20210527T180000
DTEND;TZID=America/New_York:20210527T203000
DTSTAMP:20260424T174209
CREATED:20210430T184749Z
LAST-MODIFIED:20210430T184749Z
UID:10000087-1622138400-1622147400@coolspeak.com
SUMMARY:NY GEAR UP Youth Virtual Conference
DESCRIPTION:
URL:https://coolspeak.com/event/ny-gear-up-youth-virtual-conference-2/
END:VEVENT
BEGIN:VEVENT
DTSTART;TZID=America/New_York:20210527T180000
DTEND;TZID=America/New_York:20210527T203000
DTSTAMP:20260424T174209
CREATED:20210430T184749Z
LAST-MODIFIED:20210430T184749Z
UID:10000088-1622138400-1622147400@coolspeak.com
SUMMARY:NY GEAR UP Youth Virtual Conference
DESCRIPTION:
URL:https://coolspeak.com/event/ny-gear-up-youth-virtual-conference/
END:VEVENT
BEGIN:VEVENT
DTSTART;TZID=America/New_York:20210520T120000
DTEND;TZID=America/New_York:20210520T140000
DTSTAMP:20260424T174209
CREATED:20210419T231346Z
LAST-MODIFIED:20210419T231346Z
UID:10000084-1621512000-1621519200@coolspeak.com
SUMMARY:Fairfax High School Virtual Presentations with Carlos Ojeda Jr.
DESCRIPTION:Speaker: Carlos Ojeda Jr.\nClient: Fairfax High School\nDescription:\n(2) 35-minute speeches\nFirst speech: 9:10 am – 9:45 am PST\nSecond Speech: 10:25 am – 11 am PST.\nCoolSpeak will provide 2 $25 Amazon Gift Cards\nClient will provide virtual link.\nFocus: Resilience\, Motivation\, Diversity and Equity
URL:https://coolspeak.com/event/fairfax-high-school-virtual-presentations-with-carlos-ojeda-jr/
END:VEVENT
BEGIN:VEVENT
DTSTART;TZID=America/New_York:20210520T120000
DTEND;TZID=America/New_York:20210520T140000
DTSTAMP:20260424T174209
CREATED:20210419T231346Z
LAST-MODIFIED:20210419T231346Z
UID:10000086-1621512000-1621519200@coolspeak.com
SUMMARY:Fairfax High School Virtual Presentations with Carlos Ojeda Jr.
DESCRIPTION:Speaker: Carlos Ojeda Jr.\nClient: Fairfax High School\nDescription:\n(2) 35-minute speeches\nFirst speech: 9:10 am – 9:45 am PST\nSecond Speech: 10:25 am – 11 am PST.\nCoolSpeak will provide 2 $25 Amazon Gift Cards\nClient will provide virtual link.\nFocus: Resilience\, Motivation\, Diversity and Equity
URL:https://coolspeak.com/event/fairfax-high-school-virtual-presentations-with-carlos-ojeda-jr-2/
END:VEVENT
BEGIN:VEVENT
DTSTART;TZID=America/New_York:20210520T000000
DTEND;TZID=America/New_York:20210521T235959
DTSTAMP:20260424T174209
CREATED:20210419T231346Z
LAST-MODIFIED:20210419T231346Z
UID:10000083-1621468800-1621641599@coolspeak.com
SUMMARY:GEAR UP Dougherty Virtual Escape Rooms Day
DESCRIPTION:Speaker: CoolSpeak.\nClient: GEAR UP Dougherty\nDescription: GEAR UP Dougherty Virtual Escape Rooms Day\nCoolSpeak will provide the virtual platform.
URL:https://coolspeak.com/event/gear-up-dougherty-virtual-scavenger-hunt-day-2/
END:VEVENT
BEGIN:VEVENT
DTSTART;TZID=America/New_York:20210520T000000
DTEND;TZID=America/New_York:20210521T235959
DTSTAMP:20260424T174209
CREATED:20210419T231346Z
LAST-MODIFIED:20210419T231346Z
UID:10000085-1621468800-1621641599@coolspeak.com
SUMMARY:GEAR UP Dougherty Virtual Escape Rooms Day
DESCRIPTION:Speaker: CoolSpeak.\nClient: GEAR UP Dougherty\nDescription: GEAR UP Dougherty Virtual Escape Rooms Day\nCoolSpeak will provide the virtual platform.
URL:https://coolspeak.com/event/gear-up-dougherty-virtual-scavenger-hunt-day/
END:VEVENT
BEGIN:VEVENT
DTSTART;TZID=America/New_York:20210517T130000
DTEND;TZID=America/New_York:20210517T150000
DTSTAMP:20260424T174209
CREATED:20210517T111314Z
LAST-MODIFIED:20210517T111314Z
UID:10000106-1621256400-1621263600@coolspeak.com
SUMMARY:Big Bend Community College Virtual Professional Development
DESCRIPTION:Speaker: Carlos Ojeda Jr.\nClient: Big Bend Community College\nDescription: Professional Development on how to better engage the youth with technology.\n2 Hours Professional Development.\nCoolSpeak will provide the virtual platform.
URL:https://coolspeak.com/event/big-bend-community-college-virtual-professional-development-2/
END:VEVENT
BEGIN:VEVENT
DTSTART;TZID=America/New_York:20210517T130000
DTEND;TZID=America/New_York:20210517T150000
DTSTAMP:20260424T174209
CREATED:20210517T111314Z
LAST-MODIFIED:20210517T111314Z
UID:10000105-1621256400-1621263600@coolspeak.com
SUMMARY:Big Bend Community College Virtual Professional Development
DESCRIPTION:Speaker: Carlos Ojeda Jr.\nClient: Big Bend Community College\nDescription: Professional Development on how to better engage the youth with technology.\n2 Hours Professional Development.\nCoolSpeak will provide the virtual platform.
URL:https://coolspeak.com/event/big-bend-community-college-virtual-professional-development/
END:VEVENT
BEGIN:VEVENT
DTSTART;TZID=America/New_York:20210507T110000
DTEND;TZID=America/New_York:20210507T150000
DTSTAMP:20260424T174209
CREATED:20210419T140155Z
LAST-MODIFIED:20210419T140155Z
UID:10000082-1620385200-1620399600@coolspeak.com
SUMMARY:Online Learning Program/Greeley & Evans School District Six Workshop with Joaquin Zihuatanejo.
DESCRIPTION:Speaker: Joaquin Zihuatanejo.\nClient: Greeley & Evans School District\nDescription: Writing\, Self-Expression Virtual Workshop.\nClient will provide virtual Zoom Link.
URL:https://coolspeak.com/event/online-learning-program-greeley-evans-school-district-six-workshop-with-joaquin-zihuatanejo-2/
END:VEVENT
BEGIN:VEVENT
DTSTART;TZID=America/New_York:20210507T110000
DTEND;TZID=America/New_York:20210507T150000
DTSTAMP:20260424T174209
CREATED:20210419T140155Z
LAST-MODIFIED:20210419T140155Z
UID:10000081-1620385200-1620399600@coolspeak.com
SUMMARY:Online Learning Program/Greeley & Evans School District Six Workshop with Joaquin Zihuatanejo.
DESCRIPTION:Speaker: Joaquin Zihuatanejo.\nClient: Greeley & Evans School District\nDescription: Writing\, Self-Expression Virtual Workshop.\nClient will provide virtual Zoom Link.
URL:https://coolspeak.com/event/online-learning-program-greeley-evans-school-district-six-workshop-with-joaquin-zihuatanejo/
END:VEVENT
BEGIN:VEVENT
DTSTART;TZID=America/New_York:20210506T213000
DTEND;TZID=America/New_York:20210506T223000
DTSTAMP:20260424T174209
CREATED:20210406T232819Z
LAST-MODIFIED:20210406T232819Z
UID:10000079-1620336600-1620340200@coolspeak.com
SUMMARY:Educational Service District 123 Virtual Student Presentation with Joaquin Zihuatanejo.
DESCRIPTION:Speaker: Joaquin Zihuatanejo\nClient: Viviana Magallon at Educational Service District 123.\nDescription: Leadership\, socio-emotional learning\, personal self reflection for migrant students.\nClient will provide virtual platform.
URL:https://coolspeak.com/event/educational-service-district-123-virtual-student-presentation-with-joaquin-zihuatanejo/
END:VEVENT
BEGIN:VEVENT
DTSTART;TZID=America/New_York:20210506T213000
DTEND;TZID=America/New_York:20210506T223000
DTSTAMP:20260424T174209
CREATED:20210406T232819Z
LAST-MODIFIED:20210406T232819Z
UID:10000080-1620336600-1620340200@coolspeak.com
SUMMARY:Educational Service District 123 Virtual Student Presentation with Joaquin Zihuatanejo.
DESCRIPTION:Speaker: Joaquin Zihuatanejo\nClient: Viviana Magallon at Educational Service District 123.\nDescription: Leadership\, socio-emotional learning\, personal self reflection for migrant students.\nClient will provide virtual platform.
URL:https://coolspeak.com/event/educational-service-district-123-virtual-student-presentation-with-joaquin-zihuatanejo-2/
END:VEVENT
BEGIN:VEVENT
DTSTART;TZID=America/New_York:20210428T160000
DTEND;TZID=America/New_York:20210428T170000
DTSTAMP:20260424T174209
CREATED:20210401T161438Z
LAST-MODIFIED:20210401T161438Z
UID:10000077-1619625600-1619629200@coolspeak.com
SUMMARY:Laurens District 55 High School GEAR UP Virtual Professional Development: ENGAGE With Carlos Ojeda Jr.
DESCRIPTION:Speaker: Carlos Ojeda Jr.\nClient: Laurens District 55 High School GEAR UP\nDescription: 60-minute Virtual Professional Development: ENGAGE
URL:https://coolspeak.com/event/laurens-district-55-high-school-gear-up-virtual-professional-development-engage-with-carlos-ojeda-jr-2/
END:VEVENT
BEGIN:VEVENT
DTSTART;TZID=America/New_York:20210428T160000
DTEND;TZID=America/New_York:20210428T170000
DTSTAMP:20260424T174209
CREATED:20210401T161438Z
LAST-MODIFIED:20210401T161438Z
UID:10000078-1619625600-1619629200@coolspeak.com
SUMMARY:Laurens District 55 High School GEAR UP Virtual Professional Development: ENGAGE With Carlos Ojeda Jr.
DESCRIPTION:Speaker: Carlos Ojeda Jr.\nClient: Laurens District 55 High School GEAR UP\nDescription: 60-minute Virtual Professional Development: ENGAGE
URL:https://coolspeak.com/event/laurens-district-55-high-school-gear-up-virtual-professional-development-engage-with-carlos-ojeda-jr/
END:VEVENT
BEGIN:VEVENT
DTSTART;TZID=America/New_York:20210427T123000
DTEND;TZID=America/New_York:20210427T133000
DTSTAMP:20260424T174209
CREATED:20210401T161437Z
LAST-MODIFIED:20210401T161437Z
UID:10000076-1619526600-1619530200@coolspeak.com
SUMMARY:Idaho State Department of Education Virtual Presentation by Carlos Ojeda Jr.
DESCRIPTION:Speaker: Carlos Ojeda Jr.\nClient: Idaho State Department of Education/GEAR UP Idaho\nDescription: Virtual Presentation for Idaho State Department of Education/ GEAR UP Coordinators.\nClient will provide a Zoom Virtual Link.
URL:https://coolspeak.com/event/idaho-state-department-of-education-virtual-presentation-by-carlos-ojeda-jr/
END:VEVENT
BEGIN:VEVENT
DTSTART;TZID=America/New_York:20210427T123000
DTEND;TZID=America/New_York:20210427T133000
DTSTAMP:20260424T174209
CREATED:20210401T161437Z
LAST-MODIFIED:20210401T161437Z
UID:10000071-1619526600-1619530200@coolspeak.com
SUMMARY:Idaho State Department of Education Virtual Presentation by Carlos Ojeda Jr.
DESCRIPTION:Speaker: Carlos Ojeda Jr.\nClient: Idaho State Department of Education/GEAR UP Idaho\nDescription: Virtual Presentation for Idaho State Department of Education/ GEAR UP Coordinators.\nClient will provide a Zoom Virtual Link.
URL:https://coolspeak.com/event/idaho-state-department-of-education-virtual-presentation-by-carlos-ojeda-jr-2/
END:VEVENT
BEGIN:VEVENT
DTSTART;TZID=America/New_York:20210426T170000
DTEND;TZID=America/New_York:20210426T174500
DTSTAMP:20260424T174209
CREATED:20210401T161437Z
LAST-MODIFIED:20210401T161437Z
UID:10000075-1619456400-1619459100@coolspeak.com
SUMMARY:Idaho State Department of Education Virtual Presentation by Ernesto Mejia
DESCRIPTION:Speaker: Ernesto Mejia\nClient: Idaho State Department of Education/GEAR UP Idaho Coordinators\nDescription: Virtual presentation on parent engagement.\nClient will provide Zoom Virtual Link.
URL:https://coolspeak.com/event/idaho-state-department-of-education-virtual-presentation-by-ernesto-mejia/
END:VEVENT
BEGIN:VEVENT
DTSTART;TZID=America/New_York:20210426T170000
DTEND;TZID=America/New_York:20210426T174500
DTSTAMP:20260424T174209
CREATED:20210401T161437Z
LAST-MODIFIED:20210401T161437Z
UID:10000073-1619456400-1619459100@coolspeak.com
SUMMARY:Idaho State Department of Education Virtual Presentation by Ernesto Mejia
DESCRIPTION:Speaker: Ernesto Mejia\nClient: Idaho State Department of Education/GEAR UP Idaho Coordinators\nDescription: Virtual presentation on parent engagement.\nClient will provide Zoom Virtual Link.
URL:https://coolspeak.com/event/idaho-state-department-of-education-virtual-presentation-by-ernesto-mejia-2/
END:VEVENT
BEGIN:VEVENT
DTSTART;TZID=America/New_York:20210426T130000
DTEND;TZID=America/New_York:20210426T140000
DTSTAMP:20260424T174209
CREATED:20210401T161437Z
LAST-MODIFIED:20210401T161437Z
UID:10000074-1619442000-1619445600@coolspeak.com
SUMMARY:Northwest Vista College Virtual Keynote Presentation with Lilyan Prado Carrillo.
DESCRIPTION:Speaker: Lilyan Prado-Carrillo\nClient: Northwest Vista College.\nDescription: Virtual Keynote Presentation and Q&A Session with Lilyan Prado Carrillo.\nCoolSpeak will provide the virtual platform.
URL:https://coolspeak.com/event/northwest-vista-college-virtual-keynote-presentation-with-lilyan-prado-carrillo/
END:VEVENT
BEGIN:VEVENT
DTSTART;TZID=America/New_York:20210426T130000
DTEND;TZID=America/New_York:20210426T140000
DTSTAMP:20260424T174209
CREATED:20210401T161437Z
LAST-MODIFIED:20210401T161437Z
UID:10000072-1619442000-1619445600@coolspeak.com
SUMMARY:Northwest Vista College Virtual Keynote Presentation with Lilyan Prado Carrillo.
DESCRIPTION:Speaker: Lilyan Prado-Carrillo\nClient: Northwest Vista College.\nDescription: Virtual Keynote Presentation and Q&A Session with Lilyan Prado Carrillo.\nCoolSpeak will provide the virtual platform.
URL:https://coolspeak.com/event/northwest-vista-college-virtual-keynote-presentation-with-lilyan-prado-carrillo-2/
END:VEVENT
END:VCALENDAR