BEGIN:VCALENDAR
VERSION:2.0
PRODID:-//CoolSpeak - ECPv6.15.18//NONSGML v1.0//EN
CALSCALE:GREGORIAN
METHOD:PUBLISH
X-WR-CALNAME:CoolSpeak
X-ORIGINAL-URL:https://coolspeak.com
X-WR-CALDESC:Events for CoolSpeak
REFRESH-INTERVAL;VALUE=DURATION:PT1H
X-Robots-Tag:noindex
X-PUBLISHED-TTL:PT1H
BEGIN:VTIMEZONE
TZID:America/New_York
BEGIN:DAYLIGHT
TZOFFSETFROM:-0500
TZOFFSETTO:-0400
TZNAME:EDT
DTSTART:20240310T070000
END:DAYLIGHT
BEGIN:STANDARD
TZOFFSETFROM:-0400
TZOFFSETTO:-0500
TZNAME:EST
DTSTART:20241103T060000
END:STANDARD
BEGIN:DAYLIGHT
TZOFFSETFROM:-0500
TZOFFSETTO:-0400
TZNAME:EDT
DTSTART:20250309T070000
END:DAYLIGHT
BEGIN:STANDARD
TZOFFSETFROM:-0400
TZOFFSETTO:-0500
TZNAME:EST
DTSTART:20251102T060000
END:STANDARD
BEGIN:DAYLIGHT
TZOFFSETFROM:-0500
TZOFFSETTO:-0400
TZNAME:EDT
DTSTART:20260308T070000
END:DAYLIGHT
BEGIN:STANDARD
TZOFFSETFROM:-0400
TZOFFSETTO:-0500
TZNAME:EST
DTSTART:20261101T060000
END:STANDARD
END:VTIMEZONE
BEGIN:VEVENT
DTSTART;TZID=America/New_York:20250728T090000
DTEND;TZID=America/New_York:20250728T150000
DTSTAMP:20260421T165437
CREATED:20250708T202622Z
LAST-MODIFIED:20250728T182616Z
UID:10001917-1753693200-1753714800@coolspeak.com
SUMMARY:2025 Summer Coldspring Oakhurst CISD
DESCRIPTION:
URL:https://coolspeak.com/event/2025-summer-coldspring-oakhurst-cisd-2/
LOCATION:Coldspring\, Coldspring\, TX\, United States
CATEGORIES:Event
GEO:30.692416;-95.184105
END:VEVENT
BEGIN:VEVENT
DTSTART;TZID=America/New_York:20250728T080000
DTEND;TZID=America/New_York:20250728T170000
DTSTAMP:20260421T165437
CREATED:20250430T190418Z
LAST-MODIFIED:20250728T202626Z
UID:10001806-1753689600-1753722000@coolspeak.com
SUMMARY:Summer 2025 Bedford County Schools PD
DESCRIPTION:Speaker: \n\nCarlos Ojeda Jr. \n\n\nEvent: \n\nSummer 2025 Bedford County Schools PD\n\n\nDescription: \n\nCarlos will deliver a keynote on the power of passion and persistence\, engaging Bedford County Schools staff with insights and strategies to inspire lasting impact in their classrooms and school communities.\n\n\nTheme: \n\nPower of Passion and Persistence\n\n\nDate:  \n\n7/28/2025\n\n\nPresentation Start Time:  \n\n9:00 AM\n\n\nWorkshop Start Time: \n\n10:00 AM\n\n\nVenue: \n\nSchool Auditorium\n\n\nAudience: \n\nProfessional\n\n\nNumber Attending: \n\n800
URL:https://coolspeak.com/event/summer-2025-bedford-county-schools-pd/
CATEGORIES:Event
END:VEVENT
BEGIN:VEVENT
DTSTART;TZID=America/New_York:20250725T183000
DTEND;TZID=America/New_York:20250725T213000
DTSTAMP:20260421T165437
CREATED:20250627T195147Z
LAST-MODIFIED:20250726T004130Z
UID:10001907-1753468200-1753479000@coolspeak.com
SUMMARY:2025 Kansas City Kansas GEAR UP Next Step Scholars Celebration Day.
DESCRIPTION:Speaker: \n\nMarlon Lizama\n\n\nEvent Title: \n\n2025 Kansas City Kansas GEAR UP Next Step Scholars Celebration Day.\n\n\nClient Program/Organization: \n\nUniversity of Kansas\n\n\nEvent Description: \n\nMarley Lizama will provide a Celebration Presentation for GEAR UP Students who are currently in First Year of College\, Participating in a Certification Program\, or in the Workforce.\n\n\nTheme: \n\nGEAR UP/College Readiness/Career Readiness.\n\n\nStart Date: \n\n2025-07-25\n\n\nEnd Date: \n\n2025-07-25\n\n\nStart Time:\n\n 6:30 PM\nEnd Time: 9:30 PM\n\n\nCity/State: \n\nOverland Park\, KS\n\n\nAudience: \n\nCollege\n\n\nNumber attending:\n\n50
URL:https://coolspeak.com/event/2025-kansas-city-kansas-gear-up-next-step-scholars-celebration-day/
CATEGORIES:Event
END:VEVENT
BEGIN:VEVENT
DTSTART;TZID=America/New_York:20250725T080000
DTEND;TZID=America/New_York:20250725T200000
DTSTAMP:20260421T165437
CREATED:20250715T075645Z
LAST-MODIFIED:20250725T234117Z
UID:10001922-1753430400-1753473600@coolspeak.com
SUMMARY:2025 Otay Ranch High School No Backpack Day
DESCRIPTION:Speaker:\n\nLamarr Womble\n\n\nEvent: \n\n2025 Otay Ranch High School No Backpack Day\n\n\nDescription: \n\nLamarr will deliver his keynote to each grade during No Backpack Day\n\n\nTheme: \n\nLeadership\n\n\nDate:  \n\n7/25/2025\n\n\nPresentation Start Time:  \n\n8:30 AM\n\n\nAudience: \n\nHigh School\n\n\nNumber Attending: \n\n2\,500
URL:https://coolspeak.com/event/2025-otay-ranch-high-school-no-backpack-day/
CATEGORIES:Event
END:VEVENT
BEGIN:VEVENT
DTSTART;TZID=America/New_York:20250723T080000
DTEND;TZID=America/New_York:20250723T140000
DTSTAMP:20260421T165437
CREATED:20250706T172700Z
LAST-MODIFIED:20250723T175633Z
UID:10001916-1753257600-1753279200@coolspeak.com
SUMMARY:2025 Lufkin ISD Freshman Orientation
DESCRIPTION:
URL:https://coolspeak.com/event/2025-summer-coldspring-oakhurst-cisd/
LOCATION:Lufkin\, TX\, USA
CATEGORIES:Event
END:VEVENT
BEGIN:VEVENT
DTSTART;TZID=America/New_York:20250721T180000
DTEND;TZID=America/New_York:20250721T190000
DTSTAMP:20260421T165437
CREATED:20250721T152721Z
LAST-MODIFIED:20250721T224249Z
UID:10001925-1753120800-1753124400@coolspeak.com
SUMMARY:All Aboard Tours - CSU MB Upward Bound Tour
DESCRIPTION:Below are the event details: \n\nSpeaker: Zach Gowen\nEvent Title: All Aboard Tours – CSU MB Upward Bound Tour\nClient Program/Organization: All Aboard Tours\nEvent Description: Zach Gowen will provide a Keynote Presentation for High School Upward Bound Students\nTheme: College/Bus Tour/Education\nStart Date: 2025-07-21\nEnd Date: 2025-07-21\nStart Time: 3:00 PM\nEnd Time: 4:00 PM\nCity/State: Los Angeles\, CA\nAudience: High School\nNumber attending: 55
URL:https://coolspeak.com/event/all-aboard-tours-csu-mb-upward-bound-tour/
CATEGORIES:Event
END:VEVENT
BEGIN:VEVENT
DTSTART;TZID=America/New_York:20250719T083000
DTEND;TZID=America/New_York:20250719T140000
DTSTAMP:20260421T165437
CREATED:20250716T061117Z
LAST-MODIFIED:20250719T172635Z
UID:10001923-1752913800-1752933600@coolspeak.com
SUMMARY:Summer 2025 Workforce Solutions Borderplex PD
DESCRIPTION:Speaker:\n\nDr. Laura Rizo\n\n\nEvent: \n\nSummer 2025 Workforce Solutions Borderplex PD\n\n\nDescription: \n\nRizo will work will do her keynote\, workshop & team building activities with the professionals of Workforce Solutions Borderplex\n\n\nTheme: \n\nYou Are a Superhero\n\n\nDate:  \n\n7/19/2025\n\n\nPresentation Start Time:  \n\n12:00 PM\n\n\nWorkshop Start Time: \n\n9:00 AM\n\n\nAudience: \n\nProfessional\n\n\nNumber Attending: \n\n350
URL:https://coolspeak.com/event/summer-2025-workforce-solutions-borderplex-pd/
CATEGORIES:Event
END:VEVENT
BEGIN:VEVENT
DTSTART;TZID=America/New_York:20250718T120000
DTEND;TZID=America/New_York:20250718T150000
DTSTAMP:20260421T165437
CREATED:20250620T175320Z
LAST-MODIFIED:20250718T185617Z
UID:10001905-1752840000-1752850800@coolspeak.com
SUMMARY:2025 Advise TN Kickoff Luncheon
DESCRIPTION:Speaker:\n\nCarlos Ojeda Jr.\n\n\nEvent: \n\n2025 Advise TN Kickoff Luncheon\n\n\nDescription: \n\nChu will deliver his keynote during the luncheon\n\n\nTheme: \n\nProfessional Development\n\n\nDate:  \n\n7/18/2025\n\n\nPresentation Start Time:  \n\n11:30 AM\n\n\nAudience: \n\nProfessional\n\n\nNumber Attending: \n\n60
URL:https://coolspeak.com/event/2025-advise-tn-kickoff-luncheon/
CATEGORIES:Event
END:VEVENT
BEGIN:VEVENT
DTSTART;TZID=America/New_York:20250718T090000
DTEND;TZID=America/New_York:20250718T140000
DTSTAMP:20260421T165437
CREATED:20250609T215150Z
LAST-MODIFIED:20250718T175616Z
UID:10001894-1752829200-1752847200@coolspeak.com
SUMMARY:Stevens Institute of Technology Summer Bridge Financial Literacy Program with MJ Bridges Jr.
DESCRIPTION:Below are the event details \n\nSpeaker: \n\nMelvin Bridges Jr.\n\n\nEvent Title: \n\nStevens Institute of Technology Summer Bridge Financial Literacy Program with MJ Bridges Jr.\n\n\nClient Program/Organization:\n\n Stevens Institute of Technology\n\n\nEvent Description:\n\n MJ Bridges will provide a Financial Literacy Workshop for STEP and EOF College Students.\n\n\nTheme:\n\n STEP/EOF/Summer Bridge/Financial Literacy\n\n\nStart Date: \n\n2025-07-18\n\n\nStart Time:\n\n 9:00 AM\n\n\nEnd Time:\n\n 2:00 PM\n\n\nCity/State:\n\n Hoboken\, NJ\n\n\nAudience: \n\nCollege\n\n\nNumber attending: \n\n65
URL:https://coolspeak.com/event/stevens-institute-of-technology-summer-bridge-financial-literacy-program-with-mj-bridges-jr/
CATEGORIES:Event
END:VEVENT
BEGIN:VEVENT
DTSTART;TZID=America/New_York:20250717T080000
DTEND;TZID=America/New_York:20250717T200000
DTSTAMP:20260421T165437
CREATED:20250623T220649Z
LAST-MODIFIED:20250717T232620Z
UID:10001906-1752739200-1752782400@coolspeak.com
SUMMARY:CADA Summer Student Leadership Camp at UC Santa Barbara
DESCRIPTION:Speaker:\n\nChris Collins\n\n\nEvent: \n\nCADA Summer Student Leadership Camp at UC Santa Barbara W. Chris Collins\n\n\nDescription: \n\nSummer camp for student leadership training\n\n\nTheme: \n\nThe Leadership Marathon\n\n\nDate:  \n\n7/17/2025\n\n\nPresentation Start Time:  \n\n7:00 PM\n\n\nRoom:\n\nTheater Room \n\n\nAudience: \n\nHigh School\n\n\nNumber Attending: \n\n400
URL:https://coolspeak.com/event/cada-summer-student-leadership-camp-at-uc-santa-barbara/
CATEGORIES:Event
END:VEVENT
BEGIN:VEVENT
DTSTART;TZID=America/New_York:20250716T080000
DTEND;TZID=America/New_York:20250716T220000
DTSTAMP:20260421T165437
CREATED:20250627T205141Z
LAST-MODIFIED:20250717T012624Z
UID:10001913-1752652800-1752703200@coolspeak.com
SUMMARY:San Felipe Del Rio CISD Bus Trip.
DESCRIPTION:Below are the event details: \n\nSpeaker: Samuel Brown\nEvent Title: 2025 UTRGV Bus Trip.\nClient Program/Organization: University of Texas Rio Grande Valley\nEvent Description: Samuel Brown will Facilitate Team Building Activities for a Bus Trip with High School Students.\nTheme: Bus Tour/Education/Team Building\nStart Date: 2025-07-13\nEnd Date: 2025-07-16\nStart Time: 8:00 AM\nEnd Time: 10:00 PM\nCity/State: San Francisco\, CA\nAudience: High School\nNumber attending: 30
URL:https://coolspeak.com/event/san-felipe-del-rio-cisd-bus-trip-5/
CATEGORIES:Event
END:VEVENT
BEGIN:VEVENT
DTSTART;TZID=America/New_York:20250715T080000
DTEND;TZID=America/New_York:20250715T220000
DTSTAMP:20260421T165437
CREATED:20250627T205141Z
LAST-MODIFIED:20250716T014131Z
UID:10001912-1752566400-1752616800@coolspeak.com
SUMMARY:San Felipe Del Rio CISD Bus Trip.
DESCRIPTION:Below are the event details: \n\nSpeaker: Samuel Brown\nEvent Title: 2025 UTRGV Bus Trip.\nClient Program/Organization: University of Texas Rio Grande Valley\nEvent Description: Samuel Brown will Facilitate Team Building Activities for a Bus Trip with High School Students.\nTheme: Bus Tour/Education/Team Building\nStart Date: 2025-07-13\nEnd Date: 2025-07-16\nStart Time: 8:00 AM\nEnd Time: 10:00 PM\nCity/State: San Francisco\, CA\nAudience: High School\nNumber attending: 30
URL:https://coolspeak.com/event/san-felipe-del-rio-cisd-bus-trip-4/
CATEGORIES:Event
END:VEVENT
BEGIN:VEVENT
DTSTART;TZID=America/New_York:20250714T080000
DTEND;TZID=America/New_York:20250714T220000
DTSTAMP:20260421T165437
CREATED:20250627T205141Z
LAST-MODIFIED:20250715T014122Z
UID:10001911-1752480000-1752530400@coolspeak.com
SUMMARY:San Felipe Del Rio CISD Bus Trip.
DESCRIPTION:Below are the event details: \n\nSpeaker: Samuel Brown\nEvent Title: 2025 UTRGV Bus Trip.\nClient Program/Organization: University of Texas Rio Grande Valley\nEvent Description: Samuel Brown will Facilitate Team Building Activities for a Bus Trip with High School Students.\nTheme: Bus Tour/Education/Team Building\nStart Date: 2025-07-13\nEnd Date: 2025-07-16\nStart Time: 8:00 AM\nEnd Time: 10:00 PM\nCity/State: San Francisco\, CA\nAudience: High School\nNumber attending: 30
URL:https://coolspeak.com/event/san-felipe-del-rio-cisd-bus-trip-3/
CATEGORIES:Event
END:VEVENT
BEGIN:VEVENT
DTSTART;VALUE=DATE:20250714
DTEND;VALUE=DATE:20250719
DTSTAMP:20260421T165437
CREATED:20240907T194506Z
LAST-MODIFIED:20250718T231119Z
UID:10001490-1752451200-1752883199@coolspeak.com
SUMMARY:Innovative School Summit Nashville
DESCRIPTION:
URL:https://coolspeak.com/event/innovative-school-summit-nashville/
CATEGORIES:Event
END:VEVENT
BEGIN:VEVENT
DTSTART;TZID=America/New_York:20250713T080000
DTEND;TZID=America/New_York:20250713T220000
DTSTAMP:20260421T165437
CREATED:20250627T205141Z
LAST-MODIFIED:20250714T015644Z
UID:10001910-1752393600-1752444000@coolspeak.com
SUMMARY:San Felipe Del Rio CISD Bus Trip.
DESCRIPTION:Below are the event details: \n\nSpeaker: Samuel Brown\nEvent Title: 2025 UTRGV Bus Trip.\nClient Program/Organization: University of Texas Rio Grande Valley\nEvent Description: Samuel Brown will Facilitate Team Building Activities for a Bus Trip with High School Students.\nTheme: Bus Tour/Education/Team Building\nStart Date: 2025-07-13\nEnd Date: 2025-07-16\nStart Time: 8:00 AM\nEnd Time: 10:00 PM\nCity/State: San Francisco\, CA\nAudience: High School\nNumber attending: 30
URL:https://coolspeak.com/event/san-felipe-del-rio-cisd-bus-trip-2/
CATEGORIES:Event
END:VEVENT
BEGIN:VEVENT
DTSTART;TZID=America/New_York:20250710T141500
DTEND;TZID=America/New_York:20250710T151500
DTSTAMP:20260421T165437
CREATED:20250609T183709Z
LAST-MODIFIED:20250625T145219Z
UID:10001890-1752156900-1752160500@coolspeak.com
SUMMARY:Appointment Chu
DESCRIPTION:
URL:https://coolspeak.com/event/appointment-chu/
CATEGORIES:Event
END:VEVENT
BEGIN:VEVENT
DTSTART;TZID=America/New_York:20250709T190000
DTEND;TZID=America/New_York:20250709T200000
DTSTAMP:20260421T165437
CREATED:20250522T172145Z
LAST-MODIFIED:20250709T232747Z
UID:10001856-1752087600-1752091200@coolspeak.com
SUMMARY:IU Indianapolis Trio Financial Literacy Workshop with MJ Bridges.
DESCRIPTION:Below are the event details \n\nSpeaker:\n\n Melvin Bridges Jr.\n\n\nEvent Title: \n\nIU Indianapolis Trio Financial Literacy Workshop with MJ Bridges.\n\n\nClient Program/Organization:\n\n IU Indianapolis\n\n\nEvent Description: \n\nMJ Bridges will provide a Financial Aid Workshop for High School Trio Students.\n\n\nTheme:\n\n Trio/Financial Literacy\n\n\nStart Date: \n\n2025-07-09\n\n\nEnd Date: \n\n2025-07-09\n\n\nStart Time: \n\n7:00 PM\n\n\nEnd Time:\n\n 8:00 PM\n\n\nCity/State:\n\n Indianapolis\, IN\n\n\nAudience:\n\n High School\n\n\nNumber attending: \n\n40
URL:https://coolspeak.com/event/iu-indianapolis-trio-financial-literacy-workshop-with-mj-bridges/
CATEGORIES:Event
END:VEVENT
BEGIN:VEVENT
DTSTART;TZID=America/New_York:20250709T083000
DTEND;TZID=America/New_York:20250709T113000
DTSTAMP:20260421T165437
CREATED:20250617T182147Z
LAST-MODIFIED:20250709T152722Z
UID:10001899-1752049800-1752060600@coolspeak.com
SUMMARY:The Money Back Financial Literacy One Day The Money Back Financial Literacy One Day The Money Back Financial Literacy Workshop One Day
DESCRIPTION:Below are the event details \n\nSpeaker: \n\nMelvin Bridges Jr.\n\n\nEvent Title: \n\nThe Money Back Financial Literacy One Day The Money Back Financial Literacy One Day The Money Back Financial Literacy Workshop One Day\n\n\nClient Program/Organization: \n\nIvy Tech Community College\n\n\nEvent Description: \n\nMJ Bridges will provide Two Workshops on Cost of Living and Budgeting.\n\n\nTheme: \n\nFinancial Literacy/Cost of Living/Budgeting\n\n\nStart Date:\n\n 2025-07-09\n\n\nEnd Date: \n\n2025-07-09\n\n\nStart Time: \n\n8:30 AM\n\n\nEnd Time: \n\n11:30 AM\n\n\nCity/State: \n\nIndianapolis\, IN\n\n\nAudience: \n\nCollege\n\n\nNumber attending: \n\n50
URL:https://coolspeak.com/event/the-money-back-financial-literacy-one-day-the-money-back-financial-literacy-one-day-the-money-back-financial-literacy-workshop-one-day/
CATEGORIES:Event
END:VEVENT
BEGIN:VEVENT
DTSTART;TZID=America/New_York:20250707T090000
DTEND;TZID=America/New_York:20250707T130000
DTSTAMP:20260421T165437
CREATED:20250402T195834Z
LAST-MODIFIED:20250707T164129Z
UID:10001752-1751878800-1751893200@coolspeak.com
SUMMARY:Indian River State College Upward Bound Programming.
DESCRIPTION:Below are the event details \n\nSpeaker: \n\nCarlos Ojeda Jr.\n\n\nEvent Title: \n\nIndian River State College Upward Bound Programming.\n\n\nClient Program/Organization:\n\n Indian River State College\n\n\nEvent Description: \n\nCarlos Ojeda Jr. will provide a Half-Day of Programming for Upward Bound Students.\n\n\nTheme: \n\nUpward Bound. Leadership. Team Building.\n\n\nStart Date: \n\n2025-07-07\n\n\nEnd Date:\n\n 2025-07-07\n\n\nStart Time: \n\n9:00 AM\n\n\nEnd Time: \n\n1:00 PM\n\n\nCity/State: \n\nFort Pierce\, FL\n\n\nAudience:\n\n High School\n\n\nNumber attending: \n\n70
URL:https://coolspeak.com/event/indian-river-state-college-upward-bound-programming/
CATEGORIES:Event
END:VEVENT
BEGIN:VEVENT
DTSTART;TZID=America/New_York:20250707T080000
DTEND;TZID=America/New_York:20250707T200000
DTSTAMP:20260421T165437
CREATED:20250703T221118Z
LAST-MODIFIED:20250707T235621Z
UID:10001915-1751875200-1751918400@coolspeak.com
SUMMARY:Summer 2025 ESC 19 Head Start Professional Development
DESCRIPTION:Speaker:\n\nDr. Laura Rizo\n\n\nEvent: \n\nSummer 2025 ESC 19 Head Start Professional Development\n\n\nDescription: \n\nDr. Rizo will deliver a professional development session to the staff of Region 19\n\n\nTheme: \n\nPD\n\n\nDate:  \n\n7/7/2025\n\n\nAudience: \n\nProfessional\n\n\nNumber Attending: \n\n50\n\n\nDress Code:  \n\nHip Professional
URL:https://coolspeak.com/event/summer-2025-esc-19-head-start-professional-development/
CATEGORIES:Event
END:VEVENT
BEGIN:VEVENT
DTSTART;VALUE=DATE:20250707
DTEND;VALUE=DATE:20250712
DTSTAMP:20260421T165437
CREATED:20240907T194506Z
LAST-MODIFIED:20250711T232621Z
UID:10001489-1751846400-1752278399@coolspeak.com
SUMMARY:Innovative School Summit Las Vegas
DESCRIPTION:
URL:https://coolspeak.com/event/innovative-school-summit-las-vegas/
CATEGORIES:Event
END:VEVENT
BEGIN:VEVENT
DTSTART;TZID=America/New_York:20250701T090000
DTEND;TZID=America/New_York:20250701T160000
DTSTAMP:20260421T165437
CREATED:20250609T215149Z
LAST-MODIFIED:20250701T190659Z
UID:10001893-1751360400-1751385600@coolspeak.com
SUMMARY:2025 Ohio Youth Leadership Summit
DESCRIPTION:Below are the event details \n\nSpeaker: \n\nCustomized CoolProgram\n\n\nEvent Title: \n\n2025 Ohio Youth Leadership Summit\n\n\nClient Program/Organization: \n\nOhio Department of Higher Education\n\n\nEvent Description: \n\nCoolSpeak will provide leadership programming for 2-Days.\n\n\nTheme: \n\nLeadership\n\n\nStart Date: \n\n2025-06-30\n\n\nEnd Date: \n\n2025-07-01\n\n\nStart Time: \n\n9:00 AM\n\n\nEnd Time: \n\n4:00 PM\n\n\nCity/State: \n\nDelaware\, OH\n\n\nAudience: \n\nHigh School\n\n\nNumber attending:\n\n 115
URL:https://coolspeak.com/event/2025-ohio-youth-leadership-summit-2/
CATEGORIES:Event
END:VEVENT
BEGIN:VEVENT
DTSTART;TZID=America/New_York:20250701T090000
DTEND;TZID=America/New_York:20250701T120000
DTSTAMP:20260421T165437
CREATED:20250319T182745Z
LAST-MODIFIED:20250701T150641Z
UID:10001719-1751360400-1751371200@coolspeak.com
SUMMARY:Bridging Dreams to Reality with Growth Mindsets.
DESCRIPTION:Speaker: \n\nCarlos Ojeda Jr.\n\n\nEvent Title: \n\nBridging Dreams to Reality with Growth Mindsets.\n\n\nClient Program/Organization:\n\nNaugatuck Valley Community College\n\n\nEvent Description: \n\nCarlos Ojeda Jr. will provide a Keynote Presentation and Team Building Activities with Rising High School Upward Bound Students.\n\n\nTheme: \n\nUpward Bound/Youth Empowerment/Team Building\n\n\nStart Date: \n\n2025-07-01\n\n\nEnd Date: \n\n2025-07-01\n\n\nStart Time: \n\n9:00 AM\n\n\nEnd Time: \n\n12:00 PM\n\n\nCity/State:\n\n Waterbury\, CT\n\n\nAudience: \n\nHigh School\n\n\nNumber attending: \n\n45
URL:https://coolspeak.com/event/bridging-dreams-to-reality-with-growth-mindsets/
CATEGORIES:Event
END:VEVENT
BEGIN:VEVENT
DTSTART;TZID=America/New_York:20250701T080000
DTEND;TZID=America/New_York:20250701T174500
DTSTAMP:20260421T165437
CREATED:20250619T172222Z
LAST-MODIFIED:20250701T210640Z
UID:10001901-1751356800-1751391900@coolspeak.com
SUMMARY:2025 St. Clair County Schools Summer Program
DESCRIPTION:Event: \n\n2025 St. Clair County Schools Summer Program\n\n\nDescription: \n\nHelping students and staff understand the capabilities of our migrant children and helping them unleash the possibilities\n\n\nTheme: \n\nChanging Mindset\n\n\nDate:  \n\n6/30/2025 & 7/1/2025\n\n\nPresentation Start Time:  \n\n8:00 AM\n\n\nWorkshop Start Time: \n\n10:00 AM\n\n\nAudience: \n\nMiddle School\n\n\nNumber Attending: \n\n30\n\n\nDress Code:  \n\nHip Professional
URL:https://coolspeak.com/event/2025-st-clair-county-schools-summer-program-2/
CATEGORIES:Event
END:VEVENT
BEGIN:VEVENT
DTSTART;TZID=America/New_York:20250701T080000
DTEND;TZID=America/New_York:20250701T160000
DTSTAMP:20260421T165437
CREATED:20250627T205141Z
LAST-MODIFIED:20250701T190659Z
UID:10001909-1751356800-1751385600@coolspeak.com
SUMMARY:San Felipe Del Rio CISD Bus Trip.
DESCRIPTION:Below are the event details: \n\nSpeaker: \n\nLilyan Prado Carrillo\n\n\nEvent Title:\n\n San Felipe Del Rio CISD Bus Trip.\n\n\nClient Program/Organization: \n\nSan Felipe Del Río CISD\n\n\nEvent Description:\n\n Lilyan Prado-Carrillo will Facilitate a Bus Tour of Team Building Activities with High School Students.\n\n\nTheme: \n\nBus Tour/Education/College\n\n\nStart Date: \n\n2025-07-01\n\n\nEnd Date: \n\n2025-07-01\n\n\nStart Time: \n\n8:00 AM\n\n\nEnd Time:\n\n 4:00 PM\n\n\nCity/State: \n\nDel Rio\, TX\n\n\nAudience:\n\n High School\n\n\nNumber attending:\n\n 30
URL:https://coolspeak.com/event/san-felipe-del-rio-cisd-bus-trip/
CATEGORIES:Event
END:VEVENT
BEGIN:VEVENT
DTSTART;TZID=America/New_York:20250630T210000
DTEND;TZID=America/New_York:20250630T220000
DTSTAMP:20260421T165437
CREATED:20250627T205140Z
LAST-MODIFIED:20250701T010647Z
UID:10001908-1751317200-1751320800@coolspeak.com
SUMMARY:All Aboard Coldspring-Oakhurst CISD Bus Tour
DESCRIPTION:Below are the event details: \n\nSpeaker: \n\nLilyan Prado Carrillo\n\n\nEvent Title: \n\nAll Aboard Coldspring-Oakhurst CISD Bus Tour\n\n\nClient Program/Organization: \n\nAll Aboard Tours\n\n\nEvent Description: \n\nCoolSpeaker Lilyan Prado-Carrillo will provide a Team Building Activity for High School Students.\n\n\nTheme: \n\nBus Trip/ Education/Team Building.\n\n\nStart Date: \n\n2025-06-30\n\n\nEnd Date:\n\n 2025-06-30\n\n\nStart Time: \n\n9:00 PM\n\n\nEnd Time:\n\n 10:00 PM\n\n\nCity/State:\n\n Coldspring\, TX\n\n\nAudience: \n\nHigh School\n\n\nNumber attending:\n\n 55
URL:https://coolspeak.com/event/all-aboard-coldspring-oakhurst-cisd-bus-tour/
CATEGORIES:Event
END:VEVENT
BEGIN:VEVENT
DTSTART;TZID=America/New_York:20250630T100000
DTEND;TZID=America/New_York:20250630T170000
DTSTAMP:20260421T165437
CREATED:20250502T173524Z
LAST-MODIFIED:20250630T203658Z
UID:10001813-1751277600-1751302800@coolspeak.com
SUMMARY:2025 University of Washington Summer Bridge
DESCRIPTION:
URL:https://coolspeak.com/event/2025-university-of-washington-summer-bridge/
LOCATION:Ellensburg\, WA
CATEGORIES:Event
END:VEVENT
BEGIN:VEVENT
DTSTART;TZID=America/New_York:20250630T090000
DTEND;TZID=America/New_York:20250630T160000
DTSTAMP:20260421T165437
CREATED:20250609T215149Z
LAST-MODIFIED:20250630T193657Z
UID:10001892-1751274000-1751299200@coolspeak.com
SUMMARY:2025 Ohio Youth Leadership Summit
DESCRIPTION:Below are the event details \n\nSpeaker: \n\nCustomized CoolProgram\n\n\nEvent Title: \n\n2025 Ohio Youth Leadership Summit\n\n\nClient Program/Organization: \n\nOhio Department of Higher Education\n\n\nEvent Description: \n\nCoolSpeak will provide leadership programming for 2-Days.\n\n\nTheme: \n\nLeadership\n\n\nStart Date: \n\n2025-06-30\n\n\nEnd Date: \n\n2025-07-01\n\n\nStart Time: \n\n9:00 AM\n\n\nEnd Time: \n\n4:00 PM\n\n\nCity/State: \n\nDelaware\, OH\n\n\nAudience: \n\nHigh School\n\n\nNumber attending:\n\n 115
URL:https://coolspeak.com/event/2025-ohio-youth-leadership-summit/
CATEGORIES:Event
END:VEVENT
BEGIN:VEVENT
DTSTART;TZID=America/New_York:20250630T080000
DTEND;TZID=America/New_York:20250630T200000
DTSTAMP:20260421T165437
CREATED:20250628T200657Z
LAST-MODIFIED:20250630T225140Z
UID:10001914-1751270400-1751313600@coolspeak.com
SUMMARY:2025 Central Alabama Community College Upward Bound & SSS Summer Program
DESCRIPTION:Speaker:\n\nMJ Bridges\n\n\nEvent: \n\n2025 Central Alabama Community College Upward Bound & SSS Summer Program\n\n\nDescription: \n\nTeaching strategies to students on financial literacy\n\n\nTheme: \n\nFinancial Literacy\n\n\nDate:  \n\n6/30/2025\n\n\nWorkshop Start Time: \n\n11:00 AM\n\n\nAudience: \n\nHigh School\n\n\nNumber Attending: \n\n50
URL:https://coolspeak.com/event/2025-central-alabama-community-college-upward-bound-sss-summer-program/
CATEGORIES:Event
END:VEVENT
BEGIN:VEVENT
DTSTART;TZID=America/New_York:20250630T080000
DTEND;TZID=America/New_York:20250630T174500
DTSTAMP:20260421T165437
CREATED:20250619T172222Z
LAST-MODIFIED:20250630T213756Z
UID:10001900-1751270400-1751305500@coolspeak.com
SUMMARY:2025 St. Clair County Schools Summer Program
DESCRIPTION:Event: \n\n2025 St. Clair County Schools Summer Program\n\n\nDescription: \n\nHelping students and staff understand the capabilities of our migrant children and helping them unleash the possibilities\n\n\nTheme: \n\nChanging Mindset\n\n\nDate:  \n\n6/30/2025 & 7/1/2025\n\n\nPresentation Start Time:  \n\n8:00 AM\n\n\nWorkshop Start Time: \n\n10:00 AM\n\n\nAudience: \n\nMiddle School\n\n\nNumber Attending: \n\n30\n\n\nDress Code:  \n\nHip Professional
URL:https://coolspeak.com/event/2025-st-clair-county-schools-summer-program/
CATEGORIES:Event
END:VEVENT
END:VCALENDAR