BEGIN:VCALENDAR
VERSION:2.0
PRODID:-//CoolSpeak - ECPv6.15.18//NONSGML v1.0//EN
CALSCALE:GREGORIAN
METHOD:PUBLISH
X-WR-CALNAME:CoolSpeak
X-ORIGINAL-URL:https://coolspeak.com
X-WR-CALDESC:Events for CoolSpeak
REFRESH-INTERVAL;VALUE=DURATION:PT1H
X-Robots-Tag:noindex
X-PUBLISHED-TTL:PT1H
BEGIN:VTIMEZONE
TZID:America/New_York
BEGIN:DAYLIGHT
TZOFFSETFROM:-0500
TZOFFSETTO:-0400
TZNAME:EDT
DTSTART:20200308T070000
END:DAYLIGHT
BEGIN:STANDARD
TZOFFSETFROM:-0400
TZOFFSETTO:-0500
TZNAME:EST
DTSTART:20201101T060000
END:STANDARD
BEGIN:DAYLIGHT
TZOFFSETFROM:-0500
TZOFFSETTO:-0400
TZNAME:EDT
DTSTART:20210314T070000
END:DAYLIGHT
BEGIN:STANDARD
TZOFFSETFROM:-0400
TZOFFSETTO:-0500
TZNAME:EST
DTSTART:20211107T060000
END:STANDARD
BEGIN:DAYLIGHT
TZOFFSETFROM:-0500
TZOFFSETTO:-0400
TZNAME:EDT
DTSTART:20220313T070000
END:DAYLIGHT
BEGIN:STANDARD
TZOFFSETFROM:-0400
TZOFFSETTO:-0500
TZNAME:EST
DTSTART:20221106T060000
END:STANDARD
END:VTIMEZONE
BEGIN:VEVENT
DTSTART;TZID=America/New_York:20210427T123000
DTEND;TZID=America/New_York:20210427T133000
DTSTAMP:20260424T202018
CREATED:20210401T161437Z
LAST-MODIFIED:20210401T161437Z
UID:10000076-1619526600-1619530200@coolspeak.com
SUMMARY:Idaho State Department of Education Virtual Presentation by Carlos Ojeda Jr.
DESCRIPTION:Speaker: Carlos Ojeda Jr.\nClient: Idaho State Department of Education/GEAR UP Idaho\nDescription: Virtual Presentation for Idaho State Department of Education/ GEAR UP Coordinators.\nClient will provide a Zoom Virtual Link.
URL:https://coolspeak.com/event/idaho-state-department-of-education-virtual-presentation-by-carlos-ojeda-jr/
END:VEVENT
BEGIN:VEVENT
DTSTART;TZID=America/New_York:20210427T123000
DTEND;TZID=America/New_York:20210427T133000
DTSTAMP:20260424T202018
CREATED:20210401T161437Z
LAST-MODIFIED:20210401T161437Z
UID:10000071-1619526600-1619530200@coolspeak.com
SUMMARY:Idaho State Department of Education Virtual Presentation by Carlos Ojeda Jr.
DESCRIPTION:Speaker: Carlos Ojeda Jr.\nClient: Idaho State Department of Education/GEAR UP Idaho\nDescription: Virtual Presentation for Idaho State Department of Education/ GEAR UP Coordinators.\nClient will provide a Zoom Virtual Link.
URL:https://coolspeak.com/event/idaho-state-department-of-education-virtual-presentation-by-carlos-ojeda-jr-2/
END:VEVENT
BEGIN:VEVENT
DTSTART;TZID=America/New_York:20210426T170000
DTEND;TZID=America/New_York:20210426T174500
DTSTAMP:20260424T202018
CREATED:20210401T161437Z
LAST-MODIFIED:20210401T161437Z
UID:10000073-1619456400-1619459100@coolspeak.com
SUMMARY:Idaho State Department of Education Virtual Presentation by Ernesto Mejia
DESCRIPTION:Speaker: Ernesto Mejia\nClient: Idaho State Department of Education/GEAR UP Idaho Coordinators\nDescription: Virtual presentation on parent engagement.\nClient will provide Zoom Virtual Link.
URL:https://coolspeak.com/event/idaho-state-department-of-education-virtual-presentation-by-ernesto-mejia-2/
END:VEVENT
BEGIN:VEVENT
DTSTART;TZID=America/New_York:20210426T170000
DTEND;TZID=America/New_York:20210426T174500
DTSTAMP:20260424T202018
CREATED:20210401T161437Z
LAST-MODIFIED:20210401T161437Z
UID:10000075-1619456400-1619459100@coolspeak.com
SUMMARY:Idaho State Department of Education Virtual Presentation by Ernesto Mejia
DESCRIPTION:Speaker: Ernesto Mejia\nClient: Idaho State Department of Education/GEAR UP Idaho Coordinators\nDescription: Virtual presentation on parent engagement.\nClient will provide Zoom Virtual Link.
URL:https://coolspeak.com/event/idaho-state-department-of-education-virtual-presentation-by-ernesto-mejia/
END:VEVENT
BEGIN:VEVENT
DTSTART;TZID=America/New_York:20210426T130000
DTEND;TZID=America/New_York:20210426T140000
DTSTAMP:20260424T202018
CREATED:20210401T161437Z
LAST-MODIFIED:20210401T161437Z
UID:10000072-1619442000-1619445600@coolspeak.com
SUMMARY:Northwest Vista College Virtual Keynote Presentation with Lilyan Prado Carrillo.
DESCRIPTION:Speaker: Lilyan Prado-Carrillo\nClient: Northwest Vista College.\nDescription: Virtual Keynote Presentation and Q&A Session with Lilyan Prado Carrillo.\nCoolSpeak will provide the virtual platform.
URL:https://coolspeak.com/event/northwest-vista-college-virtual-keynote-presentation-with-lilyan-prado-carrillo-2/
END:VEVENT
BEGIN:VEVENT
DTSTART;TZID=America/New_York:20210426T130000
DTEND;TZID=America/New_York:20210426T140000
DTSTAMP:20260424T202018
CREATED:20210401T161437Z
LAST-MODIFIED:20210401T161437Z
UID:10000074-1619442000-1619445600@coolspeak.com
SUMMARY:Northwest Vista College Virtual Keynote Presentation with Lilyan Prado Carrillo.
DESCRIPTION:Speaker: Lilyan Prado-Carrillo\nClient: Northwest Vista College.\nDescription: Virtual Keynote Presentation and Q&A Session with Lilyan Prado Carrillo.\nCoolSpeak will provide the virtual platform.
URL:https://coolspeak.com/event/northwest-vista-college-virtual-keynote-presentation-with-lilyan-prado-carrillo/
END:VEVENT
BEGIN:VEVENT
DTSTART;TZID=America/New_York:20210424T123000
DTEND;TZID=America/New_York:20210424T133000
DTSTAMP:20260424T202018
CREATED:20210324T234425Z
LAST-MODIFIED:20210324T234425Z
UID:10000069-1619267400-1619271000@coolspeak.com
SUMMARY:Western Nevada College Virtual Presentation With Ernesto Mejia.
DESCRIPTION:Speaker: Ernesto Mejia\nClient: Western Nevada College\nDescription: 45 Minute Virtual Presentation & Q&A.\nVirtual Platform provided by client.
URL:https://coolspeak.com/event/western-nevada-college-virtual-presentation-with-ernesto-mejia-2/
END:VEVENT
BEGIN:VEVENT
DTSTART;TZID=America/New_York:20210424T123000
DTEND;TZID=America/New_York:20210424T133000
DTSTAMP:20260424T202018
CREATED:20210324T234425Z
LAST-MODIFIED:20210324T234425Z
UID:10000070-1619267400-1619271000@coolspeak.com
SUMMARY:Western Nevada College Virtual Presentation With Ernesto Mejia.
DESCRIPTION:Speaker: Ernesto Mejia\nClient: Western Nevada College\nDescription: 45 Minute Virtual Presentation & Q&A.\nVirtual Platform provided by client.
URL:https://coolspeak.com/event/western-nevada-college-virtual-presentation-with-ernesto-mejia/
END:VEVENT
BEGIN:VEVENT
DTSTART;TZID=America/New_York:20210422T130000
DTEND;TZID=America/New_York:20210422T143000
DTSTAMP:20260424T202018
CREATED:20210322T232905Z
LAST-MODIFIED:20210322T232905Z
UID:10000067-1619096400-1619101800@coolspeak.com
SUMMARY:Naugatuck Valley Community College GEAR UP CT with Carlos Ojeda Jr.
DESCRIPTION:Speaker: Carlos Ojeda Jr.\nClient: Naugatuck Valley Community College GEAR UP CT\nDescription: Virtual Presentation with focus on: Vision Board and Goal Setting.\nCoolSpeak will provide Virtual Platform.\nThis event has a video call.\nJoin: https://meet.google.com/yqy-vnwg-oby\n(US) +1 413-438-7205 PIN: 449639835#\nView more phone numbers: https://tel.meet/yqy-vnwg-oby?pin=4295383699098&hs=7
URL:https://coolspeak.com/event/naugatuck-valley-community-college-gear-up-ct-with-carlos-ojeda-jr-2-2/
END:VEVENT
BEGIN:VEVENT
DTSTART;TZID=America/New_York:20210422T130000
DTEND;TZID=America/New_York:20210422T143000
DTSTAMP:20260424T202018
CREATED:20210322T232905Z
LAST-MODIFIED:20210322T232905Z
UID:10000068-1619096400-1619101800@coolspeak.com
SUMMARY:Naugatuck Valley Community College GEAR UP CT with Carlos Ojeda Jr.
DESCRIPTION:Speaker: Carlos Ojeda Jr.\nClient: Naugatuck Valley Community College GEAR UP CT\nDescription: Virtual Presentation with focus on: Vision Board and Goal Setting.\nCoolSpeak will provide Virtual Platform.\nThis event has a video call.\nJoin: https://meet.google.com/yqy-vnwg-oby\n(US) +1 413-438-7205 PIN: 449639835#\nView more phone numbers: https://tel.meet/yqy-vnwg-oby?pin=4295383699098&hs=7
URL:https://coolspeak.com/event/naugatuck-valley-community-college-gear-up-ct-with-carlos-ojeda-jr-2/
END:VEVENT
BEGIN:VEVENT
DTSTART;TZID=America/New_York:20210421T190000
DTEND;TZID=America/New_York:20210421T200000
DTSTAMP:20260424T202018
CREATED:20210321T234314Z
LAST-MODIFIED:20210321T234314Z
UID:10000064-1619031600-1619035200@coolspeak.com
SUMMARY:Northwest Vista College Virtual Performance and Q&A with Natasha Carrizosa.
DESCRIPTION:Speaker: Natasha Carrizosa.\nClient: Northwest Vista College.\nDescription: Virtual Performance and Q&A with Natasha Carrizosa.\nCoolSpeak will provide the virtual platform.
URL:https://coolspeak.com/event/northwest-vista-college-virtual-performance-and-qa-with-natasha-carrizosa/
END:VEVENT
BEGIN:VEVENT
DTSTART;TZID=America/New_York:20210421T190000
DTEND;TZID=America/New_York:20210421T200000
DTSTAMP:20260424T202018
CREATED:20210321T234314Z
LAST-MODIFIED:20210321T234314Z
UID:10000066-1619031600-1619035200@coolspeak.com
SUMMARY:Northwest Vista College Virtual Performance and Q&A with Natasha Carrizosa.
DESCRIPTION:Speaker: Natasha Carrizosa.\nClient: Northwest Vista College.\nDescription: Virtual Performance and Q&A with Natasha Carrizosa.\nCoolSpeak will provide the virtual platform.
URL:https://coolspeak.com/event/northwest-vista-college-virtual-performance-and-qa-with-natasha-carrizosa-2/
END:VEVENT
BEGIN:VEVENT
DTSTART;TZID=America/New_York:20210421T130000
DTEND;TZID=America/New_York:20210421T143000
DTSTAMP:20260424T202018
CREATED:20210321T234314Z
LAST-MODIFIED:20210321T234314Z
UID:10000065-1619010000-1619015400@coolspeak.com
SUMMARY:Naugatuck Valley Community College GEAR UP CT  with Carlos Ojeda Jr.
DESCRIPTION:Speaker: Carlos Ojeda Jr.\nClient: Naugatuck Valley Community College GEAR UP CT (Waterbury)\nDescription: Virtual Scavenger Hunt with 50 8th Graders\nCoolSpeak will provide the virtual platform.
URL:https://coolspeak.com/event/naugatuck-valley-community-college-gear-up-ct-with-carlos-ojeda-jr-3/
END:VEVENT
BEGIN:VEVENT
DTSTART;TZID=America/New_York:20210421T130000
DTEND;TZID=America/New_York:20210421T143000
DTSTAMP:20260424T202018
CREATED:20210321T234314Z
LAST-MODIFIED:20210321T234314Z
UID:10000063-1619010000-1619015400@coolspeak.com
SUMMARY:Naugatuck Valley Community College GEAR UP CT  with Carlos Ojeda Jr.
DESCRIPTION:Speaker: Carlos Ojeda Jr.\nClient: Naugatuck Valley Community College GEAR UP CT (Waterbury)\nDescription: Virtual Scavenger Hunt with 50 8th Graders\nCoolSpeak will provide the virtual platform.
URL:https://coolspeak.com/event/naugatuck-valley-community-college-gear-up-ct-with-carlos-ojeda-jr/
END:VEVENT
BEGIN:VEVENT
DTSTART;TZID=America/New_York:20210420T130000
DTEND;TZID=America/New_York:20210420T143000
DTSTAMP:20260424T202018
CREATED:20210320T231627Z
LAST-MODIFIED:20210320T231627Z
UID:10000061-1618923600-1618929000@coolspeak.com
SUMMARY:Naugatuck Valley Community College GEAR UP CT  Virtual Workshop with Ernesto Mejia
DESCRIPTION:Speaker: Ernesto Mejia\nClient: Naugatuck Valley Community College GEAR UP CT\nDescription: 90-minute virtual workshop on Gratitude.\nCoolSpeak will provide virtual platform.\nThis event has a video call.\nJoin: https://meet.google.com/gpa-fayo-wdn\n(US) +1 575-518-3149 PIN: 960295007#\nView more phone numbers: https://tel.meet/gpa-fayo-wdn?pin=3189663247971&hs=7
URL:https://coolspeak.com/event/naugatuck-valley-community-college-gear-up-ct-virtual-workshop-with-ernesto-mejia/
END:VEVENT
BEGIN:VEVENT
DTSTART;TZID=America/New_York:20210420T130000
DTEND;TZID=America/New_York:20210420T143000
DTSTAMP:20260424T202018
CREATED:20210320T231627Z
LAST-MODIFIED:20210320T231627Z
UID:10000062-1618923600-1618929000@coolspeak.com
SUMMARY:Naugatuck Valley Community College GEAR UP CT  Virtual Workshop with Ernesto Mejia
DESCRIPTION:Speaker: Ernesto Mejia\nClient: Naugatuck Valley Community College GEAR UP CT\nDescription: 90-minute virtual workshop on Gratitude.\nCoolSpeak will provide virtual platform.\nThis event has a video call.\nJoin: https://meet.google.com/gpa-fayo-wdn\n(US) +1 575-518-3149 PIN: 960295007#\nView more phone numbers: https://tel.meet/gpa-fayo-wdn?pin=3189663247971&hs=7
URL:https://coolspeak.com/event/naugatuck-valley-community-college-gear-up-ct-virtual-workshop-with-ernesto-mejia-2/
END:VEVENT
BEGIN:VEVENT
DTSTART;TZID=America/New_York:20210416T110000
DTEND;TZID=America/New_York:20210416T120000
DTSTAMP:20260424T202018
CREATED:20210316T232837Z
LAST-MODIFIED:20210316T232837Z
UID:10000056-1618570800-1618574400@coolspeak.com
SUMMARY:Gooding High School Virtual Professional Development:ENGAGE With Carlos Ojeda Jr.
DESCRIPTION:Speaker: Carlos Ojeda Jr.\nClient: Gooding High School GEAR UP\nDescription: 60-minute Virtual Professional Development
URL:https://coolspeak.com/event/gooding-high-school-virtual-professional-developmentengage-with-carlos-ojeda-jr/
END:VEVENT
BEGIN:VEVENT
DTSTART;TZID=America/New_York:20210416T110000
DTEND;TZID=America/New_York:20210416T120000
DTSTAMP:20260424T202018
CREATED:20210316T232837Z
LAST-MODIFIED:20210316T232837Z
UID:10000054-1618570800-1618574400@coolspeak.com
SUMMARY:Gooding High School Virtual Professional Development:ENGAGE With Carlos Ojeda Jr.
DESCRIPTION:Speaker: Carlos Ojeda Jr.\nClient: Gooding High School GEAR UP\nDescription: 60-minute Virtual Professional Development
URL:https://coolspeak.com/event/gooding-high-school-virtual-professional-developmentengage-with-carlos-ojeda-jr-2/
END:VEVENT
BEGIN:VEVENT
DTSTART;TZID=America/New_York:20210413T163000
DTEND;TZID=America/New_York:20210413T173000
DTSTAMP:20260424T202018
CREATED:20210314T004606Z
LAST-MODIFIED:20210314T004606Z
UID:10000052-1618331400-1618335000@coolspeak.com
SUMMARY:Pa' Lante KCK GEAR UP: College & Career Virtual Series With Joaquin Zihuatanejo.
DESCRIPTION:Speaker: Joaquin ZihuatanejoClient: Kansas City Kansas GEAR UPDescription: 60-minute virtual session with focus on College & Career Series.  \nFor our 4/13 Pa’lante event\, here is the schedule: \nSession 3: Arts & Education – Tuesday\, April 13 – 3:30PM CST \n•                     3:25pm: Looped slides with music \n•                     3:30pm: GEAR UP & KCKPS World Language Dept. introduction \n\nZoom poll\n\n•                     3:33pm: Edgar Palacios\, keynote speaker (10-15 minutes) \n•                     3:43/45: CoolSpeak: Joaquin Zihuatanejo (15-20 min) \n\nOpen with poem\nShare some of your story\n\n•                     4:02pm: Q&A Conversation – 25-28 min \n\nJoaquin Zihuatanejo – CoolSpeak poet\nEdgar Palacios – CEO/President of Latinx Education Collaborative\nJessica Ayala – KC poet/performer\nGenesis Zuniga – School of education college student\nQuestions:\n\n1. Introduce yourself\, your cultural background & talk about your connection to KC/KCK (if applicable) \n2. How have you embraced your cultural background in your art or experience as an educator? \n3. Can you talk about a time when you experienced a challenge regarding language or your identity and how did you overcome it? \n4. How do you use Spanish in your career as an artist or educator? \n5. How did your identity/cultural background influence or impact your college or career experience? \n  \nAdditional questions from 9th & 10th grade students. Please keep in mind\, their questions will show their inquisitive nature. When possible\, try to connect your answers to the theme and purpose. \n  \nLet me know if you have any questions. \n  \nThank you\, \n  \n \nElizabeth Mounteer | Lead Site Coordinator \nUniversity of Kansas \nGEAR UP — Harmon Cluster \nEmail: emounteer@ku.edu \nOffice Phone: (913) 825-1815
URL:https://coolspeak.com/event/pa-lante-kck-gear-up-college-career-virtual-series-with-joaquin-zihuatanejo/
END:VEVENT
BEGIN:VEVENT
DTSTART;TZID=America/New_York:20210413T163000
DTEND;TZID=America/New_York:20210413T173000
DTSTAMP:20260424T202018
CREATED:20210314T004606Z
LAST-MODIFIED:20210314T004606Z
UID:10000055-1618331400-1618335000@coolspeak.com
SUMMARY:Pa' Lante KCK GEAR UP: College & Career Virtual Series With Joaquin Zihuatanejo.
DESCRIPTION:Speaker: Joaquin ZihuatanejoClient: Kansas City Kansas GEAR UPDescription: 60-minute virtual session with focus on College & Career Series.  \nFor our 4/13 Pa’lante event\, here is the schedule: \nSession 3: Arts & Education – Tuesday\, April 13 – 3:30PM CST \n•                     3:25pm: Looped slides with music \n•                     3:30pm: GEAR UP & KCKPS World Language Dept. introduction \n\nZoom poll\n\n•                     3:33pm: Edgar Palacios\, keynote speaker (10-15 minutes) \n•                     3:43/45: CoolSpeak: Joaquin Zihuatanejo (15-20 min) \n\nOpen with poem\nShare some of your story\n\n•                     4:02pm: Q&A Conversation – 25-28 min \n\nJoaquin Zihuatanejo – CoolSpeak poet\nEdgar Palacios – CEO/President of Latinx Education Collaborative\nJessica Ayala – KC poet/performer\nGenesis Zuniga – School of education college student\nQuestions:\n\n1. Introduce yourself\, your cultural background & talk about your connection to KC/KCK (if applicable) \n2. How have you embraced your cultural background in your art or experience as an educator? \n3. Can you talk about a time when you experienced a challenge regarding language or your identity and how did you overcome it? \n4. How do you use Spanish in your career as an artist or educator? \n5. How did your identity/cultural background influence or impact your college or career experience? \n  \nAdditional questions from 9th & 10th grade students. Please keep in mind\, their questions will show their inquisitive nature. When possible\, try to connect your answers to the theme and purpose. \n  \nLet me know if you have any questions. \n  \nThank you\, \n  \n \nElizabeth Mounteer | Lead Site Coordinator \nUniversity of Kansas \nGEAR UP — Harmon Cluster \nEmail: emounteer@ku.edu \nOffice Phone: (913) 825-1815
URL:https://coolspeak.com/event/pa-lante-kck-gear-up-college-career-virtual-series-with-joaquin-zihuatanejo-2/
END:VEVENT
BEGIN:VEVENT
DTSTART;TZID=America/New_York:20210413T121500
DTEND;TZID=America/New_York:20210413T131500
DTSTAMP:20260424T202018
CREATED:20210314T004606Z
LAST-MODIFIED:20210314T004606Z
UID:10000051-1618316100-1618319700@coolspeak.com
SUMMARY:Idaho State Department Of Education Virtual Presentation With Professionals Provided By Carlos Ojeda Jr.
DESCRIPTION:Speaker: Carlos Ojeda Jr.\nClient: Idaho State Department of Education\nDescription: (1) 50-minute virtual presentation to Professionals.\nTheme: New Prevention. New Reality.\nFocus: Response to Covid-19\, Resiliency\, Motivation and Staff Retention.\nExpected Audience: 150-300 max\nClient will provide virtual platform.\nThis event has a video call.\nJoin: https://meet.google.com/kna-ukgw-wmi\n(US) +1 651-571-0927 PIN: 797226914#\nView more phone numbers: https://tel.meet/kna-ukgw-wmi?pin=1192953579070&hs=7
URL:https://coolspeak.com/event/idaho-state-department-of-education-virtual-presentation-with-professionals-provided-by-carlos-ojeda-jr/
END:VEVENT
BEGIN:VEVENT
DTSTART;TZID=America/New_York:20210413T121500
DTEND;TZID=America/New_York:20210413T131500
DTSTAMP:20260424T202018
CREATED:20210314T004606Z
LAST-MODIFIED:20210314T004606Z
UID:10000053-1618316100-1618319700@coolspeak.com
SUMMARY:Idaho State Department Of Education Virtual Presentation With Professionals Provided By Carlos Ojeda Jr.
DESCRIPTION:Speaker: Carlos Ojeda Jr.\nClient: Idaho State Department of Education\nDescription: (1) 50-minute virtual presentation to Professionals.\nTheme: New Prevention. New Reality.\nFocus: Response to Covid-19\, Resiliency\, Motivation and Staff Retention.\nExpected Audience: 150-300 max\nClient will provide virtual platform.\nThis event has a video call.\nJoin: https://meet.google.com/kna-ukgw-wmi\n(US) +1 651-571-0927 PIN: 797226914#\nView more phone numbers: https://tel.meet/kna-ukgw-wmi?pin=1192953579070&hs=7
URL:https://coolspeak.com/event/idaho-state-department-of-education-virtual-presentation-with-professionals-provided-by-carlos-ojeda-jr-2/
END:VEVENT
BEGIN:VEVENT
DTSTART;TZID=America/New_York:20210412T120000
DTEND;TZID=America/New_York:20210412T130000
DTSTAMP:20260424T202018
CREATED:20210318T141328Z
LAST-MODIFIED:20210318T141328Z
UID:10000059-1618228800-1618232400@coolspeak.com
SUMMARY:Connell High School Virtual Professional Development with Carlos Ojeda Jr.
DESCRIPTION:Speaker: Carlos Ojeda Jr.\nClient: Connell High School\nDescription: 60-minute Virtual Professional Development.\nClient will provide a Google Meet Link.
URL:https://coolspeak.com/event/connell-high-school-virtual-professional-development-with-carlos-ojeda-jr/
END:VEVENT
BEGIN:VEVENT
DTSTART;TZID=America/New_York:20210412T120000
DTEND;TZID=America/New_York:20210412T130000
DTSTAMP:20260424T202018
CREATED:20210318T141328Z
LAST-MODIFIED:20210318T141328Z
UID:10000060-1618228800-1618232400@coolspeak.com
SUMMARY:Connell High School Virtual Professional Development with Carlos Ojeda Jr.
DESCRIPTION:Speaker: Carlos Ojeda Jr.\nClient: Connell High School\nDescription: 60-minute Virtual Professional Development.\nClient will provide a Google Meet Link.
URL:https://coolspeak.com/event/connell-high-school-virtual-professional-development-with-carlos-ojeda-jr-2/
END:VEVENT
BEGIN:VEVENT
DTSTART;TZID=America/New_York:20210408T193000
DTEND;TZID=America/New_York:20210408T220000
DTSTAMP:20260424T202018
CREATED:20210309T004224Z
LAST-MODIFIED:20210309T004224Z
UID:10000043-1617910200-1617919200@coolspeak.com
SUMMARY:Region 12: The Power of YOUth Leadership Virtual Program Series
DESCRIPTION:Region 12: The Power of YOUth Leadership Virtual Program SeriesGilfredo Pena is inviting you to a scheduled Zoom meeting.\nJoin Zoom Meeting\nhttps://coolspeak.zoom.us/j/99530672352\nMeeting ID: 995 3067 2352\nOne tap mobile\n+13017158592\,\,99530672352# US (Washington D.C)\n+13126266799\,\,99530672352# US (Chicago)\nDial by your location\n        +1 301 715 8592 US (Washington D.C)\n        +1 312 626 6799 US (Chicago)\n        +1 929 205 6099 US (New York)\n        +1 253 215 8782 US (Tacoma)\n        +1 346 248 7799 US (Houston)\n        +1 669 900 6833 US (San Jose)\nMeeting ID: 995 3067 2352\nFind your local number: https://coolspeak.zoom.us/u/amaJUWQkb\nThis event has a video call.\nJoin: https://meet.google.com/bez-bktr-hfq\n(US) +1 319-820-2211 PIN: 725340429#\nView more phone numbers: https://tel.meet/bez-bktr-hfq?pin=8804296579266&hs=7
URL:https://coolspeak.com/event/region-12-the-power-of-youth-leadership-virtual-program-series-3/
LOCATION:https://coolspeak.zoom.us/j/99530672352
END:VEVENT
BEGIN:VEVENT
DTSTART;TZID=America/New_York:20210408T193000
DTEND;TZID=America/New_York:20210408T220000
DTSTAMP:20260424T202018
CREATED:20210309T004224Z
LAST-MODIFIED:20210309T004224Z
UID:10000044-1617910200-1617919200@coolspeak.com
SUMMARY:Region 12: The Power of YOUth Leadership Virtual Program Series
DESCRIPTION:Region 12: The Power of YOUth Leadership Virtual Program SeriesGilfredo Pena is inviting you to a scheduled Zoom meeting.\nJoin Zoom Meeting\nhttps://coolspeak.zoom.us/j/99530672352\nMeeting ID: 995 3067 2352\nOne tap mobile\n+13017158592\,\,99530672352# US (Washington D.C)\n+13126266799\,\,99530672352# US (Chicago)\nDial by your location\n        +1 301 715 8592 US (Washington D.C)\n        +1 312 626 6799 US (Chicago)\n        +1 929 205 6099 US (New York)\n        +1 253 215 8782 US (Tacoma)\n        +1 346 248 7799 US (Houston)\n        +1 669 900 6833 US (San Jose)\nMeeting ID: 995 3067 2352\nFind your local number: https://coolspeak.zoom.us/u/amaJUWQkb\nThis event has a video call.\nJoin: https://meet.google.com/bez-bktr-hfq\n(US) +1 319-820-2211 PIN: 725340429#\nView more phone numbers: https://tel.meet/bez-bktr-hfq?pin=8804296579266&hs=7
URL:https://coolspeak.com/event/region-12-the-power-of-youth-leadership-virtual-program-series-3-2/
LOCATION:https://coolspeak.zoom.us/j/99530672352
END:VEVENT
BEGIN:VEVENT
DTSTART;TZID=America/New_York:20210407T120000
DTEND;TZID=America/New_York:20210407T133000
DTSTAMP:20260424T202018
CREATED:20210308T003119Z
LAST-MODIFIED:20210308T003119Z
UID:10000041-1617796800-1617802200@coolspeak.com
SUMMARY:UMass Dartmouth 8th Grade Virtual Youth Summit
DESCRIPTION:Speaker: CoolConference\nClient: UMASS Dartmouth\nDescription: Virtual Keynote Presentation and Workshops.
URL:https://coolspeak.com/event/umass-dartmouth-virtual-youth-conference/
END:VEVENT
BEGIN:VEVENT
DTSTART;TZID=America/New_York:20210407T120000
DTEND;TZID=America/New_York:20210407T133000
DTSTAMP:20260424T202018
CREATED:20210308T003119Z
LAST-MODIFIED:20210308T003119Z
UID:10000042-1617796800-1617802200@coolspeak.com
SUMMARY:UMass Dartmouth 8th Grade Virtual Youth Summit
DESCRIPTION:Speaker: CoolConference\nClient: UMASS Dartmouth\nDescription: Virtual Keynote Presentation and Workshops.
URL:https://coolspeak.com/event/umass-dartmouth-virtual-youth-conference-2/
END:VEVENT
BEGIN:VEVENT
DTSTART;TZID=America/New_York:20210406T163000
DTEND;TZID=America/New_York:20210406T173000
DTSTAMP:20260424T202018
CREATED:20210311T145934Z
LAST-MODIFIED:20210311T145934Z
UID:10000048-1617726600-1617730200@coolspeak.com
SUMMARY:Pa' Lante KCK GEAR UP: College & Career Virtual Series With Carlos Ojeda Jr.
DESCRIPTION:Speaker: Carlos Ojeda Jr.\nClient: Kansas City Kansas GEAR UP\nDescription: 60-minute virtual session with focus on College & Career Series and becoming an Entrepreneur.
URL:https://coolspeak.com/event/pa-lante-kck-gear-up-college-career-virtual-series-with-carlos-ojeda-jr-2/
END:VEVENT
BEGIN:VEVENT
DTSTART;TZID=America/New_York:20210406T163000
DTEND;TZID=America/New_York:20210406T173000
DTSTAMP:20260424T202018
CREATED:20210311T145934Z
LAST-MODIFIED:20210311T145934Z
UID:10000046-1617726600-1617730200@coolspeak.com
SUMMARY:Pa' Lante KCK GEAR UP: College & Career Virtual Series With Carlos Ojeda Jr.
DESCRIPTION:Speaker: Carlos Ojeda Jr.\nClient: Kansas City Kansas GEAR UP\nDescription: 60-minute virtual session with focus on College & Career Series and becoming an Entrepreneur.
URL:https://coolspeak.com/event/pa-lante-kck-gear-up-college-career-virtual-series-with-carlos-ojeda-jr/
END:VEVENT
END:VCALENDAR