BEGIN:VCALENDAR
VERSION:2.0
PRODID:-//CoolSpeak - ECPv6.15.18//NONSGML v1.0//EN
CALSCALE:GREGORIAN
METHOD:PUBLISH
X-ORIGINAL-URL:https://coolspeak.com
X-WR-CALDESC:Events for CoolSpeak
REFRESH-INTERVAL;VALUE=DURATION:PT1H
X-Robots-Tag:noindex
X-PUBLISHED-TTL:PT1H
BEGIN:VTIMEZONE
TZID:America/New_York
BEGIN:DAYLIGHT
TZOFFSETFROM:-0500
TZOFFSETTO:-0400
TZNAME:EDT
DTSTART:20210314T070000
END:DAYLIGHT
BEGIN:STANDARD
TZOFFSETFROM:-0400
TZOFFSETTO:-0500
TZNAME:EST
DTSTART:20211107T060000
END:STANDARD
BEGIN:DAYLIGHT
TZOFFSETFROM:-0500
TZOFFSETTO:-0400
TZNAME:EDT
DTSTART:20220313T070000
END:DAYLIGHT
BEGIN:STANDARD
TZOFFSETFROM:-0400
TZOFFSETTO:-0500
TZNAME:EST
DTSTART:20221106T060000
END:STANDARD
BEGIN:DAYLIGHT
TZOFFSETFROM:-0500
TZOFFSETTO:-0400
TZNAME:EDT
DTSTART:20230312T070000
END:DAYLIGHT
BEGIN:STANDARD
TZOFFSETFROM:-0400
TZOFFSETTO:-0500
TZNAME:EST
DTSTART:20231105T060000
END:STANDARD
END:VTIMEZONE
BEGIN:VEVENT
DTSTART;TZID=America/New_York:20220814T190000
DTEND;TZID=America/New_York:20220814T200000
DTSTAMP:20260424T214814
CREATED:20220524T105954Z
LAST-MODIFIED:20220524T105954Z
UID:10000538-1660503600-1660507200@coolspeak.com
SUMMARY:Wahluke School District with Ernesto Mejia
DESCRIPTION:Title:\nWahluke School District Presentation\nDescription:\nErnesto Mejia will provide a 60-minute presentation with a meet and greet\nTheme:\nFamily Engagement\nDate:\n8/14/2022\nTime:\n4:00 PM – 5:00 PM PST\nLocation:\nMattawa\, WA
URL:https://coolspeak.com/event/wahluke-school-district-with-ernesto-mejia-2/
END:VEVENT
BEGIN:VEVENT
DTSTART;TZID=America/New_York:20220814T203000
DTEND;TZID=America/New_York:20220814T223000
DTSTAMP:20260424T214814
CREATED:20220614T225918Z
LAST-MODIFIED:20220614T225918Z
UID:10000571-1660509000-1660516200@coolspeak.com
SUMMARY:North & South Carolina Migrant Education Camp Retreat
DESCRIPTION:Title:\nNorth & South Carolina Migrant Education Camp Retreat\nDescription:\nCamp Retreat\nTheme:\nMotivation\, Leadership\, and Empowerment.\nDate:\n08/13/2022 – 08/14/2022\nTime:\n8:30 AM – 10:30 PM EST\nLocation:\nParkton\, NC
URL:https://coolspeak.com/event/north-south-carolina-migrant-education-camp-retreat-2/
END:VEVENT
BEGIN:VEVENT
DTSTART;TZID=America/New_York:20220815T080000
DTEND;TZID=America/New_York:20220815T170000
DTSTAMP:20260424T214814
CREATED:20220523T125815Z
LAST-MODIFIED:20220523T125815Z
UID:10000515-1660550400-1660582800@coolspeak.com
SUMMARY:Nottoway County Public Schools Back to School Event
DESCRIPTION:Title:Nottoway County Public Schools Back to School Event \nDescription:Zach Gowen will be providing staff and family presentations. \nTheme:Motivational and Overcoming Adversity. \nDate:08/15/2022 – 08/15/2022 \nTime:8:00am – 5:00pm EST \nLocation:Crewe\, VA
URL:https://coolspeak.com/event/nottoway-county-public-schools-back-to-school-event/
END:VEVENT
BEGIN:VEVENT
DTSTART;TZID=America/New_York:20220818T110000
DTEND;TZID=America/New_York:20220818T150000
DTSTAMP:20260424T214814
CREATED:20220513T214539Z
LAST-MODIFIED:20220513T214539Z
UID:10000507-1660820400-1660834800@coolspeak.com
SUMMARY:White Swan High School Kick Start Event
DESCRIPTION:Title: Kick Start Event \nDescription:Joaquin Zihuatanejo will perform a keynote presentation and two workshops.  \nTheme:Self-expression and motivation.  \nDate: 08/18/2022 \nTime:8:00am – 12:00pm PST \nLocation:White Swan\, WA
URL:https://coolspeak.com/event/white-swan-high-school-kick-start-event/
LOCATION:White Swan\, WA\, USA
END:VEVENT
BEGIN:VEVENT
DTSTART;TZID=America/New_York:20220818T110000
DTEND;TZID=America/New_York:20220818T150000
DTSTAMP:20260424T214814
CREATED:20220513T214539Z
LAST-MODIFIED:20220513T214539Z
UID:10000508-1660820400-1660834800@coolspeak.com
SUMMARY:White Swan High School Kick Start Event
DESCRIPTION:Title: Kick Start Event \nDescription:Joaquin Zihuatanejo will perform a keynote presentation and two workshops.  \nTheme:Self-expression and motivation.  \nDate: 08/18/2022 \nTime:8:00am – 12:00pm PST \nLocation:White Swan\, WA
URL:https://coolspeak.com/event/white-swan-high-school-kick-start-event-2/
LOCATION:White Swan\, WA\, USA
END:VEVENT
BEGIN:VEVENT
DTSTART;TZID=America/New_York:20220818T123000
DTEND;TZID=America/New_York:20220818T193000
DTSTAMP:20260424T214814
CREATED:20220606T154335Z
LAST-MODIFIED:20220606T154335Z
UID:10000547-1660825800-1660851000@coolspeak.com
SUMMARY:Healing The Heart Of The Community\, presented by R2R
DESCRIPTION:Title:\nHealing The Heart Of The Community\, presented by R2R\nDescription:\nRediscover Community\, Explore Resources & Celebrate Resiliency\nTheme:\nCommunity\nDate:\n8/13/2022\nTime:\n09:30-4:30\nLocation:\nYakima\, WA
URL:https://coolspeak.com/event/healing-the-heart-of-the-community-presented-by-r2r/
END:VEVENT
BEGIN:VEVENT
DTSTART;TZID=America/New_York:20220818T150000
DTEND;TZID=America/New_York:20220818T170000
DTSTAMP:20260424T214814
CREATED:20220520T205931Z
LAST-MODIFIED:20220520T205931Z
UID:10000511-1660834800-1660842000@coolspeak.com
SUMMARY:East Coast Migrant Head Start Project
DESCRIPTION:Title: East Coast Migrant Head Start Project \nDescription: \nErnesto Mejia Speaking Engagement To Migrant Leadership Theme:Migrant Leadership Development \nDate: 08/18/2022 \nTime:3:30pm – 5:00pm EST \nLocation:Tampa\, FL
URL:https://coolspeak.com/event/east-coast-migrant-head-start-project/
END:VEVENT
BEGIN:VEVENT
DTSTART;TZID=America/New_York:20220818T150000
DTEND;TZID=America/New_York:20220818T170000
DTSTAMP:20260424T214814
CREATED:20220520T205931Z
LAST-MODIFIED:20220520T205931Z
UID:10000512-1660834800-1660842000@coolspeak.com
SUMMARY:East Coast Migrant Head Start Project
DESCRIPTION:Title: East Coast Migrant Head Start Project \nDescription: \nErnesto Mejia Speaking Engagement To Migrant Leadership Theme:Migrant Leadership Development \nDate: 08/18/2022 \nTime:3:30pm – 5:00pm EST \nLocation:Tampa\, FL
URL:https://coolspeak.com/event/east-coast-migrant-head-start-project-2/
END:VEVENT
BEGIN:VEVENT
DTSTART;TZID=America/New_York:20220819T080000
DTEND;TZID=America/New_York:20220819T150000
DTSTAMP:20260424T214814
CREATED:20220804T125834Z
LAST-MODIFIED:20220804T125834Z
UID:10000598-1660896000-1660921200@coolspeak.com
SUMMARY:Miami Dade College - Homestead Campus with Ernesto Mejia
DESCRIPTION:Title:\nMiami Dada College Professional Development.\nDescription:\nErnesto Mejia will be providing Professional Development.\nTheme:\nProfessional Development\nDate:\n08/19/2022\nTime:\n8:00 AM  – 3:00 PM EST\nLocation:\nMiami Dade College – Homestead Campus- Homestead\, FL
URL:https://coolspeak.com/event/miami-dade-college-homestead-campus-with-ernesto-mejia/
END:VEVENT
BEGIN:VEVENT
DTSTART;TZID=America/New_York:20220820T083000
DTEND;TZID=America/New_York:20220820T103000
DTSTAMP:20260424T214814
CREATED:20220620T062820Z
LAST-MODIFIED:20220620T062820Z
UID:10000573-1660984200-1660991400@coolspeak.com
SUMMARY:2022 North & South Carolina Migrant Education Camp Retreat
DESCRIPTION:Title:\nNorth & South Carolina Migrant Education Camp Retreat\nDescription:\nCamp Retreat\nTheme:\nMotivation\, Leadership and Empowerment.\nDate:\nAugust 20- August 21\nTime:\n0830-1030 EST\nLocation:\nParkton\, NC
URL:https://coolspeak.com/event/2022-north-south-carolina-migrant-education-camp-retreat/
END:VEVENT
BEGIN:VEVENT
DTSTART;TZID=America/New_York:20220820T150000
DTEND;TZID=America/New_York:20220820T160000
DTSTAMP:20260424T214814
CREATED:20220712T195805Z
LAST-MODIFIED:20220712T195805Z
UID:10000583-1661007600-1661011200@coolspeak.com
SUMMARY:Idaho State Department of Education Virtual Presentation
DESCRIPTION:Title:\nIdaho State Department of Education Virtual Presentation\nDescription:\nParent Engagement Virtual Presentations Provided by Lilyan Prado Carrillo\nTheme:\nThe power to speak and advocate\nDate:\n08/20/22\nTime:\nTBD\nLocation:\nVirtual
URL:https://coolspeak.com/event/idaho-state-department-of-education-virtual-presentation/
END:VEVENT
BEGIN:VEVENT
DTSTART;TZID=America/New_York:20220821T083000
DTEND;TZID=America/New_York:20220821T103000
DTSTAMP:20260424T214814
CREATED:20220620T062820Z
LAST-MODIFIED:20220620T062820Z
UID:10000574-1661070600-1661077800@coolspeak.com
SUMMARY:2022 North & South Carolina Migrant Education Camp Retreat
DESCRIPTION:Title:\nNorth & South Carolina Migrant Education Camp Retreat\nDescription:\nCamp Retreat\nTheme:\nMotivation\, Leadership and Empowerment.\nDate:\nAugust 20- August 21\nTime:\n0830-1030 EST\nLocation:\nParkton\, NC
URL:https://coolspeak.com/event/2022-north-south-carolina-migrant-education-camp-retreat-2/
END:VEVENT
BEGIN:VEVENT
DTSTART;TZID=America/New_York:20220821T160000
DTEND;TZID=America/New_York:20220821T190000
DTSTAMP:20260424T214814
CREATED:20220614T225919Z
LAST-MODIFIED:20220614T225919Z
UID:10000572-1661097600-1661108400@coolspeak.com
SUMMARY:2022 Wahluke School District Family Engagement Presentation.
DESCRIPTION:Title:\n2022 Wahluke School District Family Engagement Presentation.\nDescription:\nErnesto Mejia will provide a 120-minute presentation with a meet and greet afterward.\nTheme:\nFamily Engagement\nDate:\n08/21/2022\nTime:\n4:00 PM – 7:00 PM PST\nLocation:\nMattawa\, WA
URL:https://coolspeak.com/event/2022-wahluke-school-district-family-engagement-presentation/
END:VEVENT
BEGIN:VEVENT
DTSTART;TZID=America/New_York:20220824T080000
DTEND;TZID=America/New_York:20220824T090000
DTSTAMP:20260424T214814
CREATED:20220718T115833Z
LAST-MODIFIED:20220718T115833Z
UID:10000588-1661328000-1661331600@coolspeak.com
SUMMARY:Lamar State College Port Arthur-Student Success Conference
DESCRIPTION:Title:\nStudent Success Conference\nDescription:\nAngela Vivar will provide a Motivational Student Session and a combined Student/Parent Session.\nTheme:\nStudent/Parent Involvement\nDate:\n8/4/2022\nTime:\n08:00 AM – 2:30 PM CST\nLocation:\nPort Arthur\, TX
URL:https://coolspeak.com/event/lamar-state-college-port-arthur-student-success-conference/
END:VEVENT
BEGIN:VEVENT
DTSTART;TZID=America/New_York:20220824T080000
DTEND;TZID=America/New_York:20220824T180000
DTSTAMP:20260424T214814
CREATED:20220718T115833Z
LAST-MODIFIED:20220718T115833Z
UID:10000589-1661328000-1661364000@coolspeak.com
SUMMARY:James S. Russell Middle School GEAR UP Kickoff
DESCRIPTION:Title:\nGEAR UP Kickoff\nDescription:\nSEL sessions for students and staff during the school day 8:00am – 2:00pm and parents and community during the evening 5:00pm-7:00pm\nTheme:\nGEARing UP for a Successful Year!\nDate:\n8/24/2022\nTime:\n8:00 AM – 6:00 PM\nLocation:\nLawrenceville\, VA
URL:https://coolspeak.com/event/james-s-russell-middle-school-gear-up-kickoff/
END:VEVENT
BEGIN:VEVENT
DTSTART;TZID=America/New_York:20220824T100000
DTEND;TZID=America/New_York:20220824T150000
DTSTAMP:20260424T214814
CREATED:20220419T014312Z
LAST-MODIFIED:20220419T014312Z
UID:10000410-1661335200-1661353200@coolspeak.com
SUMMARY:2022 Raritan Valley Community College EOF Orientation
DESCRIPTION:
URL:https://coolspeak.com/event/2022-raritan-valley-community-college-eof-orientation/
END:VEVENT
BEGIN:VEVENT
DTSTART;TZID=America/New_York:20220824T100000
DTEND;TZID=America/New_York:20220824T150000
DTSTAMP:20260424T214814
CREATED:20220419T014312Z
LAST-MODIFIED:20220419T014312Z
UID:10000418-1661335200-1661353200@coolspeak.com
SUMMARY:2022 Raritan Valley Community College EOF Orientation
DESCRIPTION:
URL:https://coolspeak.com/event/2022-raritan-valley-community-college-eof-orientation-4/
END:VEVENT
BEGIN:VEVENT
DTSTART;TZID=America/New_York:20220825T100000
DTEND;TZID=America/New_York:20220825T150000
DTSTAMP:20260424T214814
CREATED:20220419T014312Z
LAST-MODIFIED:20220419T014312Z
UID:10000411-1661421600-1661439600@coolspeak.com
SUMMARY:2022 Raritan Valley Community College EOF Orientation
DESCRIPTION:
URL:https://coolspeak.com/event/2022-raritan-valley-community-college-eof-orientation-2/
END:VEVENT
BEGIN:VEVENT
DTSTART;TZID=America/New_York:20220825T100000
DTEND;TZID=America/New_York:20220825T150000
DTSTAMP:20260424T214814
CREATED:20220419T014312Z
LAST-MODIFIED:20220419T014312Z
UID:10000419-1661421600-1661439600@coolspeak.com
SUMMARY:2022 Raritan Valley Community College EOF Orientation
DESCRIPTION:
URL:https://coolspeak.com/event/2022-raritan-valley-community-college-eof-orientation-2-2/
END:VEVENT
BEGIN:VEVENT
DTSTART;TZID=America/New_York:20220825T110000
DTEND;TZID=America/New_York:20220825T230000
DTSTAMP:20260424T214814
CREATED:20220825T181638Z
LAST-MODIFIED:20220825T181638Z
UID:10000617-1661425200-1661468400@coolspeak.com
SUMMARY:
DESCRIPTION:Title: CAMP Conference Yakima Valley Community College \nDescription:Juan Cangas will provide a programming boot camp. \nTheme:Team Building \nDate: 8/25/2022 \nTime:08:00 AM – 08:00 PM \nLocation:Grandview\, WA
URL:https://coolspeak.com/event/13622/
END:VEVENT
BEGIN:VEVENT
DTSTART;TZID=America/New_York:20220826T100000
DTEND;TZID=America/New_York:20220826T150000
DTSTAMP:20260424T214814
CREATED:20220419T014312Z
LAST-MODIFIED:20220419T014312Z
UID:10000412-1661508000-1661526000@coolspeak.com
SUMMARY:2022 Raritan Valley Community College EOF Orientation
DESCRIPTION:
URL:https://coolspeak.com/event/2022-raritan-valley-community-college-eof-orientation-3/
END:VEVENT
BEGIN:VEVENT
DTSTART;TZID=America/New_York:20220826T100000
DTEND;TZID=America/New_York:20220826T150000
DTSTAMP:20260424T214814
CREATED:20220419T014312Z
LAST-MODIFIED:20220419T014312Z
UID:10000420-1661508000-1661526000@coolspeak.com
SUMMARY:2022 Raritan Valley Community College EOF Orientation
DESCRIPTION:
URL:https://coolspeak.com/event/2022-raritan-valley-community-college-eof-orientation-3-2/
END:VEVENT
BEGIN:VEVENT
DTSTART;TZID=America/New_York:20220826T190000
DTEND;TZID=America/New_York:20220827T000000
DTSTAMP:20260424T214814
CREATED:20220803T154346Z
LAST-MODIFIED:20220803T154346Z
UID:10000596-1661540400-1661558400@coolspeak.com
SUMMARY:2022 Idaho State University Trio Talent Search Program with Juan Cangas.
DESCRIPTION:Title:\nUtah College Tour\nDescription:\nJuan Cangas will provide College Readiness and Interactive Programming with Trio Talent Search Students.\nTheme:\nCollege Readiness and Motivation to College.\nDate:\n08/26/2022\nTime:\n5:00 PM – 10:00 PM MST\nLocation:\nSalt Lake City\, UT
URL:https://coolspeak.com/event/2022-idaho-state-university-trio-talent-search-program-with-juan-cangas/
END:VEVENT
BEGIN:VEVENT
DTSTART;TZID=America/New_York:20220827T160000
DTEND;TZID=America/New_York:20220827T173000
DTSTAMP:20260424T214814
CREATED:20220701T151507Z
LAST-MODIFIED:20220701T151507Z
UID:10000577-1661616000-1661621400@coolspeak.com
SUMMARY:New Student Orientation at Lebanon Valley College
DESCRIPTION:Title: New Student Orientation at Lebanon Valley College \nDescription:Carlos Ojeda Jr. will provide a student orientation \nTheme:Community \nDate: 08/27/2022 \nTime:10 – 11:30am \nLocation: \n400-500 students \nDiversity \nthe advantages and disadvantages of diversity.   \nhow it can help them be successful \nauditorium \nBlair recital hall
URL:https://coolspeak.com/event/new-student-orientation-at-lebanon-valley-college/
END:VEVENT
BEGIN:VEVENT
DTSTART;TZID=America/New_York:20220828T150000
DTEND;TZID=America/New_York:20220828T170000
DTSTAMP:20260424T214814
CREATED:20220809T142911Z
LAST-MODIFIED:20220809T142911Z
UID:10000606-1661698800-1661706000@coolspeak.com
SUMMARY:2022 Thomas University Welcome Back Event with Natasha Carrizosa
DESCRIPTION:Title:\n2022 Thomas University Welcome Back Event with Natasha Carrizosa\nDescription:\nKeynote presentation and Writing Workshop by Natasha Carrizosa\nTheme:\nYouth Empowerment and Self-Expression\nDate:\n8/28/2022\nTime:\n3:00 PM –  5:00 PM\nLocation:\nThomasville\, GA
URL:https://coolspeak.com/event/2022-thomas-university-welcome-back-event-with-natasha-carrizosa/
END:VEVENT
BEGIN:VEVENT
DTSTART;TZID=America/New_York:20220830T103000
DTEND;TZID=America/New_York:20220830T143000
DTSTAMP:20260424T214814
CREATED:20220512T223131Z
LAST-MODIFIED:20220512T223131Z
UID:10000489-1661855400-1661869800@coolspeak.com
SUMMARY:Eastern State Oklahoma College GEAR UP
DESCRIPTION:Title:Your Voice is Your Power Presentation. \nDescription:Carlos Ojeda Jr. providing keynote presentations for GEAR UP Students. \nTheme:Youth Empowerment/Leadership/College and Career Readiness. \nDate:08/30/2022 – 08/31/2022 \nTime: 9:30am – 1:30pm CST \nLocation:Wilburton\, OK
URL:https://coolspeak.com/event/eastern-state-oklahoma-college-gear-up/
END:VEVENT
BEGIN:VEVENT
DTSTART;TZID=America/New_York:20220830T103000
DTEND;TZID=America/New_York:20220830T143000
DTSTAMP:20260424T214814
CREATED:20220512T223131Z
LAST-MODIFIED:20220512T223131Z
UID:10000490-1661855400-1661869800@coolspeak.com
SUMMARY:Eastern State Oklahoma College GEAR UP
DESCRIPTION:Title:Your Voice is Your Power Presentation. \nDescription:Carlos Ojeda Jr. providing keynote presentations for GEAR UP Students. \nTheme:Youth Empowerment/Leadership/College and Career Readiness. \nDate:08/30/2022 – 08/31/2022 \nTime: 9:30am – 1:30pm CST \nLocation:Wilburton\, OK
URL:https://coolspeak.com/event/eastern-state-oklahoma-college-gear-up-3/
END:VEVENT
BEGIN:VEVENT
DTSTART;TZID=America/New_York:20220831T103000
DTEND;TZID=America/New_York:20220831T143000
DTSTAMP:20260424T214814
CREATED:20220513T013328Z
LAST-MODIFIED:20220513T013328Z
UID:10000495-1661941800-1661956200@coolspeak.com
SUMMARY:Eastern State Oklahoma College GEAR UP
DESCRIPTION:Title:Your Voice is Your Power Presentation. \nDescription:Carlos Ojeda Jr. providing keynote presentations for GEAR UP Students. \nTheme:Youth Empowerment/Leadership/College and Career Readiness. \nDate:08/30/2022 – 08/31/2022 \nTime: 9:30am – 1:30pm CST \nLocation:Wilburton\, OK
URL:https://coolspeak.com/event/eastern-state-oklahoma-college-gear-up-2/
END:VEVENT
BEGIN:VEVENT
DTSTART;TZID=America/New_York:20220831T103000
DTEND;TZID=America/New_York:20220831T143000
DTSTAMP:20260424T214814
CREATED:20220513T013328Z
LAST-MODIFIED:20220513T013328Z
UID:10000496-1661941800-1661956200@coolspeak.com
SUMMARY:Eastern State Oklahoma College GEAR UP
DESCRIPTION:Title:Your Voice is Your Power Presentation. \nDescription:Carlos Ojeda Jr. providing keynote presentations for GEAR UP Students. \nTheme:Youth Empowerment/Leadership/College and Career Readiness. \nDate:08/30/2022 – 08/31/2022 \nTime: 9:30am – 1:30pm CST \nLocation:Wilburton\, OK
URL:https://coolspeak.com/event/eastern-state-oklahoma-college-gear-up-2-2/
END:VEVENT
BEGIN:VEVENT
DTSTART;TZID=America/New_York:20220901T100000
DTEND;TZID=America/New_York:20220901T103000
DTSTAMP:20260424T214814
CREATED:20220804T125835Z
LAST-MODIFIED:20250421T123351Z
UID:10000599-1662026400-1662028200@coolspeak.com
SUMMARY:2022 Indiana Latino Institute Education Summits
DESCRIPTION:Title:\n2022 Indiana Latino Institute Education Summits\nDescription:\nCarlos Ojeda Jr will tour South Bend\nTheme:\nYouth Empowerment and Leadership\nDate:\n9/1/2022\nTime:\n10:00 AM – 10:30 AM\nLocation:\nCentury Center\, 120 Dr. Martin Luther King Jr\, Blvd\, South Bend\, Indiana 46601
URL:https://coolspeak.com/event/2022-indiana-latino-institute-education-summits/
END:VEVENT
END:VCALENDAR