BEGIN:VCALENDAR
VERSION:2.0
PRODID:-//CoolSpeak - ECPv6.15.18//NONSGML v1.0//EN
CALSCALE:GREGORIAN
METHOD:PUBLISH
X-WR-CALNAME:CoolSpeak
X-ORIGINAL-URL:https://coolspeak.com
X-WR-CALDESC:Events for CoolSpeak
REFRESH-INTERVAL;VALUE=DURATION:PT1H
X-Robots-Tag:noindex
X-PUBLISHED-TTL:PT1H
BEGIN:VTIMEZONE
TZID:America/New_York
BEGIN:DAYLIGHT
TZOFFSETFROM:-0500
TZOFFSETTO:-0400
TZNAME:EDT
DTSTART:20200308T070000
END:DAYLIGHT
BEGIN:STANDARD
TZOFFSETFROM:-0400
TZOFFSETTO:-0500
TZNAME:EST
DTSTART:20201101T060000
END:STANDARD
BEGIN:DAYLIGHT
TZOFFSETFROM:-0500
TZOFFSETTO:-0400
TZNAME:EDT
DTSTART:20210314T070000
END:DAYLIGHT
BEGIN:STANDARD
TZOFFSETFROM:-0400
TZOFFSETTO:-0500
TZNAME:EST
DTSTART:20211107T060000
END:STANDARD
BEGIN:DAYLIGHT
TZOFFSETFROM:-0500
TZOFFSETTO:-0400
TZNAME:EDT
DTSTART:20220313T070000
END:DAYLIGHT
BEGIN:STANDARD
TZOFFSETFROM:-0400
TZOFFSETTO:-0500
TZNAME:EST
DTSTART:20221106T060000
END:STANDARD
END:VTIMEZONE
BEGIN:VEVENT
DTSTART;TZID=America/New_York:20210408T193000
DTEND;TZID=America/New_York:20210408T220000
DTSTAMP:20260424T230606
CREATED:20210309T004224Z
LAST-MODIFIED:20210309T004224Z
UID:10000043-1617910200-1617919200@coolspeak.com
SUMMARY:Region 12: The Power of YOUth Leadership Virtual Program Series
DESCRIPTION:Region 12: The Power of YOUth Leadership Virtual Program SeriesGilfredo Pena is inviting you to a scheduled Zoom meeting.\nJoin Zoom Meeting\nhttps://coolspeak.zoom.us/j/99530672352\nMeeting ID: 995 3067 2352\nOne tap mobile\n+13017158592\,\,99530672352# US (Washington D.C)\n+13126266799\,\,99530672352# US (Chicago)\nDial by your location\n        +1 301 715 8592 US (Washington D.C)\n        +1 312 626 6799 US (Chicago)\n        +1 929 205 6099 US (New York)\n        +1 253 215 8782 US (Tacoma)\n        +1 346 248 7799 US (Houston)\n        +1 669 900 6833 US (San Jose)\nMeeting ID: 995 3067 2352\nFind your local number: https://coolspeak.zoom.us/u/amaJUWQkb\nThis event has a video call.\nJoin: https://meet.google.com/bez-bktr-hfq\n(US) +1 319-820-2211 PIN: 725340429#\nView more phone numbers: https://tel.meet/bez-bktr-hfq?pin=8804296579266&hs=7
URL:https://coolspeak.com/event/region-12-the-power-of-youth-leadership-virtual-program-series-3/
LOCATION:https://coolspeak.zoom.us/j/99530672352
END:VEVENT
BEGIN:VEVENT
DTSTART;TZID=America/New_York:20210408T193000
DTEND;TZID=America/New_York:20210408T220000
DTSTAMP:20260424T230606
CREATED:20210309T004224Z
LAST-MODIFIED:20210309T004224Z
UID:10000044-1617910200-1617919200@coolspeak.com
SUMMARY:Region 12: The Power of YOUth Leadership Virtual Program Series
DESCRIPTION:Region 12: The Power of YOUth Leadership Virtual Program SeriesGilfredo Pena is inviting you to a scheduled Zoom meeting.\nJoin Zoom Meeting\nhttps://coolspeak.zoom.us/j/99530672352\nMeeting ID: 995 3067 2352\nOne tap mobile\n+13017158592\,\,99530672352# US (Washington D.C)\n+13126266799\,\,99530672352# US (Chicago)\nDial by your location\n        +1 301 715 8592 US (Washington D.C)\n        +1 312 626 6799 US (Chicago)\n        +1 929 205 6099 US (New York)\n        +1 253 215 8782 US (Tacoma)\n        +1 346 248 7799 US (Houston)\n        +1 669 900 6833 US (San Jose)\nMeeting ID: 995 3067 2352\nFind your local number: https://coolspeak.zoom.us/u/amaJUWQkb\nThis event has a video call.\nJoin: https://meet.google.com/bez-bktr-hfq\n(US) +1 319-820-2211 PIN: 725340429#\nView more phone numbers: https://tel.meet/bez-bktr-hfq?pin=8804296579266&hs=7
URL:https://coolspeak.com/event/region-12-the-power-of-youth-leadership-virtual-program-series-3-2/
LOCATION:https://coolspeak.zoom.us/j/99530672352
END:VEVENT
BEGIN:VEVENT
DTSTART;TZID=America/New_York:20210407T120000
DTEND;TZID=America/New_York:20210407T133000
DTSTAMP:20260424T230606
CREATED:20210308T003119Z
LAST-MODIFIED:20210308T003119Z
UID:10000041-1617796800-1617802200@coolspeak.com
SUMMARY:UMass Dartmouth 8th Grade Virtual Youth Summit
DESCRIPTION:Speaker: CoolConference\nClient: UMASS Dartmouth\nDescription: Virtual Keynote Presentation and Workshops.
URL:https://coolspeak.com/event/umass-dartmouth-virtual-youth-conference/
END:VEVENT
BEGIN:VEVENT
DTSTART;TZID=America/New_York:20210407T120000
DTEND;TZID=America/New_York:20210407T133000
DTSTAMP:20260424T230606
CREATED:20210308T003119Z
LAST-MODIFIED:20210308T003119Z
UID:10000042-1617796800-1617802200@coolspeak.com
SUMMARY:UMass Dartmouth 8th Grade Virtual Youth Summit
DESCRIPTION:Speaker: CoolConference\nClient: UMASS Dartmouth\nDescription: Virtual Keynote Presentation and Workshops.
URL:https://coolspeak.com/event/umass-dartmouth-virtual-youth-conference-2/
END:VEVENT
BEGIN:VEVENT
DTSTART;TZID=America/New_York:20210406T163000
DTEND;TZID=America/New_York:20210406T173000
DTSTAMP:20260424T230606
CREATED:20210311T145934Z
LAST-MODIFIED:20210311T145934Z
UID:10000046-1617726600-1617730200@coolspeak.com
SUMMARY:Pa' Lante KCK GEAR UP: College & Career Virtual Series With Carlos Ojeda Jr.
DESCRIPTION:Speaker: Carlos Ojeda Jr.\nClient: Kansas City Kansas GEAR UP\nDescription: 60-minute virtual session with focus on College & Career Series and becoming an Entrepreneur.
URL:https://coolspeak.com/event/pa-lante-kck-gear-up-college-career-virtual-series-with-carlos-ojeda-jr/
END:VEVENT
BEGIN:VEVENT
DTSTART;TZID=America/New_York:20210406T163000
DTEND;TZID=America/New_York:20210406T173000
DTSTAMP:20260424T230606
CREATED:20210311T145934Z
LAST-MODIFIED:20210311T145934Z
UID:10000048-1617726600-1617730200@coolspeak.com
SUMMARY:Pa' Lante KCK GEAR UP: College & Career Virtual Series With Carlos Ojeda Jr.
DESCRIPTION:Speaker: Carlos Ojeda Jr.\nClient: Kansas City Kansas GEAR UP\nDescription: 60-minute virtual session with focus on College & Career Series and becoming an Entrepreneur.
URL:https://coolspeak.com/event/pa-lante-kck-gear-up-college-career-virtual-series-with-carlos-ojeda-jr-2/
END:VEVENT
BEGIN:VEVENT
DTSTART;TZID=America/New_York:20210406T120000
DTEND;TZID=America/New_York:20210406T130000
DTSTAMP:20260424T230606
CREATED:20210317T192942Z
LAST-MODIFIED:20210317T192942Z
UID:10000057-1617710400-1617714000@coolspeak.com
SUMMARY:GEAR UP Wyoming State Conference Virtual Professional Development with Carlos Ojeda Jr.
DESCRIPTION:Speaker: Carlos Ojeda Jr.\nClient: Wyoming GEAR UP\nDescription: 1 hour virtual professional development for Wyoming State Conference.
URL:https://coolspeak.com/event/gear-up-wyoming-state-conference-virtual-professional-development-with-carlos-ojeda-jr/
END:VEVENT
BEGIN:VEVENT
DTSTART;TZID=America/New_York:20210406T120000
DTEND;TZID=America/New_York:20210406T130000
DTSTAMP:20260424T230606
CREATED:20210317T192942Z
LAST-MODIFIED:20210317T192942Z
UID:10000058-1617710400-1617714000@coolspeak.com
SUMMARY:GEAR UP Wyoming State Conference Virtual Professional Development with Carlos Ojeda Jr.
DESCRIPTION:Speaker: Carlos Ojeda Jr.\nClient: Wyoming GEAR UP\nDescription: 1 hour virtual professional development for Wyoming State Conference.
URL:https://coolspeak.com/event/gear-up-wyoming-state-conference-virtual-professional-development-with-carlos-ojeda-jr-2/
END:VEVENT
BEGIN:VEVENT
DTSTART;TZID=America/New_York:20210327T131500
DTEND;TZID=America/New_York:20210327T140000
DTSTAMP:20260424T230606
CREATED:20210311T145934Z
LAST-MODIFIED:20210311T145934Z
UID:10000045-1616850900-1616853600@coolspeak.com
SUMMARY:KCK GEAR UP Women's Conference With Natasha Carrizosa.
DESCRIPTION:Speaker: Natasha Carrizosa\nClient: Kansas City Kansas GEAR UP\nDescription: 40-minute virtual session for Women’s Conference.
URL:https://coolspeak.com/event/kck-gear-up-womens-conference-with-natasha-carrizosa/
END:VEVENT
BEGIN:VEVENT
DTSTART;TZID=America/New_York:20210327T131500
DTEND;TZID=America/New_York:20210327T140000
DTSTAMP:20260424T230606
CREATED:20210311T145934Z
LAST-MODIFIED:20210311T145934Z
UID:10000047-1616850900-1616853600@coolspeak.com
SUMMARY:KCK GEAR UP Women's Conference With Natasha Carrizosa.
DESCRIPTION:Speaker: Natasha Carrizosa\nClient: Kansas City Kansas GEAR UP\nDescription: 40-minute virtual session for Women’s Conference.
URL:https://coolspeak.com/event/kck-gear-up-womens-conference-with-natasha-carrizosa-2/
END:VEVENT
BEGIN:VEVENT
DTSTART;TZID=America/New_York:20210325T190000
DTEND;TZID=America/New_York:20210325T203000
DTSTAMP:20260424T230606
CREATED:20210312T141550Z
LAST-MODIFIED:20210312T141550Z
UID:10000049-1616698800-1616704200@coolspeak.com
SUMMARY:University of Wisconsin – La Crosse LASO Virtual Event With Natasha Carrizosa
DESCRIPTION:Speaker: Natasha Carrizoza\nClient:  UW – La Crosse LASO\nDetails: 45-minute Virtual Keynote Presentation and a 15-minute Q&A Virtual Session.\nThis event has a video call.\nJoin: https://meet.google.com/gkm-uofu-hai\n(US) +1 316-975-0117 PIN: 670457774#\nView more phone numbers: https://tel.meet/gkm-uofu-hai?pin=9515907175865&hs=7
URL:https://coolspeak.com/event/university-of-wisconsin-la-crosse-laso-virtual-event-with-natasha-carrizosa/
END:VEVENT
BEGIN:VEVENT
DTSTART;TZID=America/New_York:20210325T190000
DTEND;TZID=America/New_York:20210325T203000
DTSTAMP:20260424T230606
CREATED:20210312T141550Z
LAST-MODIFIED:20210312T141550Z
UID:10000050-1616698800-1616704200@coolspeak.com
SUMMARY:University of Wisconsin – La Crosse LASO Virtual Event With Natasha Carrizosa
DESCRIPTION:Speaker: Natasha Carrizoza\nClient:  UW – La Crosse LASO\nDetails: 45-minute Virtual Keynote Presentation and a 15-minute Q&A Virtual Session.\nThis event has a video call.\nJoin: https://meet.google.com/gkm-uofu-hai\n(US) +1 316-975-0117 PIN: 670457774#\nView more phone numbers: https://tel.meet/gkm-uofu-hai?pin=9515907175865&hs=7
URL:https://coolspeak.com/event/university-of-wisconsin-la-crosse-laso-virtual-event-with-natasha-carrizosa-2/
END:VEVENT
BEGIN:VEVENT
DTSTART;TZID=America/New_York:20210320T113000
DTEND;TZID=America/New_York:20210320T123000
DTSTAMP:20260424T230606
CREATED:20210304T203137Z
LAST-MODIFIED:20210304T203137Z
UID:10000039-1616239800-1616243400@coolspeak.com
SUMMARY:LatinX Empowerment and Higher Education. Presentation With CoolSpeaker Juan Cangas.
DESCRIPTION:Speaker: Juan Cangas\nClient: Kansas State University – DMSA\nDescription: Keynote Address Video with Q&A Session.\nClient providing Virtual Platform.\nThis event has a video call.\nJoin: https://meet.google.com/wrp-kwav-vke\n(US) +1 650-781-1349 PIN: 701984449#\nView more phone numbers: https://tel.meet/wrp-kwav-vke?pin=4358558228131&hs=7
URL:https://coolspeak.com/event/latinx-empowerment-and-higher-education-presentation-with-coolspeaker-juan-cangas/
END:VEVENT
BEGIN:VEVENT
DTSTART;TZID=America/New_York:20210320T113000
DTEND;TZID=America/New_York:20210320T123000
DTSTAMP:20260424T230606
CREATED:20210304T203137Z
LAST-MODIFIED:20210304T203137Z
UID:10000040-1616239800-1616243400@coolspeak.com
SUMMARY:LatinX Empowerment and Higher Education. Presentation With CoolSpeaker Juan Cangas.
DESCRIPTION:Speaker: Juan Cangas\nClient: Kansas State University – DMSA\nDescription: Keynote Address Video with Q&A Session.\nClient providing Virtual Platform.\nThis event has a video call.\nJoin: https://meet.google.com/wrp-kwav-vke\n(US) +1 650-781-1349 PIN: 701984449#\nView more phone numbers: https://tel.meet/wrp-kwav-vke?pin=4358558228131&hs=7
URL:https://coolspeak.com/event/latinx-empowerment-and-higher-education-presentation-with-coolspeaker-juan-cangas-2/
END:VEVENT
BEGIN:VEVENT
DTSTART;TZID=America/New_York:20210311T193000
DTEND;TZID=America/New_York:20210311T220000
DTSTAMP:20260424T230606
CREATED:20210210T002526Z
LAST-MODIFIED:20210210T002526Z
UID:10000031-1615491000-1615500000@coolspeak.com
SUMMARY:Region 12: The Power of YOUth Leadership Virtual Program Series
DESCRIPTION:Region 12: The Power of YOUth Leadership Virtual Program SeriesGilfredo Pena is inviting you to a scheduled Zoom meeting.\nJoin Zoom Meeting\nhttps://coolspeak.zoom.us/j/99530672352\nMeeting ID: 995 3067 2352\nOne tap mobile\n+13017158592\,\,99530672352# US (Washington D.C)\n+13126266799\,\,99530672352# US (Chicago)\nDial by your location\n        +1 301 715 8592 US (Washington D.C)\n        +1 312 626 6799 US (Chicago)\n        +1 929 205 6099 US (New York)\n        +1 253 215 8782 US (Tacoma)\n        +1 346 248 7799 US (Houston)\n        +1 669 900 6833 US (San Jose)\nMeeting ID: 995 3067 2352\nFind your local number: https://coolspeak.zoom.us/u/amaJUWQkb\nThis event has a video call.\nJoin: https://meet.google.com/bez-bktr-hfq\n(US) +1 319-820-2211 PIN: 725340429#\nView more phone numbers: https://tel.meet/bez-bktr-hfq?pin=8804296579266&hs=7
URL:https://coolspeak.com/event/region-12-the-power-of-youth-leadership-virtual-program-series-2/
LOCATION:https://coolspeak.zoom.us/j/99530672352
END:VEVENT
BEGIN:VEVENT
DTSTART;TZID=America/New_York:20210311T193000
DTEND;TZID=America/New_York:20210311T220000
DTSTAMP:20260424T230606
CREATED:20210210T002526Z
LAST-MODIFIED:20210210T002526Z
UID:10000032-1615491000-1615500000@coolspeak.com
SUMMARY:Region 12: The Power of YOUth Leadership Virtual Program Series
DESCRIPTION:Region 12: The Power of YOUth Leadership Virtual Program SeriesGilfredo Pena is inviting you to a scheduled Zoom meeting.\nJoin Zoom Meeting\nhttps://coolspeak.zoom.us/j/99530672352\nMeeting ID: 995 3067 2352\nOne tap mobile\n+13017158592\,\,99530672352# US (Washington D.C)\n+13126266799\,\,99530672352# US (Chicago)\nDial by your location\n        +1 301 715 8592 US (Washington D.C)\n        +1 312 626 6799 US (Chicago)\n        +1 929 205 6099 US (New York)\n        +1 253 215 8782 US (Tacoma)\n        +1 346 248 7799 US (Houston)\n        +1 669 900 6833 US (San Jose)\nMeeting ID: 995 3067 2352\nFind your local number: https://coolspeak.zoom.us/u/amaJUWQkb\nThis event has a video call.\nJoin: https://meet.google.com/bez-bktr-hfq\n(US) +1 319-820-2211 PIN: 725340429#\nView more phone numbers: https://tel.meet/bez-bktr-hfq?pin=8804296579266&hs=7
URL:https://coolspeak.com/event/region-12-the-power-of-youth-leadership-virtual-program-series-2-2/
LOCATION:https://coolspeak.zoom.us/j/99530672352
END:VEVENT
BEGIN:VEVENT
DTSTART;TZID=America/New_York:20210303T093000
DTEND;TZID=America/New_York:20210303T101500
DTSTAMP:20260424T230606
CREATED:20210301T202839Z
LAST-MODIFIED:20210301T202839Z
UID:10000037-1614763800-1614766500@coolspeak.com
SUMMARY:Conestoga High School Unity Week Virtual Presentation with Tim Stafford
DESCRIPTION:Client: Conestoga High School\nSpeaker: Tim Stafford\nDescription: Virtual Presentation for Unity week.  Focus on: Student Diversity\, Acceptance and Togetherness.
URL:https://coolspeak.com/event/conestoga-high-school-unity-week-virtual-presentation-with-tim-stafford/
END:VEVENT
BEGIN:VEVENT
DTSTART;TZID=America/New_York:20210303T093000
DTEND;TZID=America/New_York:20210303T101500
DTSTAMP:20260424T230606
CREATED:20210301T202839Z
LAST-MODIFIED:20210301T202839Z
UID:10000038-1614763800-1614766500@coolspeak.com
SUMMARY:Conestoga High School Unity Week Virtual Presentation with Tim Stafford
DESCRIPTION:Client: Conestoga High School\nSpeaker: Tim Stafford\nDescription: Virtual Presentation for Unity week.  Focus on: Student Diversity\, Acceptance and Togetherness.
URL:https://coolspeak.com/event/conestoga-high-school-unity-week-virtual-presentation-with-tim-stafford-2/
END:VEVENT
BEGIN:VEVENT
DTSTART;TZID=America/New_York:20210302T200000
DTEND;TZID=America/New_York:20210302T213000
DTSTAMP:20260424T230606
CREATED:20210301T152500Z
LAST-MODIFIED:20210301T152500Z
UID:10000033-1614715200-1614720600@coolspeak.com
SUMMARY:2021 CADA Convention
DESCRIPTION:Carlos Ojeda Jr. will be keynoting about student voice at the 2021 CADA Convention.
URL:https://coolspeak.com/event/2021-cada-convention/
END:VEVENT
BEGIN:VEVENT
DTSTART;TZID=America/New_York:20210302T200000
DTEND;TZID=America/New_York:20210302T213000
DTSTAMP:20260424T230606
CREATED:20210301T152500Z
LAST-MODIFIED:20210301T152500Z
UID:10000034-1614715200-1614720600@coolspeak.com
SUMMARY:2021 CADA Convention
DESCRIPTION:Carlos Ojeda Jr. will be keynoting about student voice at the 2021 CADA Convention.
URL:https://coolspeak.com/event/2021-cada-convention-2/
END:VEVENT
BEGIN:VEVENT
DTSTART;TZID=America/New_York:20210302T150000
DTEND;TZID=America/New_York:20210302T160000
DTSTAMP:20260424T230606
CREATED:20210301T170213Z
LAST-MODIFIED:20210301T170213Z
UID:10000035-1614697200-1614700800@coolspeak.com
SUMMARY:Philadelphia GEAR UP Presents: 2021 Funding Your Future Kickoff Event with Carlos Ojeda Jr
DESCRIPTION:Client: Philadelphia GEAR UP.\nSpeaker: Carlos Ojeda Jr.\nDescription: Live Virtual Kickoff Presentation for the Funding Your Future Program.\nThis event has a video call.\nJoin: https://meet.google.com/sgm-qnua-btg\n(US) +1 929-260-4551 PIN: 511854888#\nView more phone numbers: https://tel.meet/sgm-qnua-btg?pin=9874027177734&hs=7
URL:https://coolspeak.com/event/philadelphia-gear-up-presents-2021-funding-your-future-kickoff-event-with-carlos-ojeda-jr/
END:VEVENT
BEGIN:VEVENT
DTSTART;TZID=America/New_York:20210302T150000
DTEND;TZID=America/New_York:20210302T160000
DTSTAMP:20260424T230606
CREATED:20210301T170213Z
LAST-MODIFIED:20210301T170213Z
UID:10000036-1614697200-1614700800@coolspeak.com
SUMMARY:Philadelphia GEAR UP Presents: 2021 Funding Your Future Kickoff Event with Carlos Ojeda Jr
DESCRIPTION:Client: Philadelphia GEAR UP.\nSpeaker: Carlos Ojeda Jr.\nDescription: Live Virtual Kickoff Presentation for the Funding Your Future Program.\nThis event has a video call.\nJoin: https://meet.google.com/sgm-qnua-btg\n(US) +1 929-260-4551 PIN: 511854888#\nView more phone numbers: https://tel.meet/sgm-qnua-btg?pin=9874027177734&hs=7
URL:https://coolspeak.com/event/philadelphia-gear-up-presents-2021-funding-your-future-kickoff-event-with-carlos-ojeda-jr-2/
END:VEVENT
BEGIN:VEVENT
DTSTART;TZID=America/New_York:20210220T100000
DTEND;TZID=America/New_York:20210220T120000
DTSTAMP:20260424T230606
CREATED:20210202T115611Z
LAST-MODIFIED:20210202T115611Z
UID:10000030-1613815200-1613822400@coolspeak.com
SUMMARY:Fort Wayne GEAR UP Student Workshop
DESCRIPTION:Carlos Ojeda Jr. will be sharing his ‘Voice is Power’ keynote at this virtual event for Fort Wayne GEAR UP Students.
URL:https://coolspeak.com/event/fort-wayne-gear-up-student-workshop-2/
END:VEVENT
BEGIN:VEVENT
DTSTART;TZID=America/New_York:20210220T100000
DTEND;TZID=America/New_York:20210220T120000
DTSTAMP:20260424T230606
CREATED:20210202T115611Z
LAST-MODIFIED:20210202T115611Z
UID:10000026-1613815200-1613822400@coolspeak.com
SUMMARY:Fort Wayne GEAR UP Student Workshop
DESCRIPTION:Carlos Ojeda Jr. will be sharing his ‘Voice is Power’ keynote at this virtual event for Fort Wayne GEAR UP Students.
URL:https://coolspeak.com/event/fort-wayne-gear-up-student-workshop/
END:VEVENT
BEGIN:VEVENT
DTSTART;TZID=America/New_York:20210216T130000
DTEND;TZID=America/New_York:20210216T131500
DTSTAMP:20260424T230606
CREATED:20210202T115611Z
LAST-MODIFIED:20210202T115611Z
UID:10000029-1613480400-1613481300@coolspeak.com
SUMMARY:Georgia Student Council
DESCRIPTION:Georgia Student Council event featuring Carlos Ojeda Jr.
URL:https://coolspeak.com/event/georgia-student-council-2/
END:VEVENT
BEGIN:VEVENT
DTSTART;TZID=America/New_York:20210216T130000
DTEND;TZID=America/New_York:20210216T131500
DTSTAMP:20260424T230606
CREATED:20210202T115611Z
LAST-MODIFIED:20210202T115611Z
UID:10000017-1613480400-1613481300@coolspeak.com
SUMMARY:Georgia Student Council
DESCRIPTION:Georgia Student Council event featuring Carlos Ojeda Jr.
URL:https://coolspeak.com/event/georgia-student-council/
END:VEVENT
BEGIN:VEVENT
DTSTART;TZID=America/New_York:20210211T193000
DTEND;TZID=America/New_York:20210211T220000
DTSTAMP:20260424T230606
CREATED:20210202T115611Z
LAST-MODIFIED:20210202T115611Z
UID:10000018-1613071800-1613080800@coolspeak.com
SUMMARY:Region 12: The Power of YOUth Leadership Virtual Program Series
DESCRIPTION:Region 12: The Power of YOUth Leadership Virtual Program SeriesGilfredo Pena is inviting you to a scheduled Zoom meeting.\nJoin Zoom Meeting\nhttps://coolspeak.zoom.us/j/99530672352\nMeeting ID: 995 3067 2352\nOne tap mobile\n+13017158592\,\,99530672352# US (Washington D.C)\n+13126266799\,\,99530672352# US (Chicago)\nDial by your location\n        +1 301 715 8592 US (Washington D.C)\n        +1 312 626 6799 US (Chicago)\n        +1 929 205 6099 US (New York)\n        +1 253 215 8782 US (Tacoma)\n        +1 346 248 7799 US (Houston)\n        +1 669 900 6833 US (San Jose)\nMeeting ID: 995 3067 2352\nFind your local number: https://coolspeak.zoom.us/u/amaJUWQkb\nThis event has a video call.\nJoin: https://meet.google.com/bez-bktr-hfq\n(US) +1 319-820-2211 PIN: 725340429#\nView more phone numbers: https://tel.meet/bez-bktr-hfq?pin=8804296579266&hs=7
URL:https://coolspeak.com/event/region-12-the-power-of-youth-leadership-virtual-program-series/
LOCATION:https://coolspeak.zoom.us/j/99530672352
END:VEVENT
BEGIN:VEVENT
DTSTART;TZID=America/New_York:20210211T193000
DTEND;TZID=America/New_York:20210211T220000
DTSTAMP:20260424T230606
CREATED:20210202T115611Z
LAST-MODIFIED:20210202T115611Z
UID:10000028-1613071800-1613080800@coolspeak.com
SUMMARY:Region 12: The Power of YOUth Leadership Virtual Program Series
DESCRIPTION:Region 12: The Power of YOUth Leadership Virtual Program SeriesGilfredo Pena is inviting you to a scheduled Zoom meeting.\nJoin Zoom Meeting\nhttps://coolspeak.zoom.us/j/99530672352\nMeeting ID: 995 3067 2352\nOne tap mobile\n+13017158592\,\,99530672352# US (Washington D.C)\n+13126266799\,\,99530672352# US (Chicago)\nDial by your location\n        +1 301 715 8592 US (Washington D.C)\n        +1 312 626 6799 US (Chicago)\n        +1 929 205 6099 US (New York)\n        +1 253 215 8782 US (Tacoma)\n        +1 346 248 7799 US (Houston)\n        +1 669 900 6833 US (San Jose)\nMeeting ID: 995 3067 2352\nFind your local number: https://coolspeak.zoom.us/u/amaJUWQkb\nThis event has a video call.\nJoin: https://meet.google.com/bez-bktr-hfq\n(US) +1 319-820-2211 PIN: 725340429#\nView more phone numbers: https://tel.meet/bez-bktr-hfq?pin=8804296579266&hs=7
URL:https://coolspeak.com/event/region-12-the-power-of-youth-leadership-virtual-program-series-4/
LOCATION:https://coolspeak.zoom.us/j/99530672352
END:VEVENT
BEGIN:VEVENT
DTSTART;TZID=America/New_York:20210210T190000
DTEND;TZID=America/New_York:20210210T203000
DTSTAMP:20260424T230606
CREATED:20210202T115610Z
LAST-MODIFIED:20210202T115610Z
UID:10000019-1612983600-1612989000@coolspeak.com
SUMMARY:Southeast Wichita GEAR UP/BAASE Shine Virtual Success Academy
DESCRIPTION:Joaquin Zihuatanejo will join Carlos Ojeda Jr. at the Southeast Wichita GEAR UP/BAASE Shine Virtual Success Academy.  The topic of this session will be scholarships.  The students will begin their five year roadmap.
URL:https://coolspeak.com/event/southeast-wichita-gear-up-baase-shine-virtual-success-academy-2/
END:VEVENT
BEGIN:VEVENT
DTSTART;TZID=America/New_York:20210210T190000
DTEND;TZID=America/New_York:20210210T203000
DTSTAMP:20260424T230606
CREATED:20210202T115610Z
LAST-MODIFIED:20210202T115610Z
UID:10000020-1612983600-1612989000@coolspeak.com
SUMMARY:Southeast Wichita GEAR UP/BAASE Shine Virtual Success Academy
DESCRIPTION:Joaquin Zihuatanejo will join Carlos Ojeda Jr. at the Southeast Wichita GEAR UP/BAASE Shine Virtual Success Academy.  The topic of this session will be scholarships.  The students will begin their five year roadmap.
URL:https://coolspeak.com/event/southeast-wichita-gear-up-baase-shine-virtual-success-academy/
END:VEVENT
END:VCALENDAR