BEGIN:VCALENDAR
VERSION:2.0
PRODID:-//CoolSpeak - ECPv6.15.18//NONSGML v1.0//EN
CALSCALE:GREGORIAN
METHOD:PUBLISH
X-WR-CALNAME:CoolSpeak
X-ORIGINAL-URL:https://coolspeak.com
X-WR-CALDESC:Events for CoolSpeak
REFRESH-INTERVAL;VALUE=DURATION:PT1H
X-Robots-Tag:noindex
X-PUBLISHED-TTL:PT1H
BEGIN:VTIMEZONE
TZID:America/New_York
BEGIN:DAYLIGHT
TZOFFSETFROM:-0500
TZOFFSETTO:-0400
TZNAME:EDT
DTSTART:20240310T070000
END:DAYLIGHT
BEGIN:STANDARD
TZOFFSETFROM:-0400
TZOFFSETTO:-0500
TZNAME:EST
DTSTART:20241103T060000
END:STANDARD
BEGIN:DAYLIGHT
TZOFFSETFROM:-0500
TZOFFSETTO:-0400
TZNAME:EDT
DTSTART:20250309T070000
END:DAYLIGHT
BEGIN:STANDARD
TZOFFSETFROM:-0400
TZOFFSETTO:-0500
TZNAME:EST
DTSTART:20251102T060000
END:STANDARD
BEGIN:DAYLIGHT
TZOFFSETFROM:-0500
TZOFFSETTO:-0400
TZNAME:EDT
DTSTART:20260308T070000
END:DAYLIGHT
BEGIN:STANDARD
TZOFFSETFROM:-0400
TZOFFSETTO:-0500
TZNAME:EST
DTSTART:20261101T060000
END:STANDARD
END:VTIMEZONE
BEGIN:VEVENT
DTSTART;TZID=America/New_York:20250628T080000
DTEND;TZID=America/New_York:20250628T180000
DTSTAMP:20260421T215347
CREATED:20250319T161303Z
LAST-MODIFIED:20250628T210638Z
UID:10001714-1751097600-1751133600@coolspeak.com
SUMMARY:2025 Jostens Renaissance Global Conference
DESCRIPTION:Speaker: Carlos Ojeda Jr.\nEvent Title: 2025 Jostens Renaissance Global Conference.\nClient Program/Organization: Jostens Renaissance\nEvent Description: Carlos Ojeda Jr. will conduct a four Leadership Academy for Students and Educators.\nTheme: Students and Educators Celebration.\nStart Date: 2025-06-27\nEnd Date: 2025-06-30\nStart Time: 1:00 PM\nEnd Time: 1:00 PM\nCity/State: Chula Vista\, CA\nAudience: High School\nNumber attending: 1500
URL:https://coolspeak.com/event/2025-jostens-renaissance-global-conference-2/
CATEGORIES:Event
END:VEVENT
BEGIN:VEVENT
DTSTART;TZID=America/New_York:20250627T140000
DTEND;TZID=America/New_York:20250627T180000
DTSTAMP:20260421T215347
CREATED:20250114T201422Z
LAST-MODIFIED:20250627T215141Z
UID:10001610-1751032800-1751047200@coolspeak.com
SUMMARY:2025 West Virginia GEAR UP Summer Program
DESCRIPTION:Below are the event details: \n\nSpeaker: \n\nCustomized CoolProgram\n\n\nEvent Title: \n\n2025 West Virginia GEAR UP Summer Program\n\n\nClient Program/Organization: \n\nWest Virginia Higher Education Policy Commission\n\n\nEvent Description: \n\nCoolSpeak will provide a Three Day Summer Camp for GEAR UP High School Students.\n\n\nTheme: Focus: \n\nConfidence/Leadership/SEL/Goal Setting/Study Skills.\n\n\nStart Date:\n\n 2025-06-26\n\n\nEnd Date: \n\n2025-06-28\n\n\nStart Time:\n\n 2:00 PM\n\n\nEnd Time: \n\n6:00 PM\n\n\nCity/State: \n\nHuntington\, WV\n\n\nAudience:\n\n High School\n\n\nNumber attending:\n\n 175
URL:https://coolspeak.com/event/2025-west-virginia-gear-up-summer-program-2/
CATEGORIES:Event
END:VEVENT
BEGIN:VEVENT
DTSTART;TZID=America/New_York:20250627T130000
DTEND;TZID=America/New_York:20250627T213000
DTSTAMP:20260421T215347
CREATED:20250605T083713Z
LAST-MODIFIED:20250628T010639Z
UID:10001877-1751029200-1751059800@coolspeak.com
SUMMARY:2025 West Virginia GEAR UP Summer Program
DESCRIPTION:
URL:https://coolspeak.com/event/2025-west-virginia-gear-up-summer-program-6/
LOCATION:Huntington\, WV\, USA
CATEGORIES:Event
END:VEVENT
BEGIN:VEVENT
DTSTART;TZID=America/New_York:20250627T120000
DTEND;TZID=America/New_York:20250627T170000
DTSTAMP:20260421T215347
CREATED:20250606T033644Z
LAST-MODIFIED:20250627T205140Z
UID:10001880-1751025600-1751043600@coolspeak.com
SUMMARY:Butte County Office of Education CA Mini Corps
DESCRIPTION:Speaker:\n\nJuan Cangas\n\n\nEvent: \n\nButte County Office of Education CA Mini Corps\n\n\nDescription: \n\nProfessional Development\n\n\nTheme: \n\nOutdoor Camp\n\n\nDate:  \n\n6/27/2025\n\n\nPresentation Start Time:  \n\n9:00 AM\n\n\nWorkshop Start Time: \n\n9:00 AM\n\n\nAudience: \n\nProfessional\n\n\nNumber Attending: \n\n16
URL:https://coolspeak.com/event/butte-county-office-of-education-ca-mini-corps/
CATEGORIES:Event
END:VEVENT
BEGIN:VEVENT
DTSTART;TZID=America/New_York:20250627T090000
DTEND;TZID=America/New_York:20250627T210000
DTSTAMP:20260421T215347
CREATED:20250606T150646Z
LAST-MODIFIED:20250628T000638Z
UID:10001886-1751014800-1751058000@coolspeak.com
SUMMARY:2025 GEARUP SWV Student Summer Bridge Program/SWV Summer Camp Parent Programming
DESCRIPTION:
URL:https://coolspeak.com/event/2025-gearup-swv-student-summer-bridge-program-swv-summer-camp-parent-programming-3/
LOCATION:Athens\, WV\, USA
CATEGORIES:Event
END:VEVENT
BEGIN:VEVENT
DTSTART;TZID=America/New_York:20250627T090000
DTEND;TZID=America/New_York:20250627T140000
DTSTAMP:20260421T215347
CREATED:20250519T130216Z
LAST-MODIFIED:20250627T175147Z
UID:10001845-1751014800-1751032800@coolspeak.com
SUMMARY:2025 SLiCK YUMA Five Day Summer Camp.
DESCRIPTION:Speaker: \n\nCustomized CoolProgram\n\n\nEvent Title: \n\n2025 SLiCK YUMA Five Day Summer Camp.\n\n\nClient Program/Organization: \n\nEducational Achievement Services\, Inc.\n\n\nEvent Description: \n\nCoolSpeak will provide a Five Day Summer Camp.\n\n\nTheme: \n\nSoul\, Leadership\, Identity\, Culture\, Knowledge\n\n\nStart Date: \n\n2025-06-23\n\n\nEnd Date:\n\n 2025-06-27\n\n\nStart Time:\n\n 9:00 AM\n\n\nEnd Time: \n\n2:00 PM\n\n\nCity/State: \n\nYUMA\, AZ\n\n\nAudience: \n\nHigh School\n\n\nNumber attending: \n\n100
URL:https://coolspeak.com/event/2025-slick-yuma-five-day-summer-camp-10/
CATEGORIES:Event
END:VEVENT
BEGIN:VEVENT
DTSTART;TZID=America/New_York:20250627T083000
DTEND;TZID=America/New_York:20250627T153000
DTSTAMP:20260421T215347
CREATED:20250530T233733Z
LAST-MODIFIED:20250627T185139Z
UID:10001863-1751013000-1751038200@coolspeak.com
SUMMARY:2025 Slick Yuma
DESCRIPTION:
URL:https://coolspeak.com/event/2025-slick-yuma-5/
LOCATION:Yuma\, AZ\, USA
CATEGORIES:Event
END:VEVENT
BEGIN:VEVENT
DTSTART;TZID=America/New_York:20250627T080000
DTEND;TZID=America/New_York:20250627T210000
DTSTAMP:20260421T215347
CREATED:20250507T203448Z
LAST-MODIFIED:20250628T000638Z
UID:10001821-1751011200-1751058000@coolspeak.com
SUMMARY:GEARUP SWV Student Summer Bridge Program
DESCRIPTION:Below are the event details \n\nSpeaker: Customized CoolProgram\nEvent Title: GEARUP SWV Student Summer Bridge Program\nClient Program/Organization: Concord University\nEvent Description: CoolSpeak will provide programming for a student retreat.\nTheme: GEAR UP/Leadership\nStart Date: 2025-06-25\nEnd Date: 2025-06-28\nStart Time: 8:00 AM\nEnd Time: 9:00 PM\nCity/State: Boone\, NC\nAudience: High School\nNumber attending: 100
URL:https://coolspeak.com/event/gearup-swv-student-summer-bridge-program-3/
CATEGORIES:Event
END:VEVENT
BEGIN:VEVENT
DTSTART;TZID=America/New_York:20250627T080000
DTEND;TZID=America/New_York:20250627T180000
DTSTAMP:20260421T215347
CREATED:20250319T161303Z
LAST-MODIFIED:20250627T215141Z
UID:10001713-1751011200-1751047200@coolspeak.com
SUMMARY:2025 Jostens Renaissance Global Conference
DESCRIPTION:Speaker: Carlos Ojeda Jr.\nEvent Title: 2025 Jostens Renaissance Global Conference.\nClient Program/Organization: Jostens Renaissance\nEvent Description: Carlos Ojeda Jr. will conduct a four Leadership Academy for Students and Educators.\nTheme: Students and Educators Celebration.\nStart Date: 2025-06-27\nEnd Date: 2025-06-30\nStart Time: 1:00 PM\nEnd Time: 1:00 PM\nCity/State: Chula Vista\, CA\nAudience: High School\nNumber attending: 1500
URL:https://coolspeak.com/event/2025-jostens-renaissance-global-conference/
CATEGORIES:Event
END:VEVENT
BEGIN:VEVENT
DTSTART;VALUE=DATE:20250627
DTEND;VALUE=DATE:20250630
DTSTAMP:20260421T215347
CREATED:20250128T225852Z
LAST-MODIFIED:20250629T233652Z
UID:10001632-1750982400-1751241599@coolspeak.com
SUMMARY:2025 Vision National Conference
DESCRIPTION:Speakers: \n\nNatasha Carrizosa \nLamarr Womble\n\n\nEvent: \n\n2025 Vision National Conference \n\n\nDescription: \n\nLamarr will provide his keynote for the opening session \nNatty will perform some of her spoken word pieces \n\n\nTheme: \n\nGreatest Leaders All Under One Tent\n\n\nDate:  \n\n6/27/2025 & 6/29/2025\n\n\nPresentation Start Time:  \n\n10:00 AM\n\n\nWorkshop Start Time: \n\n11:00 AM\n\n\nVenue: \n\nConference Center\n\n\nAudience: \n\nHigh School\n\n\nNumber Attending: \n\n1\,000
URL:https://coolspeak.com/event/summer-2025-santa-fe-south-high-school/
CATEGORIES:Event
END:VEVENT
BEGIN:VEVENT
DTSTART;TZID=America/New_York:20250626T150000
DTEND;TZID=America/New_York:20250626T213000
DTSTAMP:20260421T215347
CREATED:20250605T083712Z
LAST-MODIFIED:20250627T010642Z
UID:10001876-1750950000-1750973400@coolspeak.com
SUMMARY:2025 West Virginia GEAR UP Summer Program
DESCRIPTION:
URL:https://coolspeak.com/event/2025-west-virginia-gear-up-summer-program-5/
LOCATION:Huntington\, WV\, USA
CATEGORIES:Event
END:VEVENT
BEGIN:VEVENT
DTSTART;TZID=America/New_York:20250626T140000
DTEND;TZID=America/New_York:20250626T180000
DTSTAMP:20260421T215347
CREATED:20250114T201422Z
LAST-MODIFIED:20250626T210652Z
UID:10001609-1750946400-1750960800@coolspeak.com
SUMMARY:2025 West Virginia GEAR UP Summer Program
DESCRIPTION:Speaker: \n\nCustomized CoolProgram\n\n\nEvent Title: \n\n2025 West Virginia GEAR UP Summer Program\n\n\nClient Program/Organization: \n\nWest Virginia Higher Education Policy Commission\n\n\nEvent Description: \n\nCoolSpeak will provide a Three Day Summer Camp for GEAR UP High School Students.\n\n\nTheme: Focus: \n\nConfidence/Leadership/SEL/Goal Setting/Study Skills.\n\n\nStart Date:\n\n 2025-06-26\n\n\nEnd Date: \n\n2025-06-28\n\n\nStart Time:\n\n 2:00 PM\n\n\nEnd Time: \n\n6:00 PM\n\n\nCity/State: \n\nHuntington\, WV\n\n\nAudience:\n\n High School\n\n\nNumber attending:\n\n 175
URL:https://coolspeak.com/event/2025-west-virginia-gear-up-summer-program/
CATEGORIES:Event
END:VEVENT
BEGIN:VEVENT
DTSTART;TZID=America/New_York:20250626T100000
DTEND;TZID=America/New_York:20250626T213000
DTSTAMP:20260421T215347
CREATED:20250531T015242Z
LAST-MODIFIED:20250627T010641Z
UID:10001865-1750932000-1750973400@coolspeak.com
SUMMARY:2025 GEAR UP Wyoming Summer Camp
DESCRIPTION:
URL:https://coolspeak.com/event/2025-gear-up-wyoming-summer-camp-2/
LOCATION:Laramie\, WY\, USA
CATEGORIES:Event
END:VEVENT
BEGIN:VEVENT
DTSTART;TZID=America/New_York:20250626T090000
DTEND;TZID=America/New_York:20250626T210000
DTSTAMP:20260421T215347
CREATED:20250606T150646Z
LAST-MODIFIED:20250627T000646Z
UID:10001885-1750928400-1750971600@coolspeak.com
SUMMARY:2025 GEARUP SWV Student Summer Bridge Program/SWV Summer Camp Parent Programming
DESCRIPTION:
URL:https://coolspeak.com/event/2025-gearup-swv-student-summer-bridge-program-swv-summer-camp-parent-programming-2/
LOCATION:Athens\, WV\, USA
CATEGORIES:Event
END:VEVENT
BEGIN:VEVENT
DTSTART;TZID=America/New_York:20250626T090000
DTEND;TZID=America/New_York:20250626T140000
DTSTAMP:20260421T215347
CREATED:20250519T130216Z
LAST-MODIFIED:20250626T170709Z
UID:10001844-1750928400-1750946400@coolspeak.com
SUMMARY:2025 SLiCK YUMA Five Day Summer Camp.
DESCRIPTION:Speaker: \n\nCustomized CoolProgram\n\n\nEvent Title: \n\n2025 SLiCK YUMA Five Day Summer Camp.\n\n\nClient Program/Organization: \n\nEducational Achievement Services\, Inc.\n\n\nEvent Description: \n\nCoolSpeak will provide a Five Day Summer Camp.\n\n\nTheme: \n\nSoul\, Leadership\, Identity\, Culture\, Knowledge\n\n\nStart Date: \n\n2025-06-23\n\n\nEnd Date:\n\n 2025-06-27\n\n\nStart Time:\n\n 9:00 AM\n\n\nEnd Time: \n\n2:00 PM\n\n\nCity/State: \n\nYUMA\, AZ\n\n\nAudience: \n\nHigh School\n\n\nNumber attending: \n\n100
URL:https://coolspeak.com/event/2025-slick-yuma-five-day-summer-camp-9/
CATEGORIES:Event
END:VEVENT
BEGIN:VEVENT
DTSTART;TZID=America/New_York:20250626T083000
DTEND;TZID=America/New_York:20250626T153000
DTSTAMP:20260421T215347
CREATED:20250530T233733Z
LAST-MODIFIED:20250626T190710Z
UID:10001862-1750926600-1750951800@coolspeak.com
SUMMARY:2025 Slick Yuma
DESCRIPTION:
URL:https://coolspeak.com/event/2025-slick-yuma-4/
LOCATION:Yuma\, AZ\, USA
CATEGORIES:Event
END:VEVENT
BEGIN:VEVENT
DTSTART;TZID=America/New_York:20250626T080000
DTEND;TZID=America/New_York:20250626T210000
DTSTAMP:20260421T215347
CREATED:20250507T203448Z
LAST-MODIFIED:20250627T000646Z
UID:10001820-1750924800-1750971600@coolspeak.com
SUMMARY:GEARUP SWV Student Summer Bridge Program
DESCRIPTION:Below are the event details \n\nSpeaker: Customized CoolProgram\nEvent Title: GEARUP SWV Student Summer Bridge Program\nClient Program/Organization: Concord University\nEvent Description: CoolSpeak will provide programming for a student retreat.\nTheme: GEAR UP/Leadership\nStart Date: 2025-06-25\nEnd Date: 2025-06-28\nStart Time: 8:00 AM\nEnd Time: 9:00 PM\nCity/State: Boone\, NC\nAudience: High School\nNumber attending: 100
URL:https://coolspeak.com/event/gearup-swv-student-summer-bridge-program-2/
CATEGORIES:Event
END:VEVENT
BEGIN:VEVENT
DTSTART;TZID=America/New_York:20250625T183000
DTEND;TZID=America/New_York:20250625T193000
DTSTAMP:20260421T215347
CREATED:20250114T212824Z
LAST-MODIFIED:20250625T232215Z
UID:10001612-1750876200-1750879800@coolspeak.com
SUMMARY:2025 West Virginia GEAR UP Summer Program
DESCRIPTION:Below are the event details: \n\nSpeaker: \n\nJoaquin Zihuatanejo.\n\n\nEvent Title: \n\n2025 West Virginia GEAR UP Summer Program Kickoff Keynote Presentation with Joaquin Zihuatanejo.\n\n\nClient Program/Organization: \n\nWest Virginia Higher Education Policy Commission\n\n\nEvent Description: \n\nJoaquin Zihuatanejo will provide a Keynote Presentation for GEAR UP students to Kickoff West Virginia GEAR UP’s Summer Program.\n\n\nTheme: Focus: \n\nYouth Empowerment/Self Expression.\n\n\nStart Date:\n\n 2025-06-26\n\n\nEnd Date: \n\n2025-06-28\n\n\nStart Time:\n\n6:30 PM\n\n\nEnd Time: \n\n7:30 PM\n\n\nCity/State:\n\nHuntington\, WV\n\n\nAudience:\n\n High School\n\n\nNumber attending:\n\n 175
URL:https://coolspeak.com/event/2025-west-virginia-gear-up-summer-program-4/
CATEGORIES:Event
END:VEVENT
BEGIN:VEVENT
DTSTART;TZID=America/New_York:20250625T100000
DTEND;TZID=America/New_York:20250625T210000
DTSTAMP:20260421T215347
CREATED:20250606T150645Z
LAST-MODIFIED:20250626T005140Z
UID:10001884-1750845600-1750885200@coolspeak.com
SUMMARY:2025 GEARUP SWV Student Summer Bridge Program/SWV Summer Camp Parent Programming
DESCRIPTION:
URL:https://coolspeak.com/event/2025-gearup-swv-student-summer-bridge-program-swv-summer-camp-parent-programming/
LOCATION:Athens\, WV\, USA
CATEGORIES:Event
END:VEVENT
BEGIN:VEVENT
DTSTART;TZID=America/New_York:20250625T100000
DTEND;TZID=America/New_York:20250625T110000
DTSTAMP:20260421T215347
CREATED:20250610T172147Z
LAST-MODIFIED:20250625T145216Z
UID:10001896-1750845600-1750849200@coolspeak.com
SUMMARY:Appointment Us
DESCRIPTION:
URL:https://coolspeak.com/event/appointment-us/
CATEGORIES:Event
END:VEVENT
BEGIN:VEVENT
DTSTART;TZID=America/New_York:20250625T090000
DTEND;TZID=America/New_York:20250625T140000
DTSTAMP:20260421T215347
CREATED:20250519T130216Z
LAST-MODIFIED:20250625T173706Z
UID:10001843-1750842000-1750860000@coolspeak.com
SUMMARY:2025 SLiCK YUMA Five Day Summer Camp.
DESCRIPTION:Speaker: \n\nCustomized CoolProgram\n\n\nEvent Title: \n\n2025 SLiCK YUMA Five Day Summer Camp.\n\n\nClient Program/Organization: \n\nEducational Achievement Services\, Inc.\n\n\nEvent Description: \n\nCoolSpeak will provide a Five Day Summer Camp.\n\n\nTheme: \n\nSoul\, Leadership\, Identity\, Culture\, Knowledge\n\n\nStart Date: \n\n2025-06-23\n\n\nEnd Date:\n\n 2025-06-27\n\n\nStart Time:\n\n 9:00 AM\n\n\nEnd Time: \n\n2:00 PM\n\n\nCity/State: \n\nYUMA\, AZ\n\n\nAudience: \n\nHigh School\n\n\nNumber attending: \n\n100
URL:https://coolspeak.com/event/2025-slick-yuma-five-day-summer-camp-8/
CATEGORIES:Event
END:VEVENT
BEGIN:VEVENT
DTSTART;TZID=America/New_York:20250625T083000
DTEND;TZID=America/New_York:20250625T153000
DTSTAMP:20260421T215347
CREATED:20250530T233732Z
LAST-MODIFIED:20250625T192141Z
UID:10001861-1750840200-1750865400@coolspeak.com
SUMMARY:2025 Slick Yuma
DESCRIPTION:
URL:https://coolspeak.com/event/2025-slick-yuma-3/
LOCATION:Yuma\, AZ\, USA
CATEGORIES:Event
END:VEVENT
BEGIN:VEVENT
DTSTART;TZID=America/New_York:20250625T080000
DTEND;TZID=America/New_York:20250625T210000
DTSTAMP:20260421T215347
CREATED:20250507T203447Z
LAST-MODIFIED:20250626T005140Z
UID:10001819-1750838400-1750885200@coolspeak.com
SUMMARY:GEARUP SWV Student Summer Bridge Program
DESCRIPTION:Below are the event details \n\nSpeaker: Customized CoolProgram\nEvent Title: GEARUP SWV Student Summer Bridge Program\nClient Program/Organization: Concord University\nEvent Description: CoolSpeak will provide programming for a student retreat.\nTheme: GEAR UP/Leadership\nStart Date: 2025-06-25\nEnd Date: 2025-06-28\nStart Time: 8:00 AM\nEnd Time: 9:00 PM\nCity/State: Boone\, NC\nAudience: High School\nNumber attending: 100
URL:https://coolspeak.com/event/gearup-swv-student-summer-bridge-program/
CATEGORIES:Event
END:VEVENT
BEGIN:VEVENT
DTSTART;TZID=America/New_York:20250624T130000
DTEND;TZID=America/New_York:20250624T210000
DTSTAMP:20260421T215347
CREATED:20250603T193658Z
LAST-MODIFIED:20250625T005139Z
UID:10001874-1750770000-1750798800@coolspeak.com
SUMMARY:Concord University Upward Bound Summer Academic Session
DESCRIPTION:
URL:https://coolspeak.com/event/concord-university-upward-bound-summer-academic-session-2/
LOCATION:Athens\, WV\, USA
CATEGORIES:Event
END:VEVENT
BEGIN:VEVENT
DTSTART;TZID=America/New_York:20250624T130000
DTEND;TZID=America/New_York:20250624T210000
DTSTAMP:20260421T215347
CREATED:20250402T195834Z
LAST-MODIFIED:20250625T005139Z
UID:10001751-1750770000-1750798800@coolspeak.com
SUMMARY:2025 Concord University Upward Bound Summer Academic Session
DESCRIPTION:Below are the event details: \n\nSpeaker: \n\nCustomized CoolProgram\n\n\nEvent Title: \n\n2025 Concord University Upward Bound Summer Academic Session\n\n\nClient Program/Organization: \n\nConcord University\n\n\nEvent Description: \n\nMJ Bridges will provide Financial Literacy Programming and Team Building Activities for Upward Bound High School Students.\n\n\nTheme: \n\nFinancial Literacy/Team Building/Upward Bound\n\n\nStart Date: \n\n2025-06-23\n\n\nEnd Date: \n\n2025-06-24\n\n\nStart Time: \n\n1:00 PM\n\n\nEnd Time: \n\n9:00 PM\n\n\nCity/State: \n\nAthens\, WV\n\n\nAudience: \n\nHigh School\n\n\nNumber attending: \n\n66
URL:https://coolspeak.com/event/2025-concord-university-upward-bound-summer-academic-session-2/
CATEGORIES:Event
END:VEVENT
BEGIN:VEVENT
DTSTART;TZID=America/New_York:20250624T090000
DTEND;TZID=America/New_York:20250624T140000
DTSTAMP:20260421T215347
CREATED:20250519T130216Z
LAST-MODIFIED:20250624T173641Z
UID:10001842-1750755600-1750773600@coolspeak.com
SUMMARY:2025 SLiCK YUMA Five Day Summer Camp.
DESCRIPTION:Please contact the client to work out any necessary details for the event.  Let us know if you have any problems making contact. \nBelow are the event details: \n\nSpeaker: \n\nCustomized CoolProgram\n\n\nEvent Title: \n\n2025 SLiCK YUMA Five Day Summer Camp.\n\n\nClient Program/Organization: \n\nEducational Achievement Services\, Inc.\n\n\nEvent Description: \n\nCoolSpeak will provide a Five Day Summer Camp.\n\n\nTheme: \n\nSoul\, Leadership\, Identity\, Culture\, Knowledge\n\n\nStart Date: \n\n2025-06-23\n\n\nEnd Date:\n\n 2025-06-27\n\n\nStart Time:\n\n 9:00 AM\n\n\nEnd Time: \n\n2:00 PM\n\n\nCity/State: \n\nYUMA\, AZ\n\n\nAudience: \n\nHigh School\n\n\nNumber attending: \n\n100
URL:https://coolspeak.com/event/2025-slick-yuma-five-day-summer-camp-7/
CATEGORIES:Event
END:VEVENT
BEGIN:VEVENT
DTSTART;TZID=America/New_York:20250624T090000
DTEND;TZID=America/New_York:20250624T100000
DTSTAMP:20260421T215347
CREATED:20250402T195834Z
LAST-MODIFIED:20250624T135205Z
UID:10001750-1750755600-1750759200@coolspeak.com
SUMMARY:97th Annual Virginia Middle and High School Principals Conference & Exposition.
DESCRIPTION:Below are the event details: \n\nSpeaker: \n\nCarlos Ojeda Jr.\n\n\nEvent Title: \n\n97th Annual Virginia Middle and High School Principals Conference & Exposition.\n\n\nClient Program/Organization: \n\nVirginia Association of Secondary School Principals\n\n\nEvent Description: \n\nCarlos Ojeda Jr. will provide a Keynote Presentation for Middle and High School Principals and Assistant Principals.\n\n\nTheme: \n\nEducation/Leadership.\n\n\nStart Date: \n\n2025-06-24\n\n\nEnd Date: \n\n2025-06-24\n\n\nStart Time: \n\n9:00 AM\n\n\nEnd Time:\n\n 10:00 AM\n\n\nCity/State:\n\n Portsmouth\, VA\n\n\nAudience: \n\nProfessional\n\n\nNumber attending: \n\n400
URL:https://coolspeak.com/event/97th-annual-virginia-middle-and-high-school-principals-conference-exposition/
CATEGORIES:Event
END:VEVENT
BEGIN:VEVENT
DTSTART;TZID=America/New_York:20250624T083000
DTEND;TZID=America/New_York:20250624T153000
DTSTAMP:20260421T215347
CREATED:20250530T233732Z
LAST-MODIFIED:20250624T192201Z
UID:10001860-1750753800-1750779000@coolspeak.com
SUMMARY:2025 Slick Yuma
DESCRIPTION:
URL:https://coolspeak.com/event/2025-slick-yuma-2/
LOCATION:Yuma\, AZ\, USA
CATEGORIES:Event
END:VEVENT
BEGIN:VEVENT
DTSTART;TZID=America/New_York:20250624T080000
DTEND;TZID=America/New_York:20250624T200000
DTSTAMP:20260421T215347
CREATED:20250606T065153Z
LAST-MODIFIED:20250624T235145Z
UID:10001883-1750752000-1750795200@coolspeak.com
SUMMARY:2025 Tennessee Tech GEARUP Summer Camp
DESCRIPTION:
URL:https://coolspeak.com/event/2025-tennessee-tech-gearup-summer-camp-2/
LOCATION:Cookeville\, TN\, USA
CATEGORIES:Event
END:VEVENT
BEGIN:VEVENT
DTSTART;TZID=America/New_York:20250623T130000
DTEND;TZID=America/New_York:20250623T210000
DTSTAMP:20260421T215347
CREATED:20250603T193657Z
LAST-MODIFIED:20250624T005140Z
UID:10001873-1750683600-1750712400@coolspeak.com
SUMMARY:Concord University Upward Bound Summer Academic Session
DESCRIPTION:
URL:https://coolspeak.com/event/concord-university-upward-bound-summer-academic-session/
LOCATION:Athens\, WV\, USA
CATEGORIES:Event
END:VEVENT
END:VCALENDAR