BEGIN:VCALENDAR
VERSION:2.0
PRODID:-//CoolSpeak - ECPv6.15.18//NONSGML v1.0//EN
CALSCALE:GREGORIAN
METHOD:PUBLISH
X-ORIGINAL-URL:https://coolspeak.com
X-WR-CALDESC:Events for CoolSpeak
REFRESH-INTERVAL;VALUE=DURATION:PT1H
X-Robots-Tag:noindex
X-PUBLISHED-TTL:PT1H
BEGIN:VTIMEZONE
TZID:America/New_York
BEGIN:DAYLIGHT
TZOFFSETFROM:-0500
TZOFFSETTO:-0400
TZNAME:EDT
DTSTART:20210314T070000
END:DAYLIGHT
BEGIN:STANDARD
TZOFFSETFROM:-0400
TZOFFSETTO:-0500
TZNAME:EST
DTSTART:20211107T060000
END:STANDARD
BEGIN:DAYLIGHT
TZOFFSETFROM:-0500
TZOFFSETTO:-0400
TZNAME:EDT
DTSTART:20220313T070000
END:DAYLIGHT
BEGIN:STANDARD
TZOFFSETFROM:-0400
TZOFFSETTO:-0500
TZNAME:EST
DTSTART:20221106T060000
END:STANDARD
BEGIN:DAYLIGHT
TZOFFSETFROM:-0500
TZOFFSETTO:-0400
TZNAME:EDT
DTSTART:20230312T070000
END:DAYLIGHT
BEGIN:STANDARD
TZOFFSETFROM:-0400
TZOFFSETTO:-0500
TZNAME:EST
DTSTART:20231105T060000
END:STANDARD
END:VTIMEZONE
BEGIN:VEVENT
DTSTART;TZID=America/New_York:20220912T100000
DTEND;TZID=America/New_York:20220912T150000
DTSTAMP:20260425T222757
CREATED:20220726T131332Z
LAST-MODIFIED:20220726T131332Z
UID:10000593-1662976800-1662994800@coolspeak.com
SUMMARY:2022 WVCC CAMP In Person Programming with Juan Cangas
DESCRIPTION:Title:\n2022 WVCC CAMP Motivational Wednesdays\nDescription:\nMotivating our Camp Scholars\nTheme:\nCompleting our college education\nDate:\n9/12/2022\nTime:\n10:00 AM –  3:00 PM\nLocation:\nWenatchee\, WA
URL:https://coolspeak.com/event/2022-wvcc-camp-in-person-programming-with-juan-cangas/
END:VEVENT
BEGIN:VEVENT
DTSTART;TZID=America/New_York:20220914T100000
DTEND;TZID=America/New_York:20220914T103000
DTSTAMP:20260425T222757
CREATED:20220804T125836Z
LAST-MODIFIED:20250421T123212Z
UID:10000601-1663149600-1663151400@coolspeak.com
SUMMARY:2022 Indiana Latino Institute Education Summits
DESCRIPTION:Title:\n2022 Indiana Latino Institute Education Summits \nDescription:\nCarlos Ojeda Jr will tour South Bend \nTheme:\nYouth Empowerment and Leadership \nDate:\n9/14/2022 \nTime:\n10:00 AM – 10:30 AM \nLocation:\nOld National Event Plaza\,715 Locust St.\, Evansville\, IN 47708
URL:https://coolspeak.com/event/2022-indiana-latino-institute-education-summits-3/
END:VEVENT
BEGIN:VEVENT
DTSTART;TZID=America/New_York:20220915T120000
DTEND;TZID=America/New_York:20220915T170000
DTSTAMP:20260425T222757
CREATED:20220830T085954Z
LAST-MODIFIED:20250421T123708Z
UID:10000623-1663243200-1663261200@coolspeak.com
SUMMARY:Adams State University Mentoring Coalition
DESCRIPTION:Title:\nAdams State University Mentoring Coalition \nDescription:\nCoolSpeak Program w/Juan Cangas\, Natasha Carrizosa and Lamarr Womble \nTheme:\nASU CoolSpeak Program \nDate:\n9/15/22 \nTime:\n9:00 AM – 2:00 PM \nLocation:\nAlamosa\, CO
URL:https://coolspeak.com/event/adams-state-university-mentoring-coalition/
END:VEVENT
BEGIN:VEVENT
DTSTART;TZID=America/New_York:20220917T120000
DTEND;TZID=America/New_York:20220917T130000
DTSTAMP:20260425T222757
CREATED:20220803T154345Z
LAST-MODIFIED:20250421T123839Z
UID:10000595-1663416000-1663419600@coolspeak.com
SUMMARY:IMEP Empoderamiento de Padres 2023/ IMEP Parent Empowerment 2023
DESCRIPTION:Title:\nIMEP Empoderamiento de Padres 2023/ IMEP Parent Empowerment 2023\nDescription:\nJuan Cangas will provide a keynote presentation to inspire Migrant Parents.\nTheme:\nProviding/ Inspiring migrant parents with tools and resources to support their children’s education and themselves.\nDate:\n09/17/2022\nTime:\n09:00 AM – 10:00 AM\nLocation:\nCrowne Plaza-Indianapolis\, IN
URL:https://coolspeak.com/event/imep-empoderamiento-de-padres-2023-imep-parent-empowerment-2023/
END:VEVENT
BEGIN:VEVENT
DTSTART;TZID=America/New_York:20220926T100000
DTEND;TZID=America/New_York:20220926T150000
DTSTAMP:20260425T222757
CREATED:20220804T125836Z
LAST-MODIFIED:20250421T123905Z
UID:10000602-1664186400-1664204400@coolspeak.com
SUMMARY:2022 South San Antonio ISD GEAR UP Presentations
DESCRIPTION:Title:\n2022 South San Antonio ISD GEAR UP Presentations\nDescription:\nGEAR UP Motivational Presentations with Juan Cangas\nTheme:\nGEAR UP Week\nDate:\n9/26/22\nTime:\n9:00 AM – 2:00 PM\nLocation:\nSouth San Antonio High School
URL:https://coolspeak.com/event/2022-south-san-antonio-isd-gear-up-presentations/
END:VEVENT
BEGIN:VEVENT
DTSTART;TZID=America/New_York:20220926T100000
DTEND;TZID=America/New_York:20220926T150000
DTSTAMP:20260425T222757
CREATED:20220830T085954Z
LAST-MODIFIED:20250421T123926Z
UID:10000624-1664186400-1664204400@coolspeak.com
SUMMARY:Southside ISD GEAR UP Week
DESCRIPTION:Title:\nSouthside ISD GEAR UP Week \nDescription:\nLilyan Prado – Carrillo will provide a keynote presentation during GEAR UP Week \nTheme:\nGEAR UP Week \nDate:\n9/26/22 \nTime:\n9:00 AM – 2:00 PM \nLocation:\nSouthside High School
URL:https://coolspeak.com/event/southside-isd-gear-up-week-2/
END:VEVENT
BEGIN:VEVENT
DTSTART;TZID=America/New_York:20220926T113000
DTEND;TZID=America/New_York:20220926T173000
DTSTAMP:20260425T222757
CREATED:20220817T210017Z
LAST-MODIFIED:20250421T124141Z
UID:10000611-1664191800-1664213400@coolspeak.com
SUMMARY:2022 Wonderful College Prep Academy National GEAR UP Week Middle School Tour
DESCRIPTION:Title:\nWonderful College Prep Academy National GEAR UP Week School Tour\nDescription:\nChris Collins will providing keynote speeches at Washington Academic\, Reef-Sunset\, Wonderful Prep Academy Lost Hills and Wonderful Prep Academy Delano on 9/26 and 9/27/22\nTheme:\nNational GEAR UP Week\nDate:\n9/26 – 9/27\nTime:\n8:30 AM – 2:30 PM PST\nLocation:\nAvenal\, CA
URL:https://coolspeak.com/event/2022-wonderful-college-prep-academy-national-gear-up-week-middle-school-tour/
END:VEVENT
BEGIN:VEVENT
DTSTART;TZID=America/New_York:20220926T120000
DTEND;TZID=America/New_York:20220926T133000
DTSTAMP:20260425T222757
CREATED:20220726T131332Z
LAST-MODIFIED:20250421T124336Z
UID:10000594-1664193600-1664199000@coolspeak.com
SUMMARY:Center for Schools and Communities with Joaquin Zihuatanejo
DESCRIPTION:Title:\nCreating Belonging in Schools and Communities.\nDescription:\nJoaquin Zihuatanejo will provide a Spoken Word Presentation\nTheme:\nInclusion and Belonging\nDate:\n09/26/2022\nTime:\n12:00 PM – 1:30 PM\nLocation:\nPocono Manor
URL:https://coolspeak.com/event/center-for-schools-and-communities-with-joaquin-zihuatanejo/
END:VEVENT
BEGIN:VEVENT
DTSTART;TZID=America/New_York:20220927T093000
DTEND;TZID=America/New_York:20220927T151500
DTSTAMP:20260425T222757
CREATED:20220718T161302Z
LAST-MODIFIED:20250421T124408Z
UID:10000592-1664271000-1664291700@coolspeak.com
SUMMARY:2022 Fort Wayne GEAR UP Your Voice is Your Power School Tour with Carlos Ojeda Jr
DESCRIPTION:Title: \n2022 Fort Wayne GEAR UP Your Voice is Your Power School Tour \nDescription:\nMotivational Presentations provided by Carlos Ojeda Jr \nTheme:\nYouth Empowerment \nDate: \n9/27 \nTime of Arrival:\n9:30 AM \nTime of Rally:\n10:00 AM – 11:15 AM \nLocation:\nNorthrop High School \nTime of Arrival:\n1:30 AM \nTime of Rally:\n2:00 PM – 3:15 PM \nLocation:\nSnider High Schools
URL:https://coolspeak.com/event/2022-fort-wayne-gear-up-your-voice-is-your-power-school-tour-with-carlos-ojeda-jr-4/
LOCATION:Snider High Schools
END:VEVENT
BEGIN:VEVENT
DTSTART;TZID=America/New_York:20220927T113000
DTEND;TZID=America/New_York:20220927T123000
DTSTAMP:20260425T222757
CREATED:20220830T101315Z
LAST-MODIFIED:20250421T124606Z
UID:10000625-1664278200-1664281800@coolspeak.com
SUMMARY:Metropolitan Community College with Lilyan Prado-Carrillo
DESCRIPTION:Title:\nLECTURE: On the Ladder of Success–Reach Back as You Reach Up \nDescription:\nLilyan Prado Carrillo\, ESL/bilingual specialist\, Speaker\, Dreamer\, and Success Guide\, will provide a Virtual Presentation. \nTheme:\nOvercoming Adversity \nDate:\n9/27/2022 \nTime:\n10:30-11:30 AM \nLocation:\nVirtual
URL:https://coolspeak.com/event/metropolitan-community-college-with-lilyan-prado-carrillo/
LOCATION:https://coolspeak.com/event/metropolitan-community-college-with-lilyan-prado-carrillo/
END:VEVENT
BEGIN:VEVENT
DTSTART;TZID=America/New_York:20220927T113000
DTEND;TZID=America/New_York:20220927T173000
DTSTAMP:20260425T222757
CREATED:20220817T210018Z
LAST-MODIFIED:20250421T124126Z
UID:10000612-1664278200-1664299800@coolspeak.com
SUMMARY:2022 Wonderful College Prep Academy National GEAR UP Week Middle School Tour
DESCRIPTION:Title:\nWonderful College Prep Academy National GEAR UP Week School Tour\nDescription:\nChris Collins will providing keynote speeches at Washington Academic\, Reef-Sunset\, Wonderful Prep Academy Lost Hills and Wonderful Prep Academy Delano on 9/26 and 9/27/22\nTheme:\nNational GEAR UP Week\nDate:\n9/26 – 9/27\nTime:\n8:30 AM – 2:30 PM PST\nLocation:\nAvenal\, CA
URL:https://coolspeak.com/event/2022-wonderful-college-prep-academy-national-gear-up-week-middle-school-tour-2/
LOCATION:Avenal\, CA\, Avenal\, CA\, United States
END:VEVENT
BEGIN:VEVENT
DTSTART;TZID=America/New_York:20220927T170000
DTEND;TZID=America/New_York:20220927T210000
DTSTAMP:20260425T222757
CREATED:20220803T154346Z
LAST-MODIFIED:20220803T154346Z
UID:10000597-1664298000-1664312400@coolspeak.com
SUMMARY:2022 Fort Wayne GEAR UP Your Voice is Your Power Parent Session with Carlos Ojeda Jr.
DESCRIPTION:Title:\n2022 Fort Wayne GEAR UP Your Voice is Your Power Parent Session with Carlos Ojeda Jr.\nDescription:\nMotivational Parent Presentation provided by Carlos Ojeda Jr.\nTheme:\nParent Involvement.\nDate:\n09/27/2022\nTime:\n5:00 PM – 9:00 PM EST\nLocation:\nFort Wayne Community School (FWCS) Family & Community Engagement (FACE) Center
URL:https://coolspeak.com/event/2022-fort-wayne-gear-up-your-voice-is-your-power-parent-session-with-carlos-ojeda-jr/
END:VEVENT
BEGIN:VEVENT
DTSTART;TZID=America/New_York:20220928T093000
DTEND;TZID=America/New_York:20220928T193000
DTSTAMP:20260425T222757
CREATED:20220718T115831Z
LAST-MODIFIED:20250421T124507Z
UID:10000586-1664357400-1664393400@coolspeak.com
SUMMARY:2022 Fort Wayne GEAR UP Your Voice is Your Power School Tour with Carlos Ojeda Jr
DESCRIPTION:Title: \n2022 Fort Wayne GEAR UP Your Voice is Your Power School Tour \nDescription:\nMotivational Presentations provided by Carlos Ojeda Jr \nTheme:\nYouth Empowerment \nDate: \n9/28 \nTime of Arrival:\n9:30 AM \nTime of Rally:\n10:00 AM – 11:15 AM \nLocation:\nNorth Side High School \nTime of Arrival:\n1:30 AM \nTime of Rally:\n2:00 PM – 3:15  PM \nLocation:\nSouth Side High School \nTime of Arrival:\n5:30 PM \nTime of Rally:\n6:00 PM – 7:30  PM \nLocation:\nFACE – Parent Event and Dinner
URL:https://coolspeak.com/event/2022-fort-wayne-gear-up-your-voice-is-your-power-school-tour-with-carlos-ojeda-jr-2/
LOCATION:North Side High School
END:VEVENT
BEGIN:VEVENT
DTSTART;TZID=America/New_York:20220928T103000
DTEND;TZID=America/New_York:20220928T113000
DTSTAMP:20260425T222757
CREATED:20220804T125836Z
LAST-MODIFIED:20220804T125836Z
UID:10000603-1664361000-1664364600@coolspeak.com
SUMMARY:Thomas Harrison Middle School National GEAR UP week
DESCRIPTION:Title:\nThomas Harrison Middle School National GEAR UP week\nDescription:\nGEAR UP week\nTheme:\nInspiring our students to excel\nDate:\n9/28/2022\nTime:\n10:30 AM – 11:30 AM\nLocation:\nThomas Harrison Middle School\, Harrisonburg\, VA
URL:https://coolspeak.com/event/thomas-harrison-middle-school-national-gear-up-week/
END:VEVENT
BEGIN:VEVENT
DTSTART;TZID=America/New_York:20220928T180000
DTEND;TZID=America/New_York:20220928T193000
DTSTAMP:20260425T222757
CREATED:20220708T151408Z
LAST-MODIFIED:20220708T151408Z
UID:10000582-1664388000-1664393400@coolspeak.com
SUMMARY:MARICOPA COMMUNITY COLLEGES VIRTUAL PRESENTATION
DESCRIPTION:Title:\nMARICOPA COMMUNITY COLLEGES VIRTUAL PRESENTATION\nDescription:\nVirtual Presentation by Ernesto Mejia\nTheme:\nMotivation\nDate:\n9/28/2022\nTime:\n06:00 PM – 7:30 PM\nLocation:\nVirtual
URL:https://coolspeak.com/event/maricopa-community-colleges-virtual-presentation-2/
END:VEVENT
BEGIN:VEVENT
DTSTART;TZID=America/New_York:20220929T080000
DTEND;TZID=America/New_York:20220930T140000
DTSTAMP:20260425T222757
CREATED:20220830T101315Z
LAST-MODIFIED:20220830T101315Z
UID:10000626-1664438400-1664546400@coolspeak.com
SUMMARY:2022 Thomas University GEAR UP Week with Chris Collins.
DESCRIPTION:Title: 2022 Thomas University GEAR UP Week. \nDescription:Chris Collins will be providing a speaking tour. \nTheme:Youth Empowerment and Leadership. \nDate: 9/29/22-9/30/22 \nTime:8:00 AM – 3:00 PM \nLocation:Thomas University
URL:https://coolspeak.com/event/2022-thomas-university-gear-up-week-with-chris-collins/
END:VEVENT
BEGIN:VEVENT
DTSTART;TZID=America/New_York:20220929T093000
DTEND;TZID=America/New_York:20220929T111500
DTSTAMP:20260425T222757
CREATED:20220718T115831Z
LAST-MODIFIED:20250421T124419Z
UID:10000587-1664443800-1664450100@coolspeak.com
SUMMARY:2022 Fort Wayne GEAR UP Your Voice is Your Power School Tour with Carlos Ojeda Jr
DESCRIPTION:Title: \n2022 Fort Wayne GEAR UP Your Voice is Your Power School Tour \nDescription:\nMotivational Presentations provided by Carlos Ojeda Jr \nTheme:\nYouth Empowerment \nDate: \n9/29 \nArrival Time:\n9:30 AM\n\n\nRally Time:\n10:00 AM – 11:15 AM\n\n\nLocation:\nWayne High School
URL:https://coolspeak.com/event/2022-fort-wayne-gear-up-your-voice-is-your-power-school-tour-with-carlos-ojeda-jr-3/
LOCATION:Wayne High School
END:VEVENT
BEGIN:VEVENT
DTSTART;TZID=America/New_York:20220930T140000
DTEND;TZID=America/New_York:20220930T160000
DTSTAMP:20260425T222757
CREATED:20220819T141335Z
LAST-MODIFIED:20220819T141335Z
UID:10000616-1664546400-1664553600@coolspeak.com
SUMMARY:AMA Collegiate Summit
DESCRIPTION:Title:\nAMA Collegiate Summit\nDescription:\nLamar Womble will provide a virtual keynote presentation and virtual workshop.\nTheme:\nPassion and Motivation\nDate:\n09/30/2022\nTime:\n1:00 PM – 3:00 PM CST\nLocation:\nVirtual
URL:https://coolspeak.com/event/ama-collegiate-summit/
END:VEVENT
BEGIN:VEVENT
DTSTART;TZID=America/New_York:20221001T090000
DTEND;TZID=America/New_York:20221001T153000
DTSTAMP:20260425T222757
CREATED:20220825T181641Z
LAST-MODIFIED:20220825T181641Z
UID:10000619-1664614800-1664638200@coolspeak.com
SUMMARY:2022 Abraham Baldwin Agricultural College
DESCRIPTION:Title:\n2022 Abraham Baldwin Agricultural College\nDescription:\nErnesto Mejia will provide a 6-hour program for HEP students.\nTheme:\nHEP\nDate:\n10/1/2022\nTime:\n9:00 AM – 3:30 PM EST\nLocation:\nTifton\, GA
URL:https://coolspeak.com/event/2022-abraham-baldwin-agricultural-college/
END:VEVENT
BEGIN:VEVENT
DTSTART;TZID=America/New_York:20221001T150000
DTEND;TZID=America/New_York:20221001T160000
DTSTAMP:20260425T222757
CREATED:20220825T181641Z
LAST-MODIFIED:20220825T181641Z
UID:10000618-1664636400-1664640000@coolspeak.com
SUMMARY:Breaking Down Barriers
DESCRIPTION:Title:\nBreaking Down Barriers\nDescription:\nZach Gowen will be presenting his speech at Northside Alternative Middle School\nTheme:\nDrug Use\, Overcoming Adversity and Motivation\nDate:\n2/10/2023\nTime:\n1:30 PM – 3:30 PM\nLocation:\nSan Antonio\, TX
URL:https://coolspeak.com/event/breaking-down-barriers/
END:VEVENT
BEGIN:VEVENT
DTSTART;TZID=America/New_York:20221011T100000
DTEND;TZID=America/New_York:20221011T120000
DTSTAMP:20260425T222757
CREATED:20220809T142913Z
LAST-MODIFIED:20220809T142913Z
UID:10000607-1665482400-1665489600@coolspeak.com
SUMMARY:2022 New Jersey Association of Student Councils Fall Conference
DESCRIPTION:Title:\n2022 NJASC Fall Conference\nDescription:\nChris Collins will provide a Keynote and Workshop Presentations for New Jersey Student Council Convention.\nTheme:\nStudent Council\nDate:\n10/11/2022\nTime:\n10:00 AM – 12:00 PM\nLocation:\nEwing Township\, NJ
URL:https://coolspeak.com/event/2022-new-jersey-association-of-student-councils-fall-conference/
END:VEVENT
BEGIN:VEVENT
DTSTART;TZID=America/New_York:20221011T150000
DTEND;TZID=America/New_York:20221011T160000
DTSTAMP:20260425T222757
CREATED:20220830T101316Z
LAST-MODIFIED:20220830T101316Z
UID:10000627-1665500400-1665504000@coolspeak.com
SUMMARY:Unidos: Inclusivity For a Stronger Community-Blue Cross and Blue Shield of Texas
DESCRIPTION:Title: Unidos: Inclusivity For a Stronger Community \nDescription:Joaquin Zihuatanejo will provide a Keynote Speech for Hispanic Heritage Month. \nTheme:Community \nDate: 10/11/22 \nTime:12:00 PM – 1:00 PM MST \nLocation:Richardson\, TX
URL:https://coolspeak.com/event/unidos-inclusivity-for-a-stronger-community-blue-cross-and-blue-shield-of-texas/
END:VEVENT
BEGIN:VEVENT
DTSTART;TZID=America/New_York:20221012T080000
DTEND;TZID=America/New_York:20221012T140000
DTSTAMP:20260425T222757
CREATED:20220809T142913Z
LAST-MODIFIED:20220809T142913Z
UID:10000608-1665561600-1665583200@coolspeak.com
SUMMARY:2022 Somers High School No Place for Hate Program
DESCRIPTION:Title:\n2022 Somers High School No Place for Hate Program\nDescription:\nChris Collins will provide a keynote presentation and workshop.\nTheme:\nSpirit Week for a Unifying Theme\nDate:\n10/12/2022\nTime:\n8:00 AM – 2:00 PM\nLocation:\nLincolndale\, NY
URL:https://coolspeak.com/event/2022-somers-high-school-no-place-for-hate-program/
END:VEVENT
BEGIN:VEVENT
DTSTART;TZID=America/New_York:20221013T160000
DTEND;TZID=America/New_York:20221013T190000
DTSTAMP:20260425T222757
CREATED:20220809T131612Z
LAST-MODIFIED:20220809T131612Z
UID:10000604-1665676800-1665687600@coolspeak.com
SUMMARY:Webster Bank Summit
DESCRIPTION:Title:\nWebster Bank Summit\nDescription:\nJoaquin Zihuatanejo will provide a keynote presentation.\nTheme:\nTeam Building\nDate:\n10/13/2022\nTime:\n4:00 PM – 7:00 PM\nLocation:\nStamford\, CT
URL:https://coolspeak.com/event/webster-bank-summit/
END:VEVENT
BEGIN:VEVENT
DTSTART;TZID=America/New_York:20221015T090000
DTEND;TZID=America/New_York:20221015T153000
DTSTAMP:20260425T222757
CREATED:20220411T211310Z
LAST-MODIFIED:20220411T211310Z
UID:10000332-1665824400-1665847800@coolspeak.com
SUMMARY:2022 Abraham Baldwin Agricultural College - HEP Retreat
DESCRIPTION:Title:2022 Abraham Baldwin Agricultural College – HEP Retreat \nDescription:Ernesto Mejia will provide a 6-hour program for HEP students. \nTheme:HEP \nDate:10/15/2022 \nTime:9:00am – 3:30pm EST \nLocation:Tifton\, GA
URL:https://coolspeak.com/event/2022-abraham-baldwin-agricultural-college-hep-retreat-2-2/
END:VEVENT
BEGIN:VEVENT
DTSTART;TZID=America/New_York:20221015T090000
DTEND;TZID=America/New_York:20221015T153000
DTSTAMP:20260425T222757
CREATED:20220411T211310Z
LAST-MODIFIED:20220411T211310Z
UID:10000331-1665824400-1665847800@coolspeak.com
SUMMARY:2022 Abraham Baldwin Agricultural College - HEP Retreat
DESCRIPTION:Title:2022 Abraham Baldwin Agricultural College – HEP Retreat \nDescription:Ernesto Mejia will provide a 6-hour program for HEP students. \nTheme:HEP \nDate:10/15/2022 \nTime:9:00am – 3:30pm EST \nLocation:Tifton\, GA
URL:https://coolspeak.com/event/2022-abraham-baldwin-agricultural-college-hep-retreat-2/
END:VEVENT
BEGIN:VEVENT
DTSTART;TZID=America/New_York:20221020T120000
DTEND;TZID=America/New_York:20221020T180000
DTSTAMP:20260425T222757
CREATED:20220818T165819Z
LAST-MODIFIED:20220818T165819Z
UID:10000613-1666267200-1666288800@coolspeak.com
SUMMARY:VSU CAMP
DESCRIPTION:Title:\nVSU CAMP\nDescription:\nValdosta State University College Assistance Migrant Program\nTheme:\nEngage students\, awareness of first gen issues\, increase cultural competence\, and interact with our students who can be timid about the issues.\nDate:\n10/20-10/22\nTime:\n10/20-TBD\n10/21- 3 PM – 8 PM\n10/22- 10AM – 4PM\nLocation:\nValdosta\, GA
URL:https://coolspeak.com/event/vsu-camp/
END:VEVENT
BEGIN:VEVENT
DTSTART;TZID=America/New_York:20221020T193000
DTEND;TZID=America/New_York:20221020T203000
DTSTAMP:20260425T222757
CREATED:20220519T232933Z
LAST-MODIFIED:20220519T232933Z
UID:10000509-1666294200-1666297800@coolspeak.com
SUMMARY:Friends of the Dallas Public Library LOVE LOCAL
DESCRIPTION:Title: LOVE LOCAL Theme \nDescription:Honoring Library Staff and Administrators.  \nTheme:Motivational and Overcoming Adversity. \nDate:1020/2022 \nTime:6:30pm – 7:30pm CST \nLocation:Dallas\, TX
URL:https://coolspeak.com/event/friends-of-the-dallas-public-library-love-local/
END:VEVENT
BEGIN:VEVENT
DTSTART;TZID=America/New_York:20221020T193000
DTEND;TZID=America/New_York:20221020T203000
DTSTAMP:20260425T222757
CREATED:20220519T232933Z
LAST-MODIFIED:20220519T232933Z
UID:10000510-1666294200-1666297800@coolspeak.com
SUMMARY:Friends of the Dallas Public Library LOVE LOCAL
DESCRIPTION:Title: LOVE LOCAL Theme \nDescription:Honoring Library Staff and Administrators.  \nTheme:Motivational and Overcoming Adversity. \nDate:1020/2022 \nTime:6:30pm – 7:30pm CST \nLocation:Dallas\, TX
URL:https://coolspeak.com/event/friends-of-the-dallas-public-library-love-local-2/
END:VEVENT
BEGIN:VEVENT
DTSTART;TZID=America/New_York:20221021T150000
DTEND;TZID=America/New_York:20221021T200000
DTSTAMP:20260425T222757
CREATED:20220818T165819Z
LAST-MODIFIED:20220818T165819Z
UID:10000614-1666364400-1666382400@coolspeak.com
SUMMARY:VSU CAMP
DESCRIPTION:Title:\nVSU CAMP\nDescription:\nValdosta State University College Assistance Migrant Program\nTheme:\nEngage students\, awareness of first gen issues\, increase cultural competence\, and interact with our students who can be timid about the issues.\nDate:\n10/20-10/22\nTime:\n10/20-TBD\n10/21- 3 PM – 8 PM\n10/22- 10AM – 4PM\nLocation:\nValdosta\, GA
URL:https://coolspeak.com/event/vsu-camp-2/
END:VEVENT
END:VCALENDAR