BEGIN:VCALENDAR
VERSION:2.0
PRODID:-//CoolSpeak - ECPv6.15.18//NONSGML v1.0//EN
CALSCALE:GREGORIAN
METHOD:PUBLISH
X-WR-CALNAME:CoolSpeak
X-ORIGINAL-URL:https://coolspeak.com
X-WR-CALDESC:Events for CoolSpeak
REFRESH-INTERVAL;VALUE=DURATION:PT1H
X-Robots-Tag:noindex
X-PUBLISHED-TTL:PT1H
BEGIN:VTIMEZONE
TZID:America/New_York
BEGIN:DAYLIGHT
TZOFFSETFROM:-0500
TZOFFSETTO:-0400
TZNAME:EDT
DTSTART:20210314T070000
END:DAYLIGHT
BEGIN:STANDARD
TZOFFSETFROM:-0400
TZOFFSETTO:-0500
TZNAME:EST
DTSTART:20211107T060000
END:STANDARD
BEGIN:DAYLIGHT
TZOFFSETFROM:-0500
TZOFFSETTO:-0400
TZNAME:EDT
DTSTART:20220313T070000
END:DAYLIGHT
BEGIN:STANDARD
TZOFFSETFROM:-0400
TZOFFSETTO:-0500
TZNAME:EST
DTSTART:20221106T060000
END:STANDARD
BEGIN:DAYLIGHT
TZOFFSETFROM:-0500
TZOFFSETTO:-0400
TZNAME:EDT
DTSTART:20230312T070000
END:DAYLIGHT
BEGIN:STANDARD
TZOFFSETFROM:-0400
TZOFFSETTO:-0500
TZNAME:EST
DTSTART:20231105T060000
END:STANDARD
END:VTIMEZONE
BEGIN:VEVENT
DTSTART;TZID=America/New_York:20220402T193000
DTEND;TZID=America/New_York:20220402T213000
DTSTAMP:20260423T162406
CREATED:20220302T140322Z
LAST-MODIFIED:20220302T140322Z
UID:10000275-1648927800-1648935000@coolspeak.com
SUMMARY:47TH Annual California Association for Bilingual Education (CABE) Conference.
DESCRIPTION:Title:47TH Annual California Association for Bilingual Education (CABE) Conference. \nDescription:Keynote Presentation provided by Natasha Carrizosa \nTheme:California Association for Bilingual Education \nDate:03/30/2022 – 04/02/2022 \nTime:4:30pm – 6:30pm PST \nLocation: Virtual
URL:https://coolspeak.com/event/47th-annual-california-association-for-bilingual-education-cabe-conference-4-2/
END:VEVENT
BEGIN:VEVENT
DTSTART;TZID=America/New_York:20220402T193000
DTEND;TZID=America/New_York:20220402T213000
DTSTAMP:20260423T162406
CREATED:20220302T140322Z
LAST-MODIFIED:20220302T140322Z
UID:10000258-1648927800-1648935000@coolspeak.com
SUMMARY:47TH Annual California Association for Bilingual Education (CABE) Conference.
DESCRIPTION:Title:47TH Annual California Association for Bilingual Education (CABE) Conference. \nDescription:Keynote Presentation provided by Natasha Carrizosa \nTheme:California Association for Bilingual Education \nDate:03/30/2022 – 04/02/2022 \nTime:4:30pm – 6:30pm PST \nLocation: Virtual
URL:https://coolspeak.com/event/47th-annual-california-association-for-bilingual-education-cabe-conference-4/
END:VEVENT
BEGIN:VEVENT
DTSTART;TZID=America/New_York:20220401T193000
DTEND;TZID=America/New_York:20220401T213000
DTSTAMP:20260423T162406
CREATED:20220302T140322Z
LAST-MODIFIED:20220302T140322Z
UID:10000257-1648841400-1648848600@coolspeak.com
SUMMARY:47TH Annual California Association for Bilingual Education (CABE) Conference.
DESCRIPTION:Title:47TH Annual California Association for Bilingual Education (CABE) Conference. \nDescription:Keynote Presentation provided by Natasha Carrizosa \nTheme:California Association for Bilingual Education \nDate:03/30/2022 – 04/02/2022 \nTime:4:30pm – 6:30pm PST \nLocation: Virtual
URL:https://coolspeak.com/event/47th-annual-california-association-for-bilingual-education-cabe-conference-3/
END:VEVENT
BEGIN:VEVENT
DTSTART;TZID=America/New_York:20220401T193000
DTEND;TZID=America/New_York:20220401T213000
DTSTAMP:20260423T162406
CREATED:20220302T140322Z
LAST-MODIFIED:20220302T140322Z
UID:10000267-1648841400-1648848600@coolspeak.com
SUMMARY:47TH Annual California Association for Bilingual Education (CABE) Conference.
DESCRIPTION:Title:47TH Annual California Association for Bilingual Education (CABE) Conference. \nDescription:Keynote Presentation provided by Natasha Carrizosa \nTheme:California Association for Bilingual Education \nDate:03/30/2022 – 04/02/2022 \nTime:4:30pm – 6:30pm PST \nLocation: Virtual
URL:https://coolspeak.com/event/47th-annual-california-association-for-bilingual-education-cabe-conference-3-2/
END:VEVENT
BEGIN:VEVENT
DTSTART;TZID=America/New_York:20220401T080000
DTEND;TZID=America/New_York:20220401T140000
DTSTAMP:20260423T162406
CREATED:20220315T011311Z
LAST-MODIFIED:20220315T011311Z
UID:10000304-1648800000-1648821600@coolspeak.com
SUMMARY:Willingboro High School
DESCRIPTION:Title:Reset Day \nDescription:Motivational Presentations provided by Lamarr Womble. \nTheme: Motivation for students to finish school year strong \nDate:04/01/2022 \nTime:8:00am – 2:00pm EST \nLocation:Willingboro\, NJ
URL:https://coolspeak.com/event/willingboro-high-school/
END:VEVENT
BEGIN:VEVENT
DTSTART;TZID=America/New_York:20220401T080000
DTEND;TZID=America/New_York:20220401T140000
DTSTAMP:20260423T162406
CREATED:20220315T011311Z
LAST-MODIFIED:20220315T011311Z
UID:10000305-1648800000-1648821600@coolspeak.com
SUMMARY:Willingboro High School
DESCRIPTION:Title:Reset Day \nDescription:Motivational Presentations provided by Lamarr Womble. \nTheme: Motivation for students to finish school year strong \nDate:04/01/2022 \nTime:8:00am – 2:00pm EST \nLocation:Willingboro\, NJ
URL:https://coolspeak.com/event/willingboro-high-school-2/
END:VEVENT
BEGIN:VEVENT
DTSTART;TZID=America/New_York:20220331T200000
DTEND;TZID=America/New_York:20220331T210000
DTSTAMP:20260423T162406
CREATED:20220302T140322Z
LAST-MODIFIED:20220302T140322Z
UID:10000255-1648756800-1648760400@coolspeak.com
SUMMARY:2022 Region 12 GEAR UP Keynote Presentation with Natasha Carrizosa.
DESCRIPTION:Title:2022 Region 12 GEAR UP Keynote Presentation with Natasha Carrizosa \nDescription:Keynote Performance on Self-Expression \nTheme: Writing and Self-Expression \nDate:02/15/2022 \nTime:7:00pm – 8:00pm CST \nLocation: Killeen\, TX
URL:https://coolspeak.com/event/2022-region-12-gear-up-keynote-presentation-with-natasha-carrizosa/
END:VEVENT
BEGIN:VEVENT
DTSTART;TZID=America/New_York:20220331T200000
DTEND;TZID=America/New_York:20220331T210000
DTSTAMP:20260423T162406
CREATED:20220302T140322Z
LAST-MODIFIED:20220302T140322Z
UID:10000273-1648756800-1648760400@coolspeak.com
SUMMARY:2022 Region 12 GEAR UP Keynote Presentation with Natasha Carrizosa.
DESCRIPTION:Title:2022 Region 12 GEAR UP Keynote Presentation with Natasha Carrizosa \nDescription:Keynote Performance on Self-Expression \nTheme: Writing and Self-Expression \nDate:02/15/2022 \nTime:7:00pm – 8:00pm CST \nLocation: Killeen\, TX
URL:https://coolspeak.com/event/2022-region-12-gear-up-keynote-presentation-with-natasha-carrizosa-2/
END:VEVENT
BEGIN:VEVENT
DTSTART;TZID=America/New_York:20220331T193000
DTEND;TZID=America/New_York:20220331T213000
DTSTAMP:20260423T162406
CREATED:20220302T140322Z
LAST-MODIFIED:20220302T140322Z
UID:10000256-1648755000-1648762200@coolspeak.com
SUMMARY:47TH Annual California Association for Bilingual Education (CABE) Conference.
DESCRIPTION:Title:47TH Annual California Association for Bilingual Education (CABE) Conference. \nDescription:Keynote Presentation provided by Natasha Carrizosa \nTheme:California Association for Bilingual Education \nDate:03/30/2022 – 04/02/2022 \nTime:4:30pm – 6:30pm PST \nLocation: Virtual
URL:https://coolspeak.com/event/47th-annual-california-association-for-bilingual-education-cabe-conference-2/
END:VEVENT
BEGIN:VEVENT
DTSTART;TZID=America/New_York:20220331T193000
DTEND;TZID=America/New_York:20220331T213000
DTSTAMP:20260423T162406
CREATED:20220302T140322Z
LAST-MODIFIED:20220302T140322Z
UID:10000274-1648755000-1648762200@coolspeak.com
SUMMARY:47TH Annual California Association for Bilingual Education (CABE) Conference.
DESCRIPTION:Title:47TH Annual California Association for Bilingual Education (CABE) Conference. \nDescription:Keynote Presentation provided by Natasha Carrizosa \nTheme:California Association for Bilingual Education \nDate:03/30/2022 – 04/02/2022 \nTime:4:30pm – 6:30pm PST \nLocation: Virtual
URL:https://coolspeak.com/event/47th-annual-california-association-for-bilingual-education-cabe-conference-2-2/
END:VEVENT
BEGIN:VEVENT
DTSTART;TZID=America/New_York:20220330T193000
DTEND;TZID=America/New_York:20220330T213000
DTSTAMP:20260423T162406
CREATED:20220307T164449Z
LAST-MODIFIED:20220307T164449Z
UID:10000285-1648668600-1648675800@coolspeak.com
SUMMARY:47TH Annual California Association for Bilingual Education (CABE) Conference.
DESCRIPTION:Title:47TH Annual California Association for Bilingual Education (CABE) Conference. \nDescription:Keynote Presentation provided by Natasha Carrizosa \nTheme:California Association for Bilingual Education \nDate:03/30/2022 – 04/02/2022 \nTime:4:30pm – 6:30pm PST \nLocation: Virtual
URL:https://coolspeak.com/event/47th-annual-california-association-for-bilingual-education-cabe-conference-5-2/
END:VEVENT
BEGIN:VEVENT
DTSTART;TZID=America/New_York:20220330T193000
DTEND;TZID=America/New_York:20220330T213000
DTSTAMP:20260423T162406
CREATED:20220307T164449Z
LAST-MODIFIED:20220307T164449Z
UID:10000287-1648668600-1648675800@coolspeak.com
SUMMARY:47TH Annual California Association for Bilingual Education (CABE) Conference.
DESCRIPTION:Title:47TH Annual California Association for Bilingual Education (CABE) Conference. \nDescription:Keynote Presentation provided by Natasha Carrizosa \nTheme:California Association for Bilingual Education \nDate:03/30/2022 – 04/02/2022 \nTime:4:30pm – 6:30pm PST \nLocation: Virtual
URL:https://coolspeak.com/event/47th-annual-california-association-for-bilingual-education-cabe-conference-5/
END:VEVENT
BEGIN:VEVENT
DTSTART;TZID=America/New_York:20220330T193000
DTEND;TZID=America/New_York:20220330T213000
DTSTAMP:20260423T162406
CREATED:20220302T140322Z
LAST-MODIFIED:20220302T140322Z
UID:10000254-1648668600-1648675800@coolspeak.com
SUMMARY:47TH Annual California Association for Bilingual Education (CABE) Conference.
DESCRIPTION:Title:47TH Annual California Association for Bilingual Education (CABE) Conference. \nDescription:Keynote Presentation provided by Natasha Carrizosa \nTheme:California Association for Bilingual Education \nDate:03/30/2022 – 04/02/2022 \nTime:4:30pm – 6:30pm PST \nLocation: Virtual
URL:https://coolspeak.com/event/47th-annual-california-association-for-bilingual-education-cabe-conference/
END:VEVENT
BEGIN:VEVENT
DTSTART;TZID=America/New_York:20220330T193000
DTEND;TZID=America/New_York:20220330T213000
DTSTAMP:20260423T162406
CREATED:20220302T140322Z
LAST-MODIFIED:20220302T140322Z
UID:10000272-1648668600-1648675800@coolspeak.com
SUMMARY:47TH Annual California Association for Bilingual Education (CABE) Conference.
DESCRIPTION:Title:47TH Annual California Association for Bilingual Education (CABE) Conference. \nDescription:Keynote Presentation provided by Natasha Carrizosa \nTheme:California Association for Bilingual Education \nDate:03/30/2022 – 04/02/2022 \nTime:4:30pm – 6:30pm PST \nLocation: Virtual
URL:https://coolspeak.com/event/47th-annual-california-association-for-bilingual-education-cabe-conference-6/
END:VEVENT
BEGIN:VEVENT
DTSTART;TZID=America/New_York:20220330T130000
DTEND;TZID=America/New_York:20220330T180000
DTSTAMP:20260423T162406
CREATED:20220315T011310Z
LAST-MODIFIED:20220315T011310Z
UID:10000302-1648645200-1648663200@coolspeak.com
SUMMARY:Madison Junior School Presentation Day
DESCRIPTION:Title:Madison Junior School Presentation Day \nDescription:Carlos Ojeda Jr. will provide student and parent presentations. \nTheme:Education. Leadership. Parent Involvement. Family Engagement. \nDate:03/30/2022 \nTime:1:00pm – 6:00pm EST \nLocation:Madison\, NJ
URL:https://coolspeak.com/event/madison-junior-school-presentation-day-2/
END:VEVENT
BEGIN:VEVENT
DTSTART;TZID=America/New_York:20220330T130000
DTEND;TZID=America/New_York:20220330T180000
DTSTAMP:20260423T162406
CREATED:20220315T011310Z
LAST-MODIFIED:20220315T011310Z
UID:10000299-1648645200-1648663200@coolspeak.com
SUMMARY:Madison Junior School Presentation Day
DESCRIPTION:Title:Madison Junior School Presentation Day \nDescription:Carlos Ojeda Jr. will provide student and parent presentations. \nTheme:Education. Leadership. Parent Involvement. Family Engagement. \nDate:03/30/2022 \nTime:1:00pm – 6:00pm EST \nLocation:Madison\, NJ
URL:https://coolspeak.com/event/madison-junior-school-presentation-day/
END:VEVENT
BEGIN:VEVENT
DTSTART;TZID=America/New_York:20220329T180000
DTEND;TZID=America/New_York:20220329T190000
DTSTAMP:20260423T162406
CREATED:20220302T140322Z
LAST-MODIFIED:20220302T140322Z
UID:10000253-1648576800-1648580400@coolspeak.com
SUMMARY:2022 Thomas University Virtual Book Club with Natasha Carrizosa.
DESCRIPTION:Title:2022 Thomas University Virtual Book Club with Natasha Carrizosa. \nDescription:Four-Week Interactive Virtual Book Club. \nTheme:Youth Empowerment and Self- Expression. \nDate(s): 03/08/202203/15/202203/22/202203/29/2022 \nTime:6:00pm – 7:00pm EST  Location:Virtual
URL:https://coolspeak.com/event/2022-thomas-university-virtual-book-club-with-natasha-carrizosa-4/
END:VEVENT
BEGIN:VEVENT
DTSTART;TZID=America/New_York:20220329T180000
DTEND;TZID=America/New_York:20220329T190000
DTSTAMP:20260423T162406
CREATED:20220302T140322Z
LAST-MODIFIED:20220302T140322Z
UID:10000271-1648576800-1648580400@coolspeak.com
SUMMARY:2022 Thomas University Virtual Book Club with Natasha Carrizosa.
DESCRIPTION:Title:2022 Thomas University Virtual Book Club with Natasha Carrizosa. \nDescription:Four-Week Interactive Virtual Book Club. \nTheme:Youth Empowerment and Self- Expression. \nDate(s): 03/08/202203/15/202203/22/202203/29/2022 \nTime:6:00pm – 7:00pm EST  Location:Virtual
URL:https://coolspeak.com/event/2022-thomas-university-virtual-book-club-with-natasha-carrizosa-4-2/
END:VEVENT
BEGIN:VEVENT
DTSTART;TZID=America/New_York:20220329T120000
DTEND;TZID=America/New_York:20220329T150000
DTSTAMP:20260423T162406
CREATED:20220315T011310Z
LAST-MODIFIED:20220315T011310Z
UID:10000298-1648555200-1648566000@coolspeak.com
SUMMARY:Eastern New Mexico University GEAR UP Middle Schools
DESCRIPTION:Title:Eastern New Mexico University GEAR UP Middle Schools \nDescription:Your Voice is Your Power Student Assemblies with Carlos Ojeda Jr. \nTheme:Youth Empowerment. Leadership. Mental Health. \nDate:03/29/2022 \nTime:9:00am – 12:00pm PST \nLocation:Hagerman\, NM
URL:https://coolspeak.com/event/eastern-new-mexico-university-gear-up-middle-schools/
END:VEVENT
BEGIN:VEVENT
DTSTART;TZID=America/New_York:20220329T120000
DTEND;TZID=America/New_York:20220329T150000
DTSTAMP:20260423T162406
CREATED:20220315T011310Z
LAST-MODIFIED:20220315T011310Z
UID:10000301-1648555200-1648566000@coolspeak.com
SUMMARY:Eastern New Mexico University GEAR UP Middle Schools
DESCRIPTION:Title:Eastern New Mexico University GEAR UP Middle Schools \nDescription:Your Voice is Your Power Student Assemblies with Carlos Ojeda Jr. \nTheme:Youth Empowerment. Leadership. Mental Health. \nDate:03/29/2022 \nTime:9:00am – 12:00pm PST \nLocation:Hagerman\, NM
URL:https://coolspeak.com/event/eastern-new-mexico-university-gear-up-middle-schools-2/
END:VEVENT
BEGIN:VEVENT
DTSTART;TZID=America/New_York:20220328T110000
DTEND;TZID=America/New_York:20220328T170000
DTSTAMP:20260423T162406
CREATED:20220314T235859Z
LAST-MODIFIED:20220314T235859Z
UID:10000295-1648465200-1648486800@coolspeak.com
SUMMARY:Warden High School GEAR UP School Tour
DESCRIPTION:Title:Warden High School GEAR UP School Tour \nDescription:Zach Gowen Providing a Motivational Speaker Tour. \nTheme:Resilience. Overcoming Adversity. \nDate:03/28/2022 \nTime:8:00am – 2:00pm PST \nLocation:Richland\, WA
URL:https://coolspeak.com/event/warden-high-school-gear-up-school-tour/
END:VEVENT
BEGIN:VEVENT
DTSTART;TZID=America/New_York:20220328T110000
DTEND;TZID=America/New_York:20220328T170000
DTSTAMP:20260423T162406
CREATED:20220314T235859Z
LAST-MODIFIED:20220314T235859Z
UID:10000296-1648465200-1648486800@coolspeak.com
SUMMARY:Warden High School GEAR UP School Tour
DESCRIPTION:Title:Warden High School GEAR UP School Tour \nDescription:Zach Gowen Providing a Motivational Speaker Tour. \nTheme:Resilience. Overcoming Adversity. \nDate:03/28/2022 \nTime:8:00am – 2:00pm PST \nLocation:Richland\, WA
URL:https://coolspeak.com/event/warden-high-school-gear-up-school-tour-2/
END:VEVENT
BEGIN:VEVENT
DTSTART;TZID=America/New_York:20220324T080000
DTEND;TZID=America/New_York:20220324T160000
DTSTAMP:20260423T162406
CREATED:20220302T140322Z
LAST-MODIFIED:20220302T140322Z
UID:10000252-1648108800-1648137600@coolspeak.com
SUMMARY:2022 GEAR UP Kentucky Institute for a College-Going Culture: The Comeback from COVID
DESCRIPTION:Title:2022 GEAR UP Kentucky Institute for a College-Going Culture: The Comeback from COVID \nDescription:To provide motivation\, tools\, and strategies for educators to better engage the students they serve and to better engage themselves in self-care. \nTheme:Motivation\, Focus\, Socialization\, Mental Health \nDate:03/24/2022 \nTime:8:00am – 4:00pm EST \nLocation:Lexington\, KY
URL:https://coolspeak.com/event/2022-gear-up-kentucky-institute-for-a-college-going-culture-the-comeback-from-covid/
END:VEVENT
BEGIN:VEVENT
DTSTART;TZID=America/New_York:20220324T080000
DTEND;TZID=America/New_York:20220324T160000
DTSTAMP:20260423T162406
CREATED:20220302T140322Z
LAST-MODIFIED:20220302T140322Z
UID:10000270-1648108800-1648137600@coolspeak.com
SUMMARY:2022 GEAR UP Kentucky Institute for a College-Going Culture: The Comeback from COVID
DESCRIPTION:Title:2022 GEAR UP Kentucky Institute for a College-Going Culture: The Comeback from COVID \nDescription:To provide motivation\, tools\, and strategies for educators to better engage the students they serve and to better engage themselves in self-care. \nTheme:Motivation\, Focus\, Socialization\, Mental Health \nDate:03/24/2022 \nTime:8:00am – 4:00pm EST \nLocation:Lexington\, KY
URL:https://coolspeak.com/event/2022-gear-up-kentucky-institute-for-a-college-going-culture-the-comeback-from-covid-2/
END:VEVENT
BEGIN:VEVENT
DTSTART;TZID=America/New_York:20220323T170000
DTEND;TZID=America/New_York:20220323T200000
DTSTAMP:20260423T162406
CREATED:20220302T140322Z
LAST-MODIFIED:20220302T140322Z
UID:10000251-1648054800-1648065600@coolspeak.com
SUMMARY:Truckee Meadows Community College Men of Color Presentation.
DESCRIPTION:Title:Truckee Meadows Community College Men of Color Presentation. \nDescription:Ernesto Mejia will provide a student and staff presentation. \nTheme:Inspiration. Motivation. Empowerment. \nDate:03/23/2022 \nTime: 2:00pm – 5:00pm PST \nLocation:Reno\, NV
URL:https://coolspeak.com/event/truckee-meadows-community-college-men-of-color-presentation/
END:VEVENT
BEGIN:VEVENT
DTSTART;TZID=America/New_York:20220323T170000
DTEND;TZID=America/New_York:20220323T200000
DTSTAMP:20260423T162406
CREATED:20220302T140322Z
LAST-MODIFIED:20220302T140322Z
UID:10000269-1648054800-1648065600@coolspeak.com
SUMMARY:Truckee Meadows Community College Men of Color Presentation.
DESCRIPTION:Title:Truckee Meadows Community College Men of Color Presentation. \nDescription:Ernesto Mejia will provide a student and staff presentation. \nTheme:Inspiration. Motivation. Empowerment. \nDate:03/23/2022 \nTime: 2:00pm – 5:00pm PST \nLocation:Reno\, NV
URL:https://coolspeak.com/event/truckee-meadows-community-college-men-of-color-presentation-2/
END:VEVENT
BEGIN:VEVENT
DTSTART;TZID=America/New_York:20220322T180000
DTEND;TZID=America/New_York:20220322T190000
DTSTAMP:20260423T162406
CREATED:20220302T140322Z
LAST-MODIFIED:20220302T140322Z
UID:10000249-1647972000-1647975600@coolspeak.com
SUMMARY:2022 Thomas University Virtual Book Club with Natasha Carrizosa.
DESCRIPTION:Title:2022 Thomas University Virtual Book Club with Natasha Carrizosa. \nDescription:Four-Week Interactive Virtual Book Club. \nTheme:Youth Empowerment and Self- Expression. \nDate(s): 03/08/202203/15/202203/22/202203/29/2022 \nTime:6:00pm – 7:00pm EST  Location:Virtual
URL:https://coolspeak.com/event/2022-thomas-university-virtual-book-club-with-natasha-carrizosa-3/
END:VEVENT
BEGIN:VEVENT
DTSTART;TZID=America/New_York:20220322T180000
DTEND;TZID=America/New_York:20220322T190000
DTSTAMP:20260423T162406
CREATED:20220302T140322Z
LAST-MODIFIED:20220302T140322Z
UID:10000268-1647972000-1647975600@coolspeak.com
SUMMARY:2022 Thomas University Virtual Book Club with Natasha Carrizosa.
DESCRIPTION:Title:2022 Thomas University Virtual Book Club with Natasha Carrizosa. \nDescription:Four-Week Interactive Virtual Book Club. \nTheme:Youth Empowerment and Self- Expression. \nDate(s): 03/08/202203/15/202203/22/202203/29/2022 \nTime:6:00pm – 7:00pm EST  Location:Virtual
URL:https://coolspeak.com/event/2022-thomas-university-virtual-book-club-with-natasha-carrizosa-3-2/
END:VEVENT
BEGIN:VEVENT
DTSTART;TZID=America/New_York:20220319T110000
DTEND;TZID=America/New_York:20220319T130000
DTSTAMP:20260423T162406
CREATED:20220315T011310Z
LAST-MODIFIED:20220315T011310Z
UID:10000297-1647687600-1647694800@coolspeak.com
SUMMARY:Jubilee Kingsville Career Readiness Day.
DESCRIPTION:Title:Jubilee Kingsville Career Readiness Day. \nDescription:CoolSpeaker Joaquin Zihuatanejo Present on Career Readiness. \nTheme:Career Readiness. \nDate:03/19/2022 \nTime:10:00am – 12:00pm CST \nLocation: Kingsville\, TX
URL:https://coolspeak.com/event/jubilee-kingsville-career-readiness-day/
END:VEVENT
BEGIN:VEVENT
DTSTART;TZID=America/New_York:20220319T110000
DTEND;TZID=America/New_York:20220319T130000
DTSTAMP:20260423T162406
CREATED:20220315T011310Z
LAST-MODIFIED:20220315T011310Z
UID:10000300-1647687600-1647694800@coolspeak.com
SUMMARY:Jubilee Kingsville Career Readiness Day.
DESCRIPTION:Title:Jubilee Kingsville Career Readiness Day. \nDescription:CoolSpeaker Joaquin Zihuatanejo Present on Career Readiness. \nTheme:Career Readiness. \nDate:03/19/2022 \nTime:10:00am – 12:00pm CST \nLocation: Kingsville\, TX
URL:https://coolspeak.com/event/jubilee-kingsville-career-readiness-day-2/
END:VEVENT
END:VCALENDAR