BEGIN:VCALENDAR
VERSION:2.0
PRODID:-//CoolSpeak - ECPv6.15.18//NONSGML v1.0//EN
CALSCALE:GREGORIAN
METHOD:PUBLISH
X-ORIGINAL-URL:https://coolspeak.com
X-WR-CALDESC:Events for CoolSpeak
REFRESH-INTERVAL;VALUE=DURATION:PT1H
X-Robots-Tag:noindex
X-PUBLISHED-TTL:PT1H
BEGIN:VTIMEZONE
TZID:America/New_York
BEGIN:DAYLIGHT
TZOFFSETFROM:-0500
TZOFFSETTO:-0400
TZNAME:EDT
DTSTART:20210314T070000
END:DAYLIGHT
BEGIN:STANDARD
TZOFFSETFROM:-0400
TZOFFSETTO:-0500
TZNAME:EST
DTSTART:20211107T060000
END:STANDARD
BEGIN:DAYLIGHT
TZOFFSETFROM:-0500
TZOFFSETTO:-0400
TZNAME:EDT
DTSTART:20220313T070000
END:DAYLIGHT
BEGIN:STANDARD
TZOFFSETFROM:-0400
TZOFFSETTO:-0500
TZNAME:EST
DTSTART:20221106T060000
END:STANDARD
BEGIN:DAYLIGHT
TZOFFSETFROM:-0500
TZOFFSETTO:-0400
TZNAME:EDT
DTSTART:20230312T070000
END:DAYLIGHT
BEGIN:STANDARD
TZOFFSETFROM:-0400
TZOFFSETTO:-0500
TZNAME:EST
DTSTART:20231105T060000
END:STANDARD
END:VTIMEZONE
BEGIN:VTIMEZONE
TZID:America/Chicago
BEGIN:DAYLIGHT
TZOFFSETFROM:-0600
TZOFFSETTO:-0500
TZNAME:CDT
DTSTART:20210314T080000
END:DAYLIGHT
BEGIN:STANDARD
TZOFFSETFROM:-0500
TZOFFSETTO:-0600
TZNAME:CST
DTSTART:20211107T070000
END:STANDARD
BEGIN:DAYLIGHT
TZOFFSETFROM:-0600
TZOFFSETTO:-0500
TZNAME:CDT
DTSTART:20220313T080000
END:DAYLIGHT
BEGIN:STANDARD
TZOFFSETFROM:-0500
TZOFFSETTO:-0600
TZNAME:CST
DTSTART:20221106T070000
END:STANDARD
BEGIN:DAYLIGHT
TZOFFSETFROM:-0600
TZOFFSETTO:-0500
TZNAME:CDT
DTSTART:20230312T080000
END:DAYLIGHT
BEGIN:STANDARD
TZOFFSETFROM:-0500
TZOFFSETTO:-0600
TZNAME:CST
DTSTART:20231105T070000
END:STANDARD
END:VTIMEZONE
BEGIN:VEVENT
DTSTART;TZID=America/New_York:20220517T113000
DTEND;TZID=America/New_York:20220517T140000
DTSTAMP:20260423T190602
CREATED:20220418T164808Z
LAST-MODIFIED:20220418T164808Z
UID:10000349-1652787000-1652796000@coolspeak.com
SUMMARY:2022 Montross Middle School GEAR UP Presentation Day
DESCRIPTION:Title:2022 Montross Middle School GEAR UP Presentation Day. \nDescription:CoolSpeaker Zach Gowen will provide a keynote presentation and interactive activities with GEAR UP Students. \nTheme:GEAR UP. Team Building. \nDate:05/17/2022 \nTime:11:30am – 2:00pm EST \nLocation:Montross\, VA
URL:https://coolspeak.com/event/2022-montross-middle-school-gear-up-presentation-day-2/
END:VEVENT
BEGIN:VEVENT
DTSTART;TZID=America/New_York:20220517T113000
DTEND;TZID=America/New_York:20220517T140000
DTSTAMP:20260423T190602
CREATED:20220418T164808Z
LAST-MODIFIED:20220418T164808Z
UID:10000343-1652787000-1652796000@coolspeak.com
SUMMARY:2022 Montross Middle School GEAR UP Presentation Day
DESCRIPTION:Title:2022 Montross Middle School GEAR UP Presentation Day. \nDescription:CoolSpeaker Zach Gowen will provide a keynote presentation and interactive activities with GEAR UP Students. \nTheme:GEAR UP. Team Building. \nDate:05/17/2022 \nTime:11:30am – 2:00pm EST \nLocation:Montross\, VA
URL:https://coolspeak.com/event/2022-montross-middle-school-gear-up-presentation-day/
END:VEVENT
BEGIN:VEVENT
DTSTART;TZID=America/New_York:20220518T130000
DTEND;TZID=America/New_York:20220518T140000
DTSTAMP:20260423T190602
CREATED:20220411T185937Z
LAST-MODIFIED:20220411T185937Z
UID:10000313-1652878800-1652882400@coolspeak.com
SUMMARY:WordPress Engine with Lamarr Womble
DESCRIPTION:Title: Lunch and Learn Presentation \nDescription:Lamarr Womble will provide a 45-minute in-person presentation with a Q&A to follow. \nTheme:  \nPassion and LeadershipDate: 05/18/2022 \nTime:12:00pm – 1:00PM CST \nLocation:Omaha\, NE
URL:https://coolspeak.com/event/wordpress-engine-with-lamarr-womble/
END:VEVENT
BEGIN:VEVENT
DTSTART;TZID=America/New_York:20220518T130000
DTEND;TZID=America/New_York:20220518T140000
DTSTAMP:20260423T190602
CREATED:20220411T185937Z
LAST-MODIFIED:20220411T185937Z
UID:10000318-1652878800-1652882400@coolspeak.com
SUMMARY:WordPress Engine with Lamarr Womble
DESCRIPTION:Title: Lunch and Learn Presentation \nDescription:Lamarr Womble will provide a 45-minute in-person presentation with a Q&A to follow. \nTheme:  \nPassion and LeadershipDate: 05/18/2022 \nTime:12:00pm – 1:00PM CST \nLocation:Omaha\, NE
URL:https://coolspeak.com/event/wordpress-engine-with-lamarr-womble-2/
END:VEVENT
BEGIN:VEVENT
DTSTART;TZID=America/New_York:20220518T190000
DTEND;TZID=America/New_York:20220518T200000
DTSTAMP:20260423T190602
CREATED:20220302T140323Z
LAST-MODIFIED:20220302T140323Z
UID:10000284-1652900400-1652904000@coolspeak.com
SUMMARY:Greeley Schools End of School Year Presentation
DESCRIPTION:Title:Greeley Schools End of School Year Presentation \nDescription:Motivation Keynote Presentation \nTheme: End of Year Celebration \nDate:05/18/2022 \nTime:5:00pm MST \nLocation:Greeley\, CO
URL:https://coolspeak.com/event/greeley-schools-end-of-school-year-presentation-2/
END:VEVENT
BEGIN:VEVENT
DTSTART;TZID=America/New_York:20220518T190000
DTEND;TZID=America/New_York:20220518T200000
DTSTAMP:20260423T190602
CREATED:20220302T140323Z
LAST-MODIFIED:20220302T140323Z
UID:10000280-1652900400-1652904000@coolspeak.com
SUMMARY:Greeley Schools End of School Year Presentation
DESCRIPTION:Title:Greeley Schools End of School Year Presentation \nDescription:Motivation Keynote Presentation \nTheme: End of Year Celebration \nDate:05/18/2022 \nTime:5:00pm MST \nLocation:Greeley\, CO
URL:https://coolspeak.com/event/greeley-schools-end-of-school-year-presentation/
END:VEVENT
BEGIN:VEVENT
DTSTART;TZID=America/New_York:20220520T080000
DTEND;TZID=America/New_York:20220520T150000
DTSTAMP:20260423T190602
CREATED:20220505T234633Z
LAST-MODIFIED:20220505T234633Z
UID:10000442-1653033600-1653058800@coolspeak.com
SUMMARY:Nottoway County Public Schools Presentation Day.
DESCRIPTION:Title: Nottoway County Public Schools Presentation Day. \nDescription:Chris Collins will be providing keynote presentations at Nottoway Middle School and Virginia Tiered Systems of Support. \nTheme:Motivational and Overcoming Adversity. \nDate:05/20/2022 \nTime:8:00am – 3:00pm EST \nLocation:Crewe\, VA
URL:https://coolspeak.com/event/nottoway-county-public-schools-presentation-day-2/
END:VEVENT
BEGIN:VEVENT
DTSTART;TZID=America/New_York:20220520T080000
DTEND;TZID=America/New_York:20220520T150000
DTSTAMP:20260423T190602
CREATED:20220505T234633Z
LAST-MODIFIED:20220505T234633Z
UID:10000440-1653033600-1653058800@coolspeak.com
SUMMARY:Nottoway County Public Schools Presentation Day.
DESCRIPTION:Title: Nottoway County Public Schools Presentation Day. \nDescription:Chris Collins will be providing keynote presentations at Nottoway Middle School and Virginia Tiered Systems of Support. \nTheme:Motivational and Overcoming Adversity. \nDate:05/20/2022 \nTime:8:00am – 3:00pm EST \nLocation:Crewe\, VA
URL:https://coolspeak.com/event/nottoway-county-public-schools-presentation-day/
END:VEVENT
BEGIN:VEVENT
DTSTART;TZID=America/New_York:20220521T123000
DTEND;TZID=America/New_York:20220521T160000
DTSTAMP:20260423T190602
CREATED:20220422T153017Z
LAST-MODIFIED:20220422T153017Z
UID:10000423-1653136200-1653148800@coolspeak.com
SUMMARY:Southern Oregon Education Service District Migrant Ed Conference
DESCRIPTION:Title:Southern Oregon Education Service District Migrant Ed Conference \nDescription:Lilyan Prado Carillo will provide a keynote and workshop presentation. \nTheme:Migrant Education \nDate:05/21/2022 \nTime:9:30am – 1:00pm PST \nLocation:Klamath Falls\, OR 
URL:https://coolspeak.com/event/southern-oregon-education-service-district-migrant-ed-conference/
END:VEVENT
BEGIN:VEVENT
DTSTART;TZID=America/New_York:20220521T123000
DTEND;TZID=America/New_York:20220521T160000
DTSTAMP:20260423T190602
CREATED:20220422T153017Z
LAST-MODIFIED:20220422T153017Z
UID:10000424-1653136200-1653148800@coolspeak.com
SUMMARY:Southern Oregon Education Service District Migrant Ed Conference
DESCRIPTION:Title:Southern Oregon Education Service District Migrant Ed Conference \nDescription:Lilyan Prado Carillo will provide a keynote and workshop presentation. \nTheme:Migrant Education \nDate:05/21/2022 \nTime:9:30am – 1:00pm PST \nLocation:Klamath Falls\, OR 
URL:https://coolspeak.com/event/southern-oregon-education-service-district-migrant-ed-conference-2/
END:VEVENT
BEGIN:VEVENT
DTSTART;TZID=America/New_York:20220524T090000
DTEND;TZID=America/New_York:20220524T140000
DTSTAMP:20260423T190602
CREATED:20220413T025812Z
LAST-MODIFIED:20220413T025812Z
UID:10000333-1653382800-1653400800@coolspeak.com
SUMMARY:Scholarship Writing and Leadership Day
DESCRIPTION:Title: Scholarship Writing and Leadership Day. \nDescription:CoolSpeak team will provide presentations on Scholarship Writing and Leadership. \nTheme:Scholarship Writing and Leadership \nDate: 05/24/2022 & 05/25/2022 \nTime:9:00am – 2:00pm EST \nLocation:Hackensack\, NJ
URL:https://coolspeak.com/event/scholarship-writing-and-leadership-day/
END:VEVENT
BEGIN:VEVENT
DTSTART;TZID=America/New_York:20220524T090000
DTEND;TZID=America/New_York:20220524T140000
DTSTAMP:20260423T190602
CREATED:20220413T025812Z
LAST-MODIFIED:20220413T025812Z
UID:10000335-1653382800-1653400800@coolspeak.com
SUMMARY:Scholarship Writing and Leadership Day
DESCRIPTION:Title: Scholarship Writing and Leadership Day. \nDescription:CoolSpeak team will provide presentations on Scholarship Writing and Leadership. \nTheme:Scholarship Writing and Leadership \nDate: 05/24/2022 & 05/25/2022 \nTime:9:00am – 2:00pm EST \nLocation:Hackensack\, NJ
URL:https://coolspeak.com/event/scholarship-writing-and-leadership-day-3/
END:VEVENT
BEGIN:VEVENT
DTSTART;TZID=America/New_York:20220525T090000
DTEND;TZID=America/New_York:20220525T140000
DTSTAMP:20260423T190602
CREATED:20220413T025812Z
LAST-MODIFIED:20220413T025812Z
UID:10000337-1653469200-1653487200@coolspeak.com
SUMMARY:Scholarship Writing and Leadership Day
DESCRIPTION:Title: Scholarship Writing and Leadership Day. \nDescription:CoolSpeak team will provide presentations on Scholarship Writing and Leadership. \nTheme:Scholarship Writing and Leadership \nDate: 05/24/2022 & 05/25/2022 \nTime:9:00am – 2:00pm EST \nLocation:Hackensack\, NJ
URL:https://coolspeak.com/event/scholarship-writing-and-leadership-day-2-2/
END:VEVENT
BEGIN:VEVENT
DTSTART;TZID=America/New_York:20220525T090000
DTEND;TZID=America/New_York:20220525T140000
DTSTAMP:20260423T190602
CREATED:20220413T025812Z
LAST-MODIFIED:20220413T025812Z
UID:10000334-1653469200-1653487200@coolspeak.com
SUMMARY:Scholarship Writing and Leadership Day
DESCRIPTION:Title: Scholarship Writing and Leadership Day. \nDescription:CoolSpeak team will provide presentations on Scholarship Writing and Leadership. \nTheme:Scholarship Writing and Leadership \nDate: 05/24/2022 & 05/25/2022 \nTime:9:00am – 2:00pm EST \nLocation:Hackensack\, NJ
URL:https://coolspeak.com/event/scholarship-writing-and-leadership-day-2/
END:VEVENT
BEGIN:VEVENT
DTSTART;TZID=America/New_York:20220531T103000
DTEND;TZID=America/New_York:20220531T173000
DTSTAMP:20260423T190602
CREATED:20220418T164808Z
LAST-MODIFIED:20220418T164808Z
UID:10000346-1653993000-1654018200@coolspeak.com
SUMMARY:2022 Adams State University Diversity Conference
DESCRIPTION:Title:2022 Adams State University Diversity Conference. \nDescription:CoolSpeakers Joaquin Zihuatanejo\, Lilyan Prado-Carrillo and Lamarr Womble will provide keynote presentations and workshops for diversity conference. \nTheme:Diversity \nDate:05/31/2022 \nTime:8:30am – 3:30pm MST \nLocation:Alamosa\, CO
URL:https://coolspeak.com/event/2022-adams-state-university-diversity-conference/
END:VEVENT
BEGIN:VEVENT
DTSTART;TZID=America/New_York:20220531T103000
DTEND;TZID=America/New_York:20220531T173000
DTSTAMP:20260423T190602
CREATED:20220418T164808Z
LAST-MODIFIED:20220418T164808Z
UID:10000347-1653993000-1654018200@coolspeak.com
SUMMARY:2022 Adams State University Diversity Conference
DESCRIPTION:Title:2022 Adams State University Diversity Conference. \nDescription:CoolSpeakers Joaquin Zihuatanejo\, Lilyan Prado-Carrillo and Lamarr Womble will provide keynote presentations and workshops for diversity conference. \nTheme:Diversity \nDate:05/31/2022 \nTime:8:30am – 3:30pm MST \nLocation:Alamosa\, CO
URL:https://coolspeak.com/event/2022-adams-state-university-diversity-conference-2/
END:VEVENT
BEGIN:VEVENT
DTSTART;TZID=America/Chicago:20220531T120000
DTEND;TZID=America/Chicago:20220531T140000
DTSTAMP:20260423T190602
CREATED:20220524T105948Z
LAST-MODIFIED:20220524T105948Z
UID:10000517-1653998400-1654005600@coolspeak.com
SUMMARY:Haysville GEAR UP Wichita State University
DESCRIPTION:Title:\nThe Power of YOUth Programming\nDescription:\nCoolSpeak will provide 2 Hours of Leadership Training\nTheme:\nLeadership\nDate:\n5/31/2022-6/2/2022\nTime:\n12:00 PM- 2:00 PM CST\nLocation:\nWichita\, KS
URL:https://coolspeak.com/event/haysville-gear-up-wichita-state-university/
END:VEVENT
BEGIN:VEVENT
DTSTART;TZID=America/Chicago:20220531T120000
DTEND;TZID=America/Chicago:20220531T140000
DTSTAMP:20260423T190602
CREATED:20220524T105948Z
LAST-MODIFIED:20220524T105948Z
UID:10000519-1653998400-1654005600@coolspeak.com
SUMMARY:Haysville GEAR UP Wichita State University
DESCRIPTION:Title:\nThe Power of YOUth Programming\nDescription:\nCoolSpeak will provide 2 Hours of Leadership Training\nTheme:\nLeadership\nDate:\n5/31/2022-6/2/2022\nTime:\n12:00 PM- 2:00 PM CST\nLocation:\nWichita\, KS
URL:https://coolspeak.com/event/haysville-gear-up-wichita-state-university-4/
END:VEVENT
BEGIN:VEVENT
DTSTART;TZID=America/New_York:20220531T130000
DTEND;TZID=America/New_York:20220531T150000
DTSTAMP:20260423T190602
CREATED:20220506T020412Z
LAST-MODIFIED:20220506T020412Z
UID:10000447-1654002000-1654009200@coolspeak.com
SUMMARY:The Power of YOUth Programming
DESCRIPTION:Title:The Power of YOUth Programming \nDescription:CoolSpeak will provide 2 Hours of Leadership Training \nTheme:Leadership \nDate:05/31/2022 – 06/02/2022 \nTime:12:00pm – 2:00pm CST \nLocation:Wichita\, KS
URL:https://coolspeak.com/event/the-power-of-youth-programming/
END:VEVENT
BEGIN:VEVENT
DTSTART;TZID=America/New_York:20220531T130000
DTEND;TZID=America/New_York:20220531T150000
DTSTAMP:20260423T190602
CREATED:20220506T020412Z
LAST-MODIFIED:20220506T020412Z
UID:10000448-1654002000-1654009200@coolspeak.com
SUMMARY:The Power of YOUth Programming
DESCRIPTION:Title:The Power of YOUth Programming \nDescription:CoolSpeak will provide 2 Hours of Leadership Training \nTheme:Leadership \nDate:05/31/2022 – 06/02/2022 \nTime:12:00pm – 2:00pm CST \nLocation:Wichita\, KS
URL:https://coolspeak.com/event/the-power-of-youth-programming-5/
END:VEVENT
BEGIN:VEVENT
DTSTART;TZID=America/New_York:20220531T130000
DTEND;TZID=America/New_York:20220531T150000
DTSTAMP:20260423T190602
CREATED:20220512T125228Z
LAST-MODIFIED:20220512T125228Z
UID:10000483-1654002000-1654009200@coolspeak.com
SUMMARY:The Power of YOUth Programming
DESCRIPTION:Title:The Power of YOUth Programming \nDescription:CoolSpeak will provide 2 Hours of Leadership Training \nTheme:Leadership \nDate:05/31/2022 – 06/02/2022 \nTime:12:00pm – 2:00pm CST \nLocation:Wichita\, KS
URL:https://coolspeak.com/event/the-power-of-youth-programming-2/
END:VEVENT
BEGIN:VEVENT
DTSTART;TZID=America/New_York:20220531T130000
DTEND;TZID=America/New_York:20220531T150000
DTSTAMP:20260423T190602
CREATED:20220512T125228Z
LAST-MODIFIED:20220512T125228Z
UID:10000486-1654002000-1654009200@coolspeak.com
SUMMARY:The Power of YOUth Programming
DESCRIPTION:Title:The Power of YOUth Programming \nDescription:CoolSpeak will provide 2 Hours of Leadership Training \nTheme:Leadership \nDate:05/31/2022 – 06/02/2022 \nTime:12:00pm – 2:00pm CST \nLocation:Wichita\, KS
URL:https://coolspeak.com/event/the-power-of-youth-programming-2-2/
END:VEVENT
BEGIN:VEVENT
DTSTART;TZID=America/New_York:20220601T130000
DTEND;TZID=America/New_York:20220601T150000
DTSTAMP:20260423T190602
CREATED:20220512T125228Z
LAST-MODIFIED:20220512T125228Z
UID:10000484-1654088400-1654095600@coolspeak.com
SUMMARY:The Power of YOUth Programming
DESCRIPTION:Title:The Power of YOUth Programming \nDescription:CoolSpeak will provide 2 Hours of Leadership Training \nTheme:Leadership \nDate:05/31/2022 – 06/02/2022 \nTime:12:00pm – 2:00pm CST \nLocation:Wichita\, KS
URL:https://coolspeak.com/event/the-power-of-youth-programming-3/
END:VEVENT
BEGIN:VEVENT
DTSTART;TZID=America/New_York:20220601T130000
DTEND;TZID=America/New_York:20220601T150000
DTSTAMP:20260423T190602
CREATED:20220512T125228Z
LAST-MODIFIED:20220512T125228Z
UID:10000487-1654088400-1654095600@coolspeak.com
SUMMARY:The Power of YOUth Programming
DESCRIPTION:Title:The Power of YOUth Programming \nDescription:CoolSpeak will provide 2 Hours of Leadership Training \nTheme:Leadership \nDate:05/31/2022 – 06/02/2022 \nTime:12:00pm – 2:00pm CST \nLocation:Wichita\, KS
URL:https://coolspeak.com/event/the-power-of-youth-programming-3-2/
END:VEVENT
BEGIN:VEVENT
DTSTART;TZID=America/New_York:20220601T130000
DTEND;TZID=America/New_York:20220601T150000
DTSTAMP:20260423T190602
CREATED:20220524T105948Z
LAST-MODIFIED:20220524T105948Z
UID:10000518-1654088400-1654095600@coolspeak.com
SUMMARY:Haysville GEAR UP Wichita State University
DESCRIPTION:Title:\nThe Power of YOUth Programming\nDescription:\nCoolSpeak will provide 2 Hours of Leadership Training\nTheme:\nLeadership\nDate:\n5/31/2022-6/2/2022\nTime:\n12:00 PM- 2:00 PM CST\nLocation:\nWichita\, KS
URL:https://coolspeak.com/event/haysville-gear-up-wichita-state-university-2/
END:VEVENT
BEGIN:VEVENT
DTSTART;TZID=America/New_York:20220601T130000
DTEND;TZID=America/New_York:20220601T150000
DTSTAMP:20260423T190602
CREATED:20220524T105948Z
LAST-MODIFIED:20220524T105948Z
UID:10000520-1654088400-1654095600@coolspeak.com
SUMMARY:Haysville GEAR UP Wichita State University
DESCRIPTION:Title:\nThe Power of YOUth Programming\nDescription:\nCoolSpeak will provide 2 Hours of Leadership Training\nTheme:\nLeadership\nDate:\n5/31/2022-6/2/2022\nTime:\n12:00 PM- 2:00 PM CST\nLocation:\nWichita\, KS
URL:https://coolspeak.com/event/haysville-gear-up-wichita-state-university-2-2/
END:VEVENT
BEGIN:VEVENT
DTSTART;TZID=America/New_York:20220602T100000
DTEND;TZID=America/New_York:20220602T140000
DTSTAMP:20260423T190602
CREATED:20220310T185926Z
LAST-MODIFIED:20220310T185926Z
UID:10000290-1654164000-1654178400@coolspeak.com
SUMMARY:Region 16 ESC with Ernesto Mejia
DESCRIPTION:Title:Region 16 SPEDS Conference \nDescription:A Parental Involvement Conference for both Educators and Parents. \nTheme: Parental Involvement: Catch the Wave \nDate: 06/02/2022 \nTime: 09:00am – 1:00pm CST \nLocation:Corpus Christi\, TX
URL:https://coolspeak.com/event/statewide-parental-involvement-conference/
END:VEVENT
BEGIN:VEVENT
DTSTART;TZID=America/New_York:20220602T100000
DTEND;TZID=America/New_York:20220602T140000
DTSTAMP:20260423T190602
CREATED:20220310T185926Z
LAST-MODIFIED:20220310T185926Z
UID:10000292-1654164000-1654178400@coolspeak.com
SUMMARY:Region 16 ESC with Ernesto Mejia
DESCRIPTION:Title:Region 16 SPEDS Conference \nDescription:A Parental Involvement Conference for both Educators and Parents. \nTheme: Parental Involvement: Catch the Wave \nDate: 06/02/2022 \nTime: 09:00am – 1:00pm CST \nLocation:Corpus Christi\, TX
URL:https://coolspeak.com/event/statewide-parental-involvement-conference-2/
END:VEVENT
BEGIN:VEVENT
DTSTART;TZID=America/New_York:20220602T130000
DTEND;TZID=America/New_York:20220602T150000
DTSTAMP:20260423T190602
CREATED:20220512T125228Z
LAST-MODIFIED:20220512T125228Z
UID:10000485-1654174800-1654182000@coolspeak.com
SUMMARY:The Power of YOUth Programming
DESCRIPTION:Title:The Power of YOUth Programming \nDescription:CoolSpeak will provide 2 Hours of Leadership Training \nTheme:Leadership \nDate:05/31/2022 – 06/02/2022 \nTime:12:00pm – 2:00pm CST \nLocation:Wichita\, KS
URL:https://coolspeak.com/event/the-power-of-youth-programming-4/
END:VEVENT
BEGIN:VEVENT
DTSTART;TZID=America/New_York:20220602T130000
DTEND;TZID=America/New_York:20220602T150000
DTSTAMP:20260423T190602
CREATED:20220512T125228Z
LAST-MODIFIED:20220512T125228Z
UID:10000488-1654174800-1654182000@coolspeak.com
SUMMARY:The Power of YOUth Programming
DESCRIPTION:Title:The Power of YOUth Programming \nDescription:CoolSpeak will provide 2 Hours of Leadership Training \nTheme:Leadership \nDate:05/31/2022 – 06/02/2022 \nTime:12:00pm – 2:00pm CST \nLocation:Wichita\, KS
URL:https://coolspeak.com/event/the-power-of-youth-programming-4-2/
END:VEVENT
END:VCALENDAR