BEGIN:VCALENDAR
VERSION:2.0
PRODID:-//CoolSpeak - ECPv6.15.18//NONSGML v1.0//EN
CALSCALE:GREGORIAN
METHOD:PUBLISH
X-WR-CALNAME:CoolSpeak
X-ORIGINAL-URL:https://coolspeak.com
X-WR-CALDESC:Events for CoolSpeak
REFRESH-INTERVAL;VALUE=DURATION:PT1H
X-Robots-Tag:noindex
X-PUBLISHED-TTL:PT1H
BEGIN:VTIMEZONE
TZID:America/New_York
BEGIN:DAYLIGHT
TZOFFSETFROM:-0500
TZOFFSETTO:-0400
TZNAME:EDT
DTSTART:20240310T070000
END:DAYLIGHT
BEGIN:STANDARD
TZOFFSETFROM:-0400
TZOFFSETTO:-0500
TZNAME:EST
DTSTART:20241103T060000
END:STANDARD
BEGIN:DAYLIGHT
TZOFFSETFROM:-0500
TZOFFSETTO:-0400
TZNAME:EDT
DTSTART:20250309T070000
END:DAYLIGHT
BEGIN:STANDARD
TZOFFSETFROM:-0400
TZOFFSETTO:-0500
TZNAME:EST
DTSTART:20251102T060000
END:STANDARD
BEGIN:DAYLIGHT
TZOFFSETFROM:-0500
TZOFFSETTO:-0400
TZNAME:EDT
DTSTART:20260308T070000
END:DAYLIGHT
BEGIN:STANDARD
TZOFFSETFROM:-0400
TZOFFSETTO:-0500
TZNAME:EST
DTSTART:20261101T060000
END:STANDARD
END:VTIMEZONE
BEGIN:VEVENT
DTSTART;TZID=America/New_York:20250618T203000
DTEND;TZID=America/New_York:20250618T220000
DTSTAMP:20260422T184959
CREATED:20250617T182142Z
LAST-MODIFIED:20250618T180648Z
UID:10001898-1750278600-1750284000@coolspeak.com
SUMMARY:All Aboard Tours ENMU Roswell Trio Bus Tour
DESCRIPTION:Below are the event details: \n\nSpeaker: \n\nJoaquin Zihuatanejo\n\n\nEvent Title: \n\nAll Aboard Tours ENMU Roswell Trio Bus Tour\n\n\nClient Program/Organization: \n\nAll Aboard Tours\n\n\nEvent Description: \n\nJoaquin Zihuatanejo will provide a Team Building Activity for Trio Students.\n\n\nTheme: \n\nBus Tour/Education/Trio/Team Building\n\n\nStart Date: \n\n2025-06-18\n\n\nEnd Date: \n\n2025-06-18\n\n\nStart Time: \n\n8:30 PM\n\n\nEnd Time: \n\n10:00 PM\n\n\nCity/State: \n\nColorado Springs\, CO\n\n\nAudience: \n\nHigh School\n\n\nNumber attending: \n\n35
URL:https://coolspeak.com/event/all-aboard-tours-enmu-roswell-trio-bus-tour/
CATEGORIES:Event
END:VEVENT
BEGIN:VEVENT
DTSTART;TZID=America/New_York:20250618T143000
DTEND;TZID=America/New_York:20250618T183000
DTSTAMP:20260422T184959
CREATED:20250402T195833Z
LAST-MODIFIED:20250618T180648Z
UID:10001745-1750257000-1750271400@coolspeak.com
SUMMARY:2025 Greeley GEAR UP Summer FUNction "Own your Future"
DESCRIPTION:Below are the event details: \n\nSpeaker: \n\nJuan Cangas\n\n\nEvent Title: \n\n2025 Greeley GEAR UP Summer FUNction "Own your Future"\n\n\nClient Program/Organization: \n\nGreeley Schools\n\n\nEvent Description: \n\nJuan Cangas will be providing Student Engagement programming over the course of five days.\n\n\nTheme: \n\nStudent Engagement\, Post-Secondary Awareness\, GEAR UP.\n\n\nStart Date: \n\n2025-06-16\n\n\nEnd Date: \n\n2025-06-20\n\n\nStart Time:\n\n 12:30 PM\n\n\nEnd Time:\n\n 4:30 PM\n\n\nCity/State: \n\nGreeley\, CO\n\n\nAudience: \n\nMiddle School\n\n\nNumber attending: \n\n150
URL:https://coolspeak.com/event/2025-greeley-gear-up-summer-function-own-your-future-3/
CATEGORIES:Event
END:VEVENT
BEGIN:VEVENT
DTSTART;TZID=America/New_York:20250618T120000
DTEND;TZID=America/New_York:20250618T133000
DTSTAMP:20260422T184959
CREATED:20241106T195855Z
LAST-MODIFIED:20250618T172138Z
UID:10001566-1750248000-1750253400@coolspeak.com
SUMMARY:ACCESS College Foundation Scholarship Awards Luncheon with Carlos Ojeda Jr.
DESCRIPTION:Below are the event details: \n\nSpeaker: \n\nCarlos Ojeda Jr.\n\n\nEvent Title: \n\nACCESS College Foundation Scholarship Awards Luncheon with Carlos Ojeda Jr.\n\n\nClient Program/Organization: \n\nAccess College Foundation\n\n\nEvent Description: \n\nCarlos Ojeda Jr. will provide a Keynote Presentation for Scholarship Recipients\, Parents\, Community Leaders\, Staff and Donors.\n\n\nTheme: \n\nScholarship Awards\, Youth Empowerment\, Leadership\, Education.\n\n\nStart Date: \n\n2025-06-18\n\n\nEnd Date: \n\n2025-06-18\n\n\nStart Time: \n\n12:00 PM\n\n\nEnd Time: \n\n1:30 PM\n\n\nAddress:\n\nVirginia Beach\, VA 23451\n\n\nAudience: \n\nHigh School\n\n\nNumber attending: \n\n750
URL:https://coolspeak.com/event/access-college-foundation-scholarship-awards-luncheon-with-carlos-ojeda-jr/
CATEGORIES:Event
END:VEVENT
BEGIN:VEVENT
DTSTART;TZID=America/New_York:20250618T080000
DTEND;TZID=America/New_York:20250618T220000
DTSTAMP:20260422T184959
CREATED:20250606T223652Z
LAST-MODIFIED:20250618T180648Z
UID:10001889-1750233600-1750284000@coolspeak.com
SUMMARY:Nandua High School Educultural Virginia Tour
DESCRIPTION:Below are the event details: \n\nSpeaker: \n\nCustomized CoolProgram\n\n\nEvent Title: \n\nNandua High School Educultural Virginia Tour\n\n\nClient Program/Organization: \n\nState Council of Higher Education for Virginia\n\n\nEvent Description: \n\nCoolSpeaker Timon Gurung will be leading team building activities and CoolSpeaker Lamarr Womble will Keynote for the Two Day Cool Trip to Norfolk University\, Randolph-Macon College\, University of Virginia\, Richmond Black History Museum & Cultural Center.\n\n\nTheme:\n\nEducation/Cultural/Bus Trip\n\n\nStart Date:\n\n 2025-06-17\n\n\nEnd Date: \n\n2025-06-18\n\n\nStart Time: \n\n8:00 AM\n\n\nEnd Time: \n\n10:00 PM\n\n\nCity/State: \n\nOnley\, VA\n\n\nAudience: \n\nHigh School\n\n\nNumber attending: \n\n40
URL:https://coolspeak.com/event/nandua-high-school-educultural-virginia-tour-2/
CATEGORIES:Event
END:VEVENT
BEGIN:VEVENT
DTSTART;TZID=America/New_York:20250618T080000
DTEND;TZID=America/New_York:20250618T220000
DTSTAMP:20260422T184959
CREATED:20250531T080654Z
LAST-MODIFIED:20250618T180648Z
UID:10001870-1750233600-1750284000@coolspeak.com
SUMMARY:KU Summer 2025 Philadelphia GEAR UP Camp
DESCRIPTION:
URL:https://coolspeak.com/event/ku-summer-2025-philadelphia-gear-up-camp-3/
LOCATION:Kutztown\, Kutztown\, PA\, United States
CATEGORIES:Event
GEO:40.579817;-75.728247
END:VEVENT
BEGIN:VEVENT
DTSTART;TZID=America/New_York:20250618T080000
DTEND;TZID=America/New_York:20250618T220000
DTSTAMP:20260422T184959
CREATED:20250507T203447Z
LAST-MODIFIED:20250618T180648Z
UID:10001816-1750233600-1750284000@coolspeak.com
SUMMARY:Summer 2025 Philadelphia GEAR UP Camp
DESCRIPTION:Below are the event details \n\nSpeaker: Customized CoolProgram\nEvent Title: Summer 2025 Philadelphia GEAR UP Camp\nClient Program/Organization: The School District of Philadelphia\nEvent Description: CoolSpeak Team will provide a 5-Day Summer Camp that will provide: Keynote Presentations/Small Breakout Sessions and Team Building Activities.\nTheme: GEAR UP/College/Career Readiness\nStart Date: 2025-06-16\nEnd Date: 2025-06-20\nStart Time: 8:00 AM\nEnd Time: 10:00 PM\nCity/State: Kutztown\, PA\nAudience: High School\nNumber attending: 100
URL:https://coolspeak.com/event/summer-2025-philadelphia-gear-up-camp-3/
CATEGORIES:Event
END:VEVENT
BEGIN:VEVENT
DTSTART;TZID=America/New_York:20250617T143000
DTEND;TZID=America/New_York:20250617T183000
DTSTAMP:20260422T184959
CREATED:20250402T195833Z
LAST-MODIFIED:20250617T222142Z
UID:10001744-1750170600-1750185000@coolspeak.com
SUMMARY:2025 Greeley GEAR UP Summer FUNction "Own your Future"
DESCRIPTION:Below are the event details: \n\nSpeaker: \n\nJuan Cangas\n\n\nEvent Title: \n\n2025 Greeley GEAR UP Summer FUNction "Own your Future"\n\n\nClient Program/Organization: \n\nGreeley Schools\n\n\nEvent Description: \n\nJuan Cangas will be providing Student Engagement programming over the course of five days.\n\n\nTheme: \n\nStudent Engagement\, Post-Secondary Awareness\, GEAR UP.\n\n\nStart Date: \n\n2025-06-16\n\n\nEnd Date: \n\n2025-06-20\n\n\nStart Time:\n\n 12:30 PM\n\n\nEnd Time:\n\n 4:30 PM\n\n\nCity/State: \n\nGreeley\, CO\n\n\nAudience: \n\nMiddle School\n\n\nNumber attending: \n\n150
URL:https://coolspeak.com/event/2025-greeley-gear-up-summer-function-own-your-future-2/
CATEGORIES:Event
END:VEVENT
BEGIN:VEVENT
DTSTART;TZID=America/New_York:20250617T080000
DTEND;TZID=America/New_York:20250617T220000
DTSTAMP:20260422T184959
CREATED:20250606T223652Z
LAST-MODIFIED:20250618T015140Z
UID:10001888-1750147200-1750197600@coolspeak.com
SUMMARY:Nandua High School Educultural Virginia Tour
DESCRIPTION:Below are the event details: \n\nSpeaker: \n\nCustomized CoolProgram\n\n\nEvent Title: \n\nNandua High School Educultural Virginia Tour\n\n\nClient Program/Organization: \n\nState Council of Higher Education for Virginia\n\n\nEvent Description: \n\nCoolSpeaker Timon Gurung will be leading team building activities and CoolSpeaker Lamarr Womble will Keynote for the Two Day Cool Trip to Norfolk University\, Randolph-Macon College\, University of Virginia\, Richmond Black History Museum & Cultural Center.\n\n\nTheme:\n\nEducation/Cultural/Bus Trip\n\n\nStart Date:\n\n 2025-06-17\n\n\nEnd Date: \n\n2025-06-18\n\n\nStart Time: \n\n8:00 AM\n\n\nEnd Time: \n\n10:00 PM\n\n\nCity/State: \n\nOnley\, VA\n\n\nAudience: \n\nHigh School\n\n\nNumber attending: \n\n40
URL:https://coolspeak.com/event/nandua-high-school-educultural-virginia-tour/
CATEGORIES:Event
END:VEVENT
BEGIN:VEVENT
DTSTART;TZID=America/New_York:20250617T080000
DTEND;TZID=America/New_York:20250617T220000
DTSTAMP:20260422T184959
CREATED:20250531T080653Z
LAST-MODIFIED:20250618T015140Z
UID:10001869-1750147200-1750197600@coolspeak.com
SUMMARY:KU Summer 2025 Philadelphia GEAR UP Camp
DESCRIPTION:
URL:https://coolspeak.com/event/ku-summer-2025-philadelphia-gear-up-camp-2/
LOCATION:Kutztown\, Kutztown\, PA\, United States
CATEGORIES:Event
GEO:40.579817;-75.728247
END:VEVENT
BEGIN:VEVENT
DTSTART;TZID=America/New_York:20250617T080000
DTEND;TZID=America/New_York:20250617T220000
DTSTAMP:20260422T184959
CREATED:20250507T203447Z
LAST-MODIFIED:20250618T015140Z
UID:10001815-1750147200-1750197600@coolspeak.com
SUMMARY:Summer 2025 Philadelphia GEAR UP Camp
DESCRIPTION:Below are the event details \n\nSpeaker: Customized CoolProgram\nEvent Title: Summer 2025 Philadelphia GEAR UP Camp\nClient Program/Organization: The School District of Philadelphia\nEvent Description: CoolSpeak Team will provide a 5-Day Summer Camp that will provide: Keynote Presentations/Small Breakout Sessions and Team Building Activities.\nTheme: GEAR UP/College/Career Readiness\nStart Date: 2025-06-16\nEnd Date: 2025-06-20\nStart Time: 8:00 AM\nEnd Time: 10:00 PM\nCity/State: Kutztown\, PA\nAudience: High School\nNumber attending: 100
URL:https://coolspeak.com/event/summer-2025-philadelphia-gear-up-camp-2/
CATEGORIES:Event
END:VEVENT
BEGIN:VEVENT
DTSTART;VALUE=DATE:20250617
DTEND;VALUE=DATE:20250620
DTSTAMP:20260422T184959
CREATED:20250501T001937Z
LAST-MODIFIED:20250619T235144Z
UID:10001807-1750118400-1750377599@coolspeak.com
SUMMARY:Summer 2025 ASU TRiO Talent Search Financial Literacy Workshops
DESCRIPTION:Speaker:\n\nMJ Bridges\n\n\nEvent: \n\nSummer 2025 ASU TRiO Talent Search Financial Literacy Workshops\n\n\nDescription: \n\nMJ will work with do 6 workshops for TRiO Talent Search High School Students\n\n\nTheme: \n\nFinancial Literacy\n\n\nDate:  \n\n6/17/2025 – 6/19/2025\n\n\nWorkshop Start Time: \n\n9:00 AM\n\n\nAudience: \n\nProfessional\n\n\nNumber Attending: \n\n40
URL:https://coolspeak.com/event/summer-2025-asu-trio-talent-search-financial-literacy-workshops/
CATEGORIES:Event
END:VEVENT
BEGIN:VEVENT
DTSTART;TZID=America/New_York:20250616T143000
DTEND;TZID=America/New_York:20250616T183000
DTSTAMP:20260422T184959
CREATED:20250402T195833Z
LAST-MODIFIED:20250616T172143Z
UID:10001743-1750084200-1750098600@coolspeak.com
SUMMARY:2025 Greeley GEAR UP Summer FUNction "Own your Future"
DESCRIPTION:Below are the event details: \n\nSpeaker: \n\nJuan Cangas\n\n\nEvent Title: \n\n2025 Greeley GEAR UP Summer FUNction “Own your Future”\n\n\nClient Program/Organization: \n\nGreeley Schools\n\n\nEvent Description: \n\nJuan Cangas will be providing Student Engagement programming over the course of five days.\n\n\nTheme: \n\nStudent Engagement\, Post-Secondary Awareness\, GEAR UP.\n\n\nStart Date: \n\n2025-06-16\n\n\nEnd Date: \n\n2025-06-20\n\n\nStart Time:\n\n 12:30 PM\n\n\nEnd Time:\n\n 4:30 PM\n\n\nCity/State: \n\nGreeley\, CO\n\n\nAudience: \n\nMiddle School\n\n\nNumber attending: \n\n150
URL:https://coolspeak.com/event/2025-greeley-gear-up-summer-function-own-your-future/
CATEGORIES:Event
END:VEVENT
BEGIN:VEVENT
DTSTART;TZID=America/New_York:20250616T080000
DTEND;TZID=America/New_York:20250616T220000
DTSTAMP:20260422T184959
CREATED:20250531T080653Z
LAST-MODIFIED:20250616T172143Z
UID:10001868-1750060800-1750111200@coolspeak.com
SUMMARY:KU Summer 2025 Philadelphia GEAR UP Camp
DESCRIPTION:
URL:https://coolspeak.com/event/ku-summer-2025-philadelphia-gear-up-camp/
LOCATION:Kutztown\, Kutztown\, PA\, United States
CATEGORIES:Event
GEO:40.579817;-75.728247
END:VEVENT
BEGIN:VEVENT
DTSTART;TZID=America/New_York:20250616T080000
DTEND;TZID=America/New_York:20250616T220000
DTSTAMP:20260422T184959
CREATED:20250507T203447Z
LAST-MODIFIED:20250616T172143Z
UID:10001814-1750060800-1750111200@coolspeak.com
SUMMARY:Summer 2025 Philadelphia GEAR UP Camp
DESCRIPTION:Below are the event details \n\nSpeaker: Customized CoolProgram\nEvent Title: Summer 2025 Philadelphia GEAR UP Camp\nClient Program/Organization: The School District of Philadelphia\nEvent Description: CoolSpeak Team will provide a 5-Day Summer Camp that will provide: Keynote Presentations/Small Breakout Sessions and Team Building Activities.\nTheme: GEAR UP/College/Career Readiness\nStart Date: 2025-06-16\nEnd Date: 2025-06-20\nStart Time: 8:00 AM\nEnd Time: 10:00 PM\nCity/State: Kutztown\, PA\nAudience: High School\nNumber attending: 100
URL:https://coolspeak.com/event/summer-2025-philadelphia-gear-up-camp/
CATEGORIES:Event
END:VEVENT
BEGIN:VEVENT
DTSTART;VALUE=DATE:20250616
DTEND;VALUE=DATE:20250617
DTSTAMP:20260422T184959
CREATED:20250319T182745Z
LAST-MODIFIED:20250616T172143Z
UID:10001718-1750032000-1750118399@coolspeak.com
SUMMARY:Nandua High School Educultural Tour
DESCRIPTION:Below are the event details: \n\nSpeaker: Customized CoolProgram\nEvent Title: Nandua High School Educultural Tour\nClient Program/Organization: State Council of Higher Education for Virginia\nEvent Description: Two Day Cool Trip\nTheme:\nStart Date: 2025-06-16\nEnd Date: 2025-06-17\nStart Time:\nEnd Time:\nCity/State: Onley\, VA\nAudience:\nNumber attending: 0
URL:https://coolspeak.com/event/nandua-high-school-educultural-tour/
CATEGORIES:Event
END:VEVENT
BEGIN:VEVENT
DTSTART;TZID=America/New_York:20250613T093000
DTEND;TZID=America/New_York:20250613T170000
DTSTAMP:20260422T184959
CREATED:20250516T011712Z
LAST-MODIFIED:20250613T200648Z
UID:10001838-1749807000-1749834000@coolspeak.com
SUMMARY:Granite SD GEAR UP 2 Day Summer Program
DESCRIPTION:Speakers: \n\nNatasha Carrizosa\nLilyan Prado-Carrillo\n\n\nEvent: \n\n2025 Granite SD 7th Year Summer Program\n\n\nDescription: \n\nfocus on connecting students to careers as they transition out of GEAR UP at the end of their seventh year\n\n\nTheme: \n\nCareer Readiness\n\n\nDate:  \n\n6/13/2025\n\n\nPresentation Start Time:  \n\n9:30 AM\n\n\nWorkshop Start Time: \n\n10:30 AM\n\n\nAudience: \n\nCollege\n\n\nNumber Attending: \n\n100
URL:https://coolspeak.com/event/granite-sd-gear-up-2-day-summer-program-3/
CATEGORIES:Event
END:VEVENT
BEGIN:VEVENT
DTSTART;TZID=America/New_York:20250612T140000
DTEND;TZID=America/New_York:20250612T150000
DTSTAMP:20260422T184959
CREATED:20250307T164317Z
LAST-MODIFIED:20250612T180638Z
UID:10001699-1749736800-1749740400@coolspeak.com
SUMMARY:2025 Kansas Youth Advisory Council (KYAC) Summer Conference
DESCRIPTION:Speaker: \n\nCarlos Ojeda Jr.\n\n\nEvent Title: \n\n2025 Kansas Youth Advisory Council (KYAC) Summer Conference\n\n\nClient Program/Organization: \n\nDCCCA\n\n\nEvent Description:\n\n Carlos Ojeda Jr. will provide a Keynote Presentation for the Youth and Young Adults.\n\n\nTheme: \n\nYouth Advisory Council. Leadership. Youth Empowerment.\n\n\nStart Date:\n\n 2025-06-12\n\n\nEnd Date: \n\n2025-06-12\n\n\nStart Time: \n\n2:00 PM\n\n\nEnd Time: \n\n3:00 PM\n\n\nCity/State: \n\nWichita\, KS\n\n\nAudience: \n\nHigh School\n\n\nNumber attending: \n\n100
URL:https://coolspeak.com/event/2025-kansas-youth-advisory-council-kyac-summer-conference/
CATEGORIES:Event
END:VEVENT
BEGIN:VEVENT
DTSTART;TZID=America/New_York:20250612T100000
DTEND;TZID=America/New_York:20250612T133000
DTSTAMP:20260422T184959
CREATED:20250606T023722Z
LAST-MODIFIED:20250612T170643Z
UID:10001879-1749722400-1749735000@coolspeak.com
SUMMARY:Education Service Center Region 19 Head Start
DESCRIPTION:Speaker:\n\nDr. Laura Rizo\n\n\nEvent: \n\nEducation Service Center Region 19 Head Start\n\n\nDescription: \n\nDr. Rizo will deliver her keynote to the parents of Region 19\n\n\nDate:  \n\n6/12/2025\n\n\nPresentation Start Time:  \n\n9:00 AM\n\n\nAudience: \n\nParents\n\n\nNumber Attending: \n\n350
URL:https://coolspeak.com/event/education-service-center-region-19-head-start/
CATEGORIES:Event
END:VEVENT
BEGIN:VEVENT
DTSTART;TZID=America/New_York:20250612T093000
DTEND;TZID=America/New_York:20250612T170000
DTSTAMP:20260422T184959
CREATED:20250516T011712Z
LAST-MODIFIED:20250612T200643Z
UID:10001837-1749720600-1749747600@coolspeak.com
SUMMARY:Granite SD GEAR UP 2 Day Summer Program
DESCRIPTION:Speakers: \n\nNatasha Carrizosa\nLilyan Prado-Carrillo\n\n\nEvent: \n\n2025 Granite SD 7th Year Summer Program\n\n\nDescription: \n\nfocus on connecting students to careers as they transition out of GEAR UP at the end of their seventh year\n\n\nTheme: \n\nCareer Readiness\n\n\nDate:  \n\n6/12/2025\n\n\nPresentation Start Time:  \n\n9:30 AM\n\n\nWorkshop Start Time: \n\n10:30 AM\n\n\nAudience: \n\nCollege\n\n\nNumber Attending: \n\n100
URL:https://coolspeak.com/event/granite-sd-gear-up-2-day-summer-program-2/
CATEGORIES:Event
END:VEVENT
BEGIN:VEVENT
DTSTART;TZID=America/New_York:20250612T083000
DTEND;TZID=America/New_York:20250612T150000
DTSTAMP:20260422T184959
CREATED:20250508T233417Z
LAST-MODIFIED:20250612T180638Z
UID:10001830-1749717000-1749740400@coolspeak.com
SUMMARY:2025 SLiCK King City Summer Camp
DESCRIPTION:
URL:https://coolspeak.com/event/2025-slick-king-city-summer-camp-9/
LOCATION:King City\, CA
CATEGORIES:Event
END:VEVENT
BEGIN:VEVENT
DTSTART;TZID=America/New_York:20250611T093000
DTEND;TZID=America/New_York:20250611T170000
DTSTAMP:20260422T184959
CREATED:20250516T001713Z
LAST-MODIFIED:20250611T202149Z
UID:10001836-1749634200-1749661200@coolspeak.com
SUMMARY:Granite SD GEAR UP 2 Day Summer Program
DESCRIPTION:Speakers: \n\nNatasha Carrizosa\nLilyan Prado-Carrillo\n\n\nEvent: \n\n2025 Granite SD 7th Year Summer Program\n\n\nDescription: \n\nfocus on connecting students to careers as they transition out of GEAR UP at the end of their seventh year\n\n\nTheme: \n\nCareer Readiness\n\n\nDate:  \n\n6/11/2025\n\n\nPresentation Start Time:  \n\n9:30 AM\n\n\nWorkshop Start Time: \n\n10:30 AM\n\n\nAudience: \n\nCollege\n\n\nNumber Attending: \n\n100
URL:https://coolspeak.com/event/granite-sd-gear-up-2-day-summer-program/
CATEGORIES:Event
END:VEVENT
BEGIN:VEVENT
DTSTART;TZID=America/New_York:20250611T090000
DTEND;TZID=America/New_York:20250611T150000
DTSTAMP:20260422T184959
CREATED:20250514T170211Z
LAST-MODIFIED:20250611T182223Z
UID:10001835-1749632400-1749654000@coolspeak.com
SUMMARY:San Elizario 2 Day Summer Program
DESCRIPTION:
URL:https://coolspeak.com/event/san-elizario-2-day-summer-program-2/
LOCATION:San Elizario\, TX\, USA
CATEGORIES:Event
END:VEVENT
BEGIN:VEVENT
DTSTART;TZID=America/New_York:20250611T083000
DTEND;TZID=America/New_York:20250611T153000
DTSTAMP:20260422T184959
CREATED:20250402T195833Z
LAST-MODIFIED:20250611T192147Z
UID:10001742-1749630600-1749655800@coolspeak.com
SUMMARY:2025 SLiCK King City Summer Camp
DESCRIPTION:Below are the event details \n\nSpeaker: \n\nCustomized CoolProgram\n\n\nEvent Title: \n\n2025 SLiCK Program EAS Inc.\n\n\nClient Program/Organization:\n\n Educational Achievement Services\, Inc.\n\n\nEvent Description:\n\n CoolSpeak will provide a Three Day Summer Camp.\n\n\nTheme: \n\nSoul\, Leadership\, Identity\, Culture\, Knowledge\n\n\nStart Date: \n\n2025-06-09\n\n\nEnd Date: \n\n2025-06-11\n\n\nStart Time:\n\n 8:30 AM\n\n\nEnd Time: \n\n3:30 PM\n\n\nCity/State: \n\nKing City\, CA\n\n\nAudience: \n\nHigh School\n\n\nNumber attending:\n\n 50
URL:https://coolspeak.com/event/2025-slick-king-city-summer-camp-6/
LOCATION:King City\, CA\, USA
CATEGORIES:Event
END:VEVENT
BEGIN:VEVENT
DTSTART;TZID=America/New_York:20250611T083000
DTEND;TZID=America/New_York:20250611T153000
DTSTAMP:20260422T184959
CREATED:20250328T224149Z
LAST-MODIFIED:20250402T184230Z
UID:10001736-1749630600-1749655800@coolspeak.com
SUMMARY:2025 SLiCK King City Summer Camp
DESCRIPTION:
URL:https://coolspeak.com/event/2025-slick-king-city-summer-camp-3/
LOCATION:King City\, CA\, USA
CATEGORIES:Event
END:VEVENT
BEGIN:VEVENT
DTSTART;TZID=America/New_York:20250611T083000
DTEND;TZID=America/New_York:20250611T150000
DTSTAMP:20260422T184959
CREATED:20250508T233417Z
LAST-MODIFIED:20250611T182223Z
UID:10001829-1749630600-1749654000@coolspeak.com
SUMMARY:2025 SLiCK King City Summer Camp
DESCRIPTION:
URL:https://coolspeak.com/event/2025-slick-king-city-summer-camp-8/
LOCATION:King City\, CA
CATEGORIES:Event
END:VEVENT
BEGIN:VEVENT
DTSTART;TZID=America/New_York:20250611T080000
DTEND;TZID=America/New_York:20250611T150000
DTSTAMP:20260422T184959
CREATED:20250411T155653Z
LAST-MODIFIED:20250611T182223Z
UID:10001773-1749628800-1749654000@coolspeak.com
SUMMARY:2025 Appalachian State University GEAR UP April\, May\, and June
DESCRIPTION:Speaker:\n\nJoaquin Zihuatanejo\n\n\nEvent Title: \n\n2025 Appalachian State University GEAR UP April\, May\, and June Programming with Joaquin Zihuatanejo and Chris Collins.\n\n\nClient Program/Organization: \n\nAppalachian State University\n\n\nEvent Description: \n\nCoolSpeakers Chris Collins and Joaquin Zihuatanejo will provide Student Assemblies and Writing Classroom Takeovers for Students.\n\n\nTheme: \n\nLeadership/Self Expression/GEAR UP/Education\n\n\nStart Date: \n\n2025-04-28\n\n\nEnd Date: \n\n2025-06-11\n\n\nStart Time:\n\n8:00 AM\n\n\nEnd Time: \n\n3:00 PM\n\n\nCity/State:\n\n Boone\, NC\n\n\nAudience: \n\nHigh School\n\n\nNumber attending: \n\n4000
URL:https://coolspeak.com/event/2025-appalachian-state-university-gear-up-april-may-and-june-11/
CATEGORIES:Event
END:VEVENT
BEGIN:VEVENT
DTSTART;VALUE=DATE:20250611
DTEND;VALUE=DATE:20250613
DTSTAMP:20260422T184959
CREATED:20250605T022157Z
LAST-MODIFIED:20250612T232223Z
UID:10001875-1749600000-1749772799@coolspeak.com
SUMMARY:2025 Wallace Community College Summer Program
DESCRIPTION:Speaker:\n\nMJ Bridges\n\n\nEvent: \n\n2025 Wallace Community College Summer Program\n\n\nDescription: \n\nMJ will work with the students of Wallace Community College over two days on financial literacy\n\n\nTheme: \n\nFinancial Literacy\n\n\nDate:  \n\n6/11/2025\n\n\nPresentation Start Time:  \n\nN/A\n\n\nWorkshop Start Time: \n\n9:00 AM\n\n\nAudience: \n\nHigh School\n\n\nNumber Attending: \n\n40
URL:https://coolspeak.com/event/2025-wallace-community-college-summer-program/
CATEGORIES:Event
END:VEVENT
BEGIN:VEVENT
DTSTART;TZID=America/New_York:20250610T090000
DTEND;TZID=America/New_York:20250610T150000
DTSTAMP:20260422T184959
CREATED:20250514T170211Z
LAST-MODIFIED:20250610T182202Z
UID:10001834-1749546000-1749567600@coolspeak.com
SUMMARY:San Elizario 2 Day Summer Program
DESCRIPTION:
URL:https://coolspeak.com/event/san-elizario-2-day-summer-program/
LOCATION:San Elizario\, TX\, USA
CATEGORIES:Event
END:VEVENT
BEGIN:VEVENT
DTSTART;TZID=America/New_York:20250610T090000
DTEND;TZID=America/New_York:20250610T110000
DTSTAMP:20260422T184959
CREATED:20250609T215143Z
LAST-MODIFIED:20250610T140654Z
UID:10001891-1749546000-1749553200@coolspeak.com
SUMMARY:Financial Literacy Programming with MJ Bridges.
DESCRIPTION:Below are the event details: \n\nSpeaker: \n\nMelvin Bridges Jr.\n\n\nEvent Title: \n\nFinancial Literacy Programming with MJ Bridges.\n\n\nClient Program/Organization: \n\nLead\, Follow of Get Out of the Way (LFGOTW)\n\n\nEvent Description:\n\n MJ Bridges will provide a Two-Hour Financial Literacy Program for Middle School Students.\n\n\nTheme: \n\nFinancial Literacy\n\n\nStart Date: \n\n2025-06-10\n\n\nEnd Date: \n\n2025-06-10\n\n\nStart Time: \n\n9:00 AM\n\n\nEnd Time: \n\n11:00 AM\n\n\nCity/State:\n\nBlytheville\, AR\n\n\nAudience: \n\nMiddle School\n\n\nNumber attending: \n\n35
URL:https://coolspeak.com/event/financial-literacy-programming-with-mj-bridges/
CATEGORIES:Event
END:VEVENT
BEGIN:VEVENT
DTSTART;TZID=America/New_York:20250610T083000
DTEND;TZID=America/New_York:20250610T153000
DTSTAMP:20260422T184959
CREATED:20250402T195833Z
LAST-MODIFIED:20250610T192149Z
UID:10001741-1749544200-1749569400@coolspeak.com
SUMMARY:2025 SLiCK King City Summer Camp
DESCRIPTION:Below are the event details \n\nSpeaker: \n\nCustomized CoolProgram\n\n\nEvent Title: \n\n2025 SLiCK Program EAS Inc.\n\n\nClient Program/Organization:\n\n Educational Achievement Services\, Inc.\n\n\nEvent Description:\n\n CoolSpeak will provide a Three Day Summer Camp.\n\n\nTheme: \n\nSoul\, Leadership\, Identity\, Culture\, Knowledge\n\n\nStart Date: \n\n2025-06-09\n\n\nEnd Date: \n\n2025-06-11\n\n\nStart Time:\n\n 8:30 AM\n\n\nEnd Time: \n\n3:30 PM\n\n\nCity/State: \n\nKing City\, CA\n\n\nAudience: \n\nHigh School\n\n\nNumber attending:\n\n 50
URL:https://coolspeak.com/event/2025-slick-king-city-summer-camp-5/
LOCATION:King City\, CA\, USA
CATEGORIES:Event
END:VEVENT
END:VCALENDAR