BEGIN:VCALENDAR
VERSION:2.0
PRODID:-//CoolSpeak - ECPv6.15.18//NONSGML v1.0//EN
CALSCALE:GREGORIAN
METHOD:PUBLISH
X-WR-CALNAME:CoolSpeak
X-ORIGINAL-URL:https://coolspeak.com
X-WR-CALDESC:Events for CoolSpeak
REFRESH-INTERVAL;VALUE=DURATION:PT1H
X-Robots-Tag:noindex
X-PUBLISHED-TTL:PT1H
BEGIN:VTIMEZONE
TZID:America/New_York
BEGIN:DAYLIGHT
TZOFFSETFROM:-0500
TZOFFSETTO:-0400
TZNAME:EDT
DTSTART:20240310T070000
END:DAYLIGHT
BEGIN:STANDARD
TZOFFSETFROM:-0400
TZOFFSETTO:-0500
TZNAME:EST
DTSTART:20241103T060000
END:STANDARD
BEGIN:DAYLIGHT
TZOFFSETFROM:-0500
TZOFFSETTO:-0400
TZNAME:EDT
DTSTART:20250309T070000
END:DAYLIGHT
BEGIN:STANDARD
TZOFFSETFROM:-0400
TZOFFSETTO:-0500
TZNAME:EST
DTSTART:20251102T060000
END:STANDARD
BEGIN:DAYLIGHT
TZOFFSETFROM:-0500
TZOFFSETTO:-0400
TZNAME:EDT
DTSTART:20260308T070000
END:DAYLIGHT
BEGIN:STANDARD
TZOFFSETFROM:-0400
TZOFFSETTO:-0500
TZNAME:EST
DTSTART:20261101T060000
END:STANDARD
END:VTIMEZONE
BEGIN:VEVENT
DTSTART;TZID=America/New_York:20250611T083000
DTEND;TZID=America/New_York:20250611T153000
DTSTAMP:20260422T180317
CREATED:20250328T224149Z
LAST-MODIFIED:20250402T184230Z
UID:10001736-1749630600-1749655800@coolspeak.com
SUMMARY:2025 SLiCK King City Summer Camp
DESCRIPTION:
URL:https://coolspeak.com/event/2025-slick-king-city-summer-camp-3/
LOCATION:King City\, CA\, USA
CATEGORIES:Event
END:VEVENT
BEGIN:VEVENT
DTSTART;TZID=America/New_York:20250611T083000
DTEND;TZID=America/New_York:20250611T150000
DTSTAMP:20260422T180317
CREATED:20250508T233417Z
LAST-MODIFIED:20250611T182223Z
UID:10001829-1749630600-1749654000@coolspeak.com
SUMMARY:2025 SLiCK King City Summer Camp
DESCRIPTION:
URL:https://coolspeak.com/event/2025-slick-king-city-summer-camp-8/
LOCATION:King City\, CA
CATEGORIES:Event
END:VEVENT
BEGIN:VEVENT
DTSTART;TZID=America/New_York:20250611T080000
DTEND;TZID=America/New_York:20250611T150000
DTSTAMP:20260422T180317
CREATED:20250411T155653Z
LAST-MODIFIED:20250611T182223Z
UID:10001773-1749628800-1749654000@coolspeak.com
SUMMARY:2025 Appalachian State University GEAR UP April\, May\, and June
DESCRIPTION:Speaker:\n\nJoaquin Zihuatanejo\n\n\nEvent Title: \n\n2025 Appalachian State University GEAR UP April\, May\, and June Programming with Joaquin Zihuatanejo and Chris Collins.\n\n\nClient Program/Organization: \n\nAppalachian State University\n\n\nEvent Description: \n\nCoolSpeakers Chris Collins and Joaquin Zihuatanejo will provide Student Assemblies and Writing Classroom Takeovers for Students.\n\n\nTheme: \n\nLeadership/Self Expression/GEAR UP/Education\n\n\nStart Date: \n\n2025-04-28\n\n\nEnd Date: \n\n2025-06-11\n\n\nStart Time:\n\n8:00 AM\n\n\nEnd Time: \n\n3:00 PM\n\n\nCity/State:\n\n Boone\, NC\n\n\nAudience: \n\nHigh School\n\n\nNumber attending: \n\n4000
URL:https://coolspeak.com/event/2025-appalachian-state-university-gear-up-april-may-and-june-11/
CATEGORIES:Event
END:VEVENT
BEGIN:VEVENT
DTSTART;VALUE=DATE:20250611
DTEND;VALUE=DATE:20250613
DTSTAMP:20260422T180317
CREATED:20250605T022157Z
LAST-MODIFIED:20250612T232223Z
UID:10001875-1749600000-1749772799@coolspeak.com
SUMMARY:2025 Wallace Community College Summer Program
DESCRIPTION:Speaker:\n\nMJ Bridges\n\n\nEvent: \n\n2025 Wallace Community College Summer Program\n\n\nDescription: \n\nMJ will work with the students of Wallace Community College over two days on financial literacy\n\n\nTheme: \n\nFinancial Literacy\n\n\nDate:  \n\n6/11/2025\n\n\nPresentation Start Time:  \n\nN/A\n\n\nWorkshop Start Time: \n\n9:00 AM\n\n\nAudience: \n\nHigh School\n\n\nNumber Attending: \n\n40
URL:https://coolspeak.com/event/2025-wallace-community-college-summer-program/
CATEGORIES:Event
END:VEVENT
BEGIN:VEVENT
DTSTART;TZID=America/New_York:20250610T090000
DTEND;TZID=America/New_York:20250610T150000
DTSTAMP:20260422T180317
CREATED:20250514T170211Z
LAST-MODIFIED:20250610T182202Z
UID:10001834-1749546000-1749567600@coolspeak.com
SUMMARY:San Elizario 2 Day Summer Program
DESCRIPTION:
URL:https://coolspeak.com/event/san-elizario-2-day-summer-program/
LOCATION:San Elizario\, TX\, USA
CATEGORIES:Event
END:VEVENT
BEGIN:VEVENT
DTSTART;TZID=America/New_York:20250610T090000
DTEND;TZID=America/New_York:20250610T110000
DTSTAMP:20260422T180317
CREATED:20250609T215143Z
LAST-MODIFIED:20250610T140654Z
UID:10001891-1749546000-1749553200@coolspeak.com
SUMMARY:Financial Literacy Programming with MJ Bridges.
DESCRIPTION:Below are the event details: \n\nSpeaker: \n\nMelvin Bridges Jr.\n\n\nEvent Title: \n\nFinancial Literacy Programming with MJ Bridges.\n\n\nClient Program/Organization: \n\nLead\, Follow of Get Out of the Way (LFGOTW)\n\n\nEvent Description:\n\n MJ Bridges will provide a Two-Hour Financial Literacy Program for Middle School Students.\n\n\nTheme: \n\nFinancial Literacy\n\n\nStart Date: \n\n2025-06-10\n\n\nEnd Date: \n\n2025-06-10\n\n\nStart Time: \n\n9:00 AM\n\n\nEnd Time: \n\n11:00 AM\n\n\nCity/State:\n\nBlytheville\, AR\n\n\nAudience: \n\nMiddle School\n\n\nNumber attending: \n\n35
URL:https://coolspeak.com/event/financial-literacy-programming-with-mj-bridges/
CATEGORIES:Event
END:VEVENT
BEGIN:VEVENT
DTSTART;TZID=America/New_York:20250610T083000
DTEND;TZID=America/New_York:20250610T153000
DTSTAMP:20260422T180317
CREATED:20250402T195833Z
LAST-MODIFIED:20250610T192149Z
UID:10001741-1749544200-1749569400@coolspeak.com
SUMMARY:2025 SLiCK King City Summer Camp
DESCRIPTION:Below are the event details \n\nSpeaker: \n\nCustomized CoolProgram\n\n\nEvent Title: \n\n2025 SLiCK Program EAS Inc.\n\n\nClient Program/Organization:\n\n Educational Achievement Services\, Inc.\n\n\nEvent Description:\n\n CoolSpeak will provide a Three Day Summer Camp.\n\n\nTheme: \n\nSoul\, Leadership\, Identity\, Culture\, Knowledge\n\n\nStart Date: \n\n2025-06-09\n\n\nEnd Date: \n\n2025-06-11\n\n\nStart Time:\n\n 8:30 AM\n\n\nEnd Time: \n\n3:30 PM\n\n\nCity/State: \n\nKing City\, CA\n\n\nAudience: \n\nHigh School\n\n\nNumber attending:\n\n 50
URL:https://coolspeak.com/event/2025-slick-king-city-summer-camp-5/
LOCATION:King City\, CA\, USA
CATEGORIES:Event
END:VEVENT
BEGIN:VEVENT
DTSTART;TZID=America/New_York:20250610T083000
DTEND;TZID=America/New_York:20250610T153000
DTSTAMP:20260422T180317
CREATED:20250328T224149Z
LAST-MODIFIED:20250402T184230Z
UID:10001735-1749544200-1749569400@coolspeak.com
SUMMARY:2025 SLiCK King City Summer Camp
DESCRIPTION:
URL:https://coolspeak.com/event/2025-slick-king-city-summer-camp-2/
LOCATION:King City\, CA\, USA
CATEGORIES:Event
END:VEVENT
BEGIN:VEVENT
DTSTART;TZID=America/New_York:20250610T083000
DTEND;TZID=America/New_York:20250610T150000
DTSTAMP:20260422T180317
CREATED:20250508T233417Z
LAST-MODIFIED:20250610T182202Z
UID:10001828-1749544200-1749567600@coolspeak.com
SUMMARY:2025 SLiCK King City Summer Camp
DESCRIPTION:
URL:https://coolspeak.com/event/2025-slick-king-city-summer-camp-7/
LOCATION:King City\, CA
CATEGORIES:Event
END:VEVENT
BEGIN:VEVENT
DTSTART;TZID=America/New_York:20250610T080000
DTEND;TZID=America/New_York:20250610T150000
DTSTAMP:20260422T180317
CREATED:20250411T155653Z
LAST-MODIFIED:20250610T182202Z
UID:10001772-1749542400-1749567600@coolspeak.com
SUMMARY:2025 Appalachian State University GEAR UP April\, May\, and June
DESCRIPTION:Speaker:\n\nJoaquin Zihuatanejo\n\n\nEvent Title: \n\n2025 Appalachian State University GEAR UP April\, May\, and June Programming with Joaquin Zihuatanejo and Chris Collins.\n\n\nClient Program/Organization: \n\nAppalachian State University\n\n\nEvent Description: \n\nCoolSpeakers Chris Collins and Joaquin Zihuatanejo will provide Student Assemblies and Writing Classroom Takeovers for Students.\n\n\nTheme: \n\nLeadership/Self Expression/GEAR UP/Education\n\n\nStart Date: \n\n2025-04-28\n\n\nEnd Date: \n\n2025-06-11\n\n\nStart Time:\n\n8:00 AM\n\n\nEnd Time: \n\n3:00 PM\n\n\nCity/State:\n\n Boone\, NC\n\n\nAudience: \n\nHigh School\n\n\nNumber attending: \n\n4000
URL:https://coolspeak.com/event/2025-appalachian-state-university-gear-up-april-may-and-june-10/
CATEGORIES:Event
END:VEVENT
BEGIN:VEVENT
DTSTART;TZID=America/New_York:20250609T083000
DTEND;TZID=America/New_York:20250609T153000
DTSTAMP:20260422T180317
CREATED:20250402T195833Z
LAST-MODIFIED:20250609T183703Z
UID:10001740-1749457800-1749483000@coolspeak.com
SUMMARY:2025 SLiCK King City Summer Camp
DESCRIPTION:Below are the event details \n\nSpeaker: \n\nCustomized CoolProgram\n\n\nEvent Title: \n\n2025 SLiCK Program EAS Inc.\n\n\nClient Program/Organization:\n\n Educational Achievement Services\, Inc.\n\n\nEvent Description:\n\n CoolSpeak will provide a Three Day Summer Camp.\n\n\nTheme: \n\nSoul\, Leadership\, Identity\, Culture\, Knowledge\n\n\nStart Date: \n\n2025-06-09\n\n\nEnd Date: \n\n2025-06-11\n\n\nStart Time:\n\n 8:30 AM\n\n\nEnd Time: \n\n3:30 PM\n\n\nCity/State: \n\nKing City\, CA\n\n\nAudience: \n\nHigh School\n\n\nNumber attending:\n\n 50
URL:https://coolspeak.com/event/2025-slick-king-city-summer-camp-4/
LOCATION:King City\, CA\, USA
CATEGORIES:Event
END:VEVENT
BEGIN:VEVENT
DTSTART;TZID=America/New_York:20250609T083000
DTEND;TZID=America/New_York:20250609T153000
DTSTAMP:20260422T180317
CREATED:20250328T224149Z
LAST-MODIFIED:20250402T184230Z
UID:10001734-1749457800-1749483000@coolspeak.com
SUMMARY:2025 SLiCK King City Summer Camp
DESCRIPTION:
URL:https://coolspeak.com/event/2025-slick-king-city-summer-camp/
LOCATION:King City\, CA\, USA
CATEGORIES:Event
END:VEVENT
BEGIN:VEVENT
DTSTART;TZID=America/New_York:20250608T120000
DTEND;TZID=America/New_York:20250608T210000
DTSTAMP:20260422T180317
CREATED:20250429T040429Z
LAST-MODIFIED:20250609T000740Z
UID:10001797-1749384000-1749416400@coolspeak.com
SUMMARY:2025 MASC Summer Keynote W. Zach
DESCRIPTION:Speaker: \n\nZach Gowen\n\n\nEvent: \n\n2025 MASC Summer Keynote W. Zach\n\n\nDescription: \n\nZach will provide his keynote on the 1st day of summer camp for Student Council Students\n\n\nDate:  \n\n6/8/2025\n\n\nPresentation Start Time:  \n\n7:00 PM\n\n\nAudience: \n\nHigh School
URL:https://coolspeak.com/event/2025-masc-summer-keynote-w-zach/
CATEGORIES:Event
END:VEVENT
BEGIN:VEVENT
DTSTART;TZID=America/New_York:20250606T093000
DTEND;TZID=America/New_York:20250606T150000
DTSTAMP:20260422T180317
CREATED:20250522T172141Z
LAST-MODIFIED:20250606T182142Z
UID:10001855-1749202200-1749222000@coolspeak.com
SUMMARY:2025 Atlanta Housing Authority Financial Literacy Programming
DESCRIPTION:Below are the event details \n\nSpeaker: \n\nMelvin Bridges Jr.\n\n\nEvent Title:\n\n2025 Atlanta Housing Authority Financial Literacy Programming with MJ Bridges\n\n\nClient Program/Organization: \n\nAtlanta Housing Authority\n\n\nEvent Description:\n\n MJ Bridges will provide two days of Financial Literacy Programming with Students.\n\n\nTheme: \n\nFinancial Literacy\n\n\nStart Date: \n\n2025-06-05\n\n\nEnd Date: \n\n2025-06-06\n\n\nStart Time: \n\n9:30 AM\n\n\nEnd Time: \n\n3:00 PM\n\n\nCity/State: \n\nAtlanta\, GA\n\n\nAudience:\n\n College\n\n\nNumber attending:\n\n 20
URL:https://coolspeak.com/event/2025-atlanta-housing-authority-financial-literacy-programming-2/
CATEGORIES:Event
END:VEVENT
BEGIN:VEVENT
DTSTART;TZID=America/New_York:20250606T083000
DTEND;TZID=America/New_York:20250606T153000
DTSTAMP:20260422T180317
CREATED:20250508T233416Z
LAST-MODIFIED:20250606T192142Z
UID:10001827-1749198600-1749223800@coolspeak.com
SUMMARY:2025 SLiCK YUMA Five Day Summer Camp
DESCRIPTION:Speaker: Customized CoolProgram\nEvent Title: 2025 SLiCK Program EAS Inc.\nClient Program/Organization: Educational Achievement Services\, Inc.\nEvent Description: CoolSpeak will provide a Five Day Summer Camp.\nTheme: Soul\, Leadership\, Identity\, Culture\, Knowledge\nStart Date: 2025-06-02\nEnd Date: 2025-06-06\nStart Time: 8:30 AM\nEnd Time: 3:30 PM\nCity/State: Yuma\, AZ\nAudience: High School\nNumber attending: 50
URL:https://coolspeak.com/event/2025-slick-yuma-five-day-summer-camp-5/
LOCATION:Yuma\, AZ\, USA
CATEGORIES:Event
END:VEVENT
BEGIN:VEVENT
DTSTART;TZID=America/New_York:20250606T083000
DTEND;TZID=America/New_York:20250606T150000
DTSTAMP:20260422T180317
CREATED:20250328T212653Z
LAST-MODIFIED:20250606T182142Z
UID:10001733-1749198600-1749222000@coolspeak.com
SUMMARY:2025 College of Southern Idaho Summer Program
DESCRIPTION:
URL:https://coolspeak.com/event/2025-college-of-southern-idaho-summer-program-5/
LOCATION:Idaho\, USA
CATEGORIES:Event
END:VEVENT
BEGIN:VEVENT
DTSTART;TZID=America/New_York:20250606T080000
DTEND;TZID=America/New_York:20250606T140000
DTSTAMP:20260422T180317
CREATED:20250314T181245Z
LAST-MODIFIED:20250606T172151Z
UID:10001711-1749196800-1749218400@coolspeak.com
SUMMARY:2025 June HISPA Youth Conference with Carlos Ojeda Jr
DESCRIPTION:Below are the event details \n\nSpeaker: \n\nCarlos Ojeda Jr.\n\n\nEvent Title:\n\n 2025 June HISPA Youth Conference with Carlos Ojeda Jr.\n\n\nClient Program/Organization: \n\nHISPA\n\n\nEvent Description:\n\n Carlos Ojeda Jr. will provide a Keynote Presentation for Middle\, High and College Students.\n\n\nTheme: \n\nLeadership/Mentoring/Role Models\n\n\nStart Date:\n\n 2025-06-06\n\n\nEnd Date:\n\n 2025-06-06\n\n\nStart Time: \n\n8:00 AM\n\n\nEnd Time:\n\n 2:00 PM\n\n\nCity/State: \n\nPrinceton\, NJ\n\n\nAudience: \n\nMiddle School\n\n\nNumber attending:\n\n 150
URL:https://coolspeak.com/event/2025-june-hispa-youth-conference-with-carlos-ojeda-jr/
CATEGORIES:Event
END:VEVENT
BEGIN:VEVENT
DTSTART;TZID=America/New_York:20250605T093000
DTEND;TZID=America/New_York:20250605T150000
DTSTAMP:20260422T180317
CREATED:20250522T172141Z
LAST-MODIFIED:20250605T180703Z
UID:10001854-1749115800-1749135600@coolspeak.com
SUMMARY:2025 Atlanta Housing Authority Financial Literacy Programming
DESCRIPTION:Below are the event details \n\nSpeaker: \n\nMelvin Bridges Jr.\n\n\nEvent Title:\n\n2025 Atlanta Housing Authority Financial Literacy Programming with MJ Bridges\n\n\nClient Program/Organization: \n\nAtlanta Housing Authority\n\n\nEvent Description:\n\n MJ Bridges will provide two days of Financial Literacy Programming with Students.\n\n\nTheme: \n\nFinancial Literacy\n\n\nStart Date: \n\n2025-06-05\n\n\nEnd Date: \n\n2025-06-06\n\n\nStart Time: \n\n9:30 AM\n\n\nEnd Time: \n\n3:00 PM\n\n\nCity/State: \n\nAtlanta\, GA\n\n\nAudience:\n\n College\n\n\nNumber attending:\n\n 20
URL:https://coolspeak.com/event/2025-atlanta-housing-authority-financial-literacy-programming/
CATEGORIES:Event
END:VEVENT
BEGIN:VEVENT
DTSTART;TZID=America/New_York:20250605T083000
DTEND;TZID=America/New_York:20250605T153000
DTSTAMP:20260422T180317
CREATED:20250508T233416Z
LAST-MODIFIED:20250605T190727Z
UID:10001826-1749112200-1749137400@coolspeak.com
SUMMARY:2025 SLiCK YUMA Five Day Summer Camp
DESCRIPTION:Speaker: Customized CoolProgram\nEvent Title: 2025 SLiCK Program EAS Inc.\nClient Program/Organization: Educational Achievement Services\, Inc.\nEvent Description: CoolSpeak will provide a Five Day Summer Camp.\nTheme: Soul\, Leadership\, Identity\, Culture\, Knowledge\nStart Date: 2025-06-02\nEnd Date: 2025-06-06\nStart Time: 8:30 AM\nEnd Time: 3:30 PM\nCity/State: Yuma\, AZ\nAudience: High School\nNumber attending: 50
URL:https://coolspeak.com/event/2025-slick-yuma-five-day-summer-camp-4/
LOCATION:Yuma\, AZ\, USA
CATEGORIES:Event
END:VEVENT
BEGIN:VEVENT
DTSTART;TZID=America/New_York:20250605T083000
DTEND;TZID=America/New_York:20250605T150000
DTSTAMP:20260422T180317
CREATED:20250328T212653Z
LAST-MODIFIED:20250605T180703Z
UID:10001732-1749112200-1749135600@coolspeak.com
SUMMARY:2025 College of Southern Idaho Summer Program
DESCRIPTION:
URL:https://coolspeak.com/event/2025-college-of-southern-idaho-summer-program-4/
LOCATION:Idaho\, USA
CATEGORIES:Event
END:VEVENT
BEGIN:VEVENT
DTSTART;TZID=America/New_York:20250604T203000
DTEND;TZID=America/New_York:20250604T230000
DTSTAMP:20260422T180317
CREATED:20250314T052730Z
LAST-MODIFIED:20250605T022156Z
UID:10001708-1749069000-1749078000@coolspeak.com
SUMMARY:Spring 2025 Burlington Edison Mount Vernon GU Family Series
DESCRIPTION:Speaker:\n\nLilyan Prado Carrillo\n\n\nEvent: Spring \n\n2025 Burlington Edison High School GU Family Series\n\n\nDescription: \n\nLilyan will work with students and families from the Burlington Edison and Mount Vernon SD area\n\n\nTheme: \n\nFamily Engagement\n\n\nDate:  \n\n6/4/2025\n\n\nPresentation Start Time:  \n\n5:30 PM\n\n\nRoom:\n\nLibrary \n\n\nAudience: \n\nParents\n\n\nNumber Attending: \n\n100
URL:https://coolspeak.com/event/spring-2025-burlington-edison-mount-vernon-gu-family-series-4/
CATEGORIES:Event
END:VEVENT
BEGIN:VEVENT
DTSTART;TZID=America/New_York:20250604T100000
DTEND;TZID=America/New_York:20250604T150000
DTSTAMP:20260422T180317
CREATED:20250519T140249Z
LAST-MODIFIED:20250604T182206Z
UID:10001847-1749031200-1749049200@coolspeak.com
SUMMARY:2025 NYGEAR UP Virtual Training.
DESCRIPTION:Below are the event details: \n\nSpeaker: \n\nCarlos Ojeda Jr.\n\n\nEvent Title: \n\n2025 NYGEAR UP Virtual Training.\n\n\nClient Program/Organization:\n\n NYS Higher Education Services Corporation\n\n\nEvent Description: \n\nCarlos Ojeda Jr. will provide a Virtual Training for New York State Higher Education Services Corporation Professionals.\n\n\nTheme: \n\nHow to better engage the youth. Being HIP (High Impact Programming).\n\n\nStart Date: \n\n2025-06-04\n\n\nEnd Date:\n\n 2025-06-04\n\n\nStart Time: \n\n10:00 AM\n\n\nEnd Time: \n\n3:00 PM\n\n\nCity/State: \n\nAlbany\, NY\n\n\nAudience:\n\n Professional\n\n\nNumber attending:\n\n 25
URL:https://coolspeak.com/event/2025-nygear-up-virtual-training/
CATEGORIES:Event
END:VEVENT
BEGIN:VEVENT
DTSTART;TZID=America/New_York:20250604T090000
DTEND;TZID=America/New_York:20250604T203000
DTSTAMP:20260422T180317
CREATED:20250502T020506Z
LAST-MODIFIED:20250605T002216Z
UID:10001811-1749027600-1749069000@coolspeak.com
SUMMARY:2025 Central Region MEP 2 Day Summer Program
DESCRIPTION:
URL:https://coolspeak.com/event/2025-central-region-mep-2-day-summer-program-2/
LOCATION:Bowling Green\, KY\, USA
CATEGORIES:Event
END:VEVENT
BEGIN:VEVENT
DTSTART;TZID=America/New_York:20250604T090000
DTEND;TZID=America/New_York:20250604T150000
DTSTAMP:20260422T180317
CREATED:20250426T000502Z
LAST-MODIFIED:20250604T182207Z
UID:10001795-1749027600-1749049200@coolspeak.com
SUMMARY:2025 Granite School District POY Summer Camp
DESCRIPTION:
URL:https://coolspeak.com/event/2025-granite-school-district-poy-summer-camp-3/
LOCATION:West Valley City\, UT
CATEGORIES:Event
END:VEVENT
BEGIN:VEVENT
DTSTART;TZID=America/New_York:20250604T083000
DTEND;TZID=America/New_York:20250604T153000
DTSTAMP:20260422T180317
CREATED:20250508T233416Z
LAST-MODIFIED:20250604T192155Z
UID:10001825-1749025800-1749051000@coolspeak.com
SUMMARY:2025 SLiCK YUMA Five Day Summer Camp
DESCRIPTION:Speaker: Customized CoolProgram\nEvent Title: 2025 SLiCK Program EAS Inc.\nClient Program/Organization: Educational Achievement Services\, Inc.\nEvent Description: CoolSpeak will provide a Five Day Summer Camp.\nTheme: Soul\, Leadership\, Identity\, Culture\, Knowledge\nStart Date: 2025-06-02\nEnd Date: 2025-06-06\nStart Time: 8:30 AM\nEnd Time: 3:30 PM\nCity/State: Yuma\, AZ\nAudience: High School\nNumber attending: 50
URL:https://coolspeak.com/event/2025-slick-yuma-five-day-summer-camp-3/
LOCATION:Yuma\, AZ\, USA
CATEGORIES:Event
END:VEVENT
BEGIN:VEVENT
DTSTART;TZID=America/New_York:20250604T083000
DTEND;TZID=America/New_York:20250604T150000
DTSTAMP:20260422T180317
CREATED:20250328T212652Z
LAST-MODIFIED:20250604T182206Z
UID:10001731-1749025800-1749049200@coolspeak.com
SUMMARY:2025 College of Southern Idaho Summer Program
DESCRIPTION:
URL:https://coolspeak.com/event/2025-college-of-southern-idaho-summer-program-3/
LOCATION:Idaho\, USA
CATEGORIES:Event
END:VEVENT
BEGIN:VEVENT
DTSTART;TZID=America/New_York:20250603T090000
DTEND;TZID=America/New_York:20250603T203000
DTSTAMP:20260422T180317
CREATED:20250502T020506Z
LAST-MODIFIED:20250603T235206Z
UID:10001810-1748941200-1748982600@coolspeak.com
SUMMARY:2025 Central Region MEP 2 Day Summer Program
DESCRIPTION:
URL:https://coolspeak.com/event/2025-central-region-mep-2-day-summer-program/
LOCATION:Bowling Green\, KY\, USA
CATEGORIES:Event
END:VEVENT
BEGIN:VEVENT
DTSTART;TZID=America/New_York:20250603T090000
DTEND;TZID=America/New_York:20250603T150000
DTSTAMP:20260422T180317
CREATED:20250426T000502Z
LAST-MODIFIED:20250603T183640Z
UID:10001794-1748941200-1748962800@coolspeak.com
SUMMARY:2025 Granite School District POY Summer Camp
DESCRIPTION:
URL:https://coolspeak.com/event/2025-granite-school-district-poy-summer-camp-2/
LOCATION:West Valley City\, UT
CATEGORIES:Event
END:VEVENT
BEGIN:VEVENT
DTSTART;TZID=America/New_York:20250603T083000
DTEND;TZID=America/New_York:20250603T153000
DTSTAMP:20260422T180317
CREATED:20250508T233416Z
LAST-MODIFIED:20250603T183640Z
UID:10001824-1748939400-1748964600@coolspeak.com
SUMMARY:2025 SLiCK YUMA Five Day Summer Camp
DESCRIPTION:Speaker: Customized CoolProgram\nEvent Title: 2025 SLiCK Program EAS Inc.\nClient Program/Organization: Educational Achievement Services\, Inc.\nEvent Description: CoolSpeak will provide a Five Day Summer Camp.\nTheme: Soul\, Leadership\, Identity\, Culture\, Knowledge\nStart Date: 2025-06-02\nEnd Date: 2025-06-06\nStart Time: 8:30 AM\nEnd Time: 3:30 PM\nCity/State: Yuma\, AZ\nAudience: High School\nNumber attending: 50
URL:https://coolspeak.com/event/2025-slick-yuma-five-day-summer-camp-2/
LOCATION:Yuma\, AZ\, USA
CATEGORIES:Event
END:VEVENT
BEGIN:VEVENT
DTSTART;TZID=America/New_York:20250603T083000
DTEND;TZID=America/New_York:20250603T150000
DTSTAMP:20260422T180317
CREATED:20250328T212652Z
LAST-MODIFIED:20250603T183640Z
UID:10001730-1748939400-1748962800@coolspeak.com
SUMMARY:2025 College of Southern Idaho Summer Program
DESCRIPTION:
URL:https://coolspeak.com/event/2025-college-of-southern-idaho-summer-program-2/
LOCATION:Idaho\, USA
CATEGORIES:Event
END:VEVENT
END:VCALENDAR