BEGIN:VCALENDAR
VERSION:2.0
PRODID:-//CoolSpeak - ECPv6.15.18//NONSGML v1.0//EN
CALSCALE:GREGORIAN
METHOD:PUBLISH
X-WR-CALNAME:CoolSpeak
X-ORIGINAL-URL:https://coolspeak.com
X-WR-CALDESC:Events for CoolSpeak
REFRESH-INTERVAL;VALUE=DURATION:PT1H
X-Robots-Tag:noindex
X-PUBLISHED-TTL:PT1H
BEGIN:VTIMEZONE
TZID:America/New_York
BEGIN:DAYLIGHT
TZOFFSETFROM:-0500
TZOFFSETTO:-0400
TZNAME:EDT
DTSTART:20240310T070000
END:DAYLIGHT
BEGIN:STANDARD
TZOFFSETFROM:-0400
TZOFFSETTO:-0500
TZNAME:EST
DTSTART:20241103T060000
END:STANDARD
BEGIN:DAYLIGHT
TZOFFSETFROM:-0500
TZOFFSETTO:-0400
TZNAME:EDT
DTSTART:20250309T070000
END:DAYLIGHT
BEGIN:STANDARD
TZOFFSETFROM:-0400
TZOFFSETTO:-0500
TZNAME:EST
DTSTART:20251102T060000
END:STANDARD
BEGIN:DAYLIGHT
TZOFFSETFROM:-0500
TZOFFSETTO:-0400
TZNAME:EDT
DTSTART:20260308T070000
END:DAYLIGHT
BEGIN:STANDARD
TZOFFSETFROM:-0400
TZOFFSETTO:-0500
TZNAME:EST
DTSTART:20261101T060000
END:STANDARD
END:VTIMEZONE
BEGIN:VEVENT
DTSTART;TZID=America/New_York:20250512T080000
DTEND;TZID=America/New_York:20250512T150000
DTSTAMP:20260422T224858
CREATED:20250422T033442Z
LAST-MODIFIED:20250512T183419Z
UID:10001785-1747036800-1747062000@coolspeak.com
SUMMARY:Spring 2025 Oakville MiddleHigh School Self Care Day
DESCRIPTION:Speaker:\n\nZach Gowen\n\n\nEvent: \n\nSpring 2025 Oakville MiddleHigh School Self Care Day\n\n\nDescription: \n\nZach will share his story with the students of Oakville School Districts and work with them on Self Care\n\n\nTheme: \n\nSelf Care\n\n\nDate:  \n\n5/12/2025\n\n\nPresentation Start Time:  \n\n1:30 PM\n\n\nWorkshop Start Time: \n\n12:30 PM\n\n\nVenue: \n\nSchool Auditorium\n\n\nAudience: \n\nHigh School\n\n\nNumber Attending: \n\n150
URL:https://coolspeak.com/event/spring-2025-oakville-middlehigh-school-self-care-day/
CATEGORIES:Event
END:VEVENT
BEGIN:VEVENT
DTSTART;TZID=America/New_York:20250509T130000
DTEND;TZID=America/New_York:20250509T170000
DTSTAMP:20260422T224858
CREATED:20250220T124447Z
LAST-MODIFIED:20250509T204845Z
UID:10001668-1746795600-1746810000@coolspeak.com
SUMMARY:2025 Storm Lake High School
DESCRIPTION:Speaker: \n\nJuan Cangas\n\n\nEvent: \n\n2025 Storm Lake High School Booth Winner\n\n\nDescription: \n\nMotivate Students that you can succeed no matter the obstacles\n\n\nTheme: \n\nMotivation\n\n\nDate:  \n\n5/9/2025\n\n\nPresentation Start Time:  \n\n2:00 PM\n\n\nVenue: \n\nSchool Auditorium\n\n\nAudience: \n\nHigh School\n\n\nNumber Attending: \n\n800
URL:https://coolspeak.com/event/2025-storm-lake-high-school/
CATEGORIES:Event
END:VEVENT
BEGIN:VEVENT
DTSTART;TZID=America/New_York:20250509T100000
DTEND;TZID=America/New_York:20250509T174500
DTSTAMP:20260422T224858
CREATED:20250409T051253Z
LAST-MODIFIED:20250509T204845Z
UID:10001759-1746784800-1746812700@coolspeak.com
SUMMARY:Spring 2025 Granite SD Vendor Fair PD
DESCRIPTION:Speaker:\n\nCarlos Ojeda Jr.\n\n\nEvent: \n\nSpring 2025 Granite SD Vendor Fair PD\n\n\nDescription: \n\nChu will provide a 2 hour PD before the vendor fair\n\n\nTheme: \n\nFamily Engagement Event Planning\n\n\nDate:  \n\n5/9/2025\n\n\nWorkshop Start Time: \n\n10:00 AM\n\n\nAudience: \n\nProfessional\n\n\nNumber Attending: \n\n20
URL:https://coolspeak.com/event/spring-2025-granite-sd-vendor-fair-pd-2/
CATEGORIES:Event
END:VEVENT
BEGIN:VEVENT
DTSTART;TZID=America/New_York:20250509T080000
DTEND;TZID=America/New_York:20250509T150000
DTSTAMP:20260422T224858
CREATED:20250411T155651Z
LAST-MODIFIED:20250519T133838Z
UID:10001770-1746777600-1746802800@coolspeak.com
SUMMARY:2025 Appalachian State University GEAR UP April\, May\, and June
DESCRIPTION:  \n\nSpeaker: Chris Collins\nEvent Title:\n\n2025 Appalachian State University GEAR UP April\, May\, and June Programming with Joaquin Zihuatanejo and Chris Collins.\n\n\nClient Program/Organization:\n\nAppalachian State University\n\n\nEvent Description:\n\nCoolSpeakers Chris Collins and Joaquin Zihuatanejo will provide Student Assemblies and Writing Classroom Takeovers for Students.\n\n\nTheme:\n\nLeadership/Self Expression/GEAR UP/Education\n\n\nStart Date:\n\n2025-04-28\n\n\nEnd Date:\n\n2025-06-11\n\n\nStart Time:\n\n8:00 AM\n\n\nEnd Time:\n\n3:00 PM\n\n\nCity/State:\n\n Boone\, NC\n\n\nAudience:\n\nHigh School\n\n\nNumber attending:\n\n4000\n\n\n\n 
URL:https://coolspeak.com/event/2025-appalachian-state-university-gear-up-april-may-and-june-9/
CATEGORIES:Event
END:VEVENT
BEGIN:VEVENT
DTSTART;TZID=America/New_York:20250508T180000
DTEND;TZID=America/New_York:20250508T210000
DTSTAMP:20260422T224858
CREATED:20250404T031304Z
LAST-MODIFIED:20250509T003430Z
UID:10001756-1746727200-1746738000@coolspeak.com
SUMMARY:2025 Project LEARN Adult Education End of Year Celebration
DESCRIPTION:Speaker:\n\nLilyan Prado Carrillo\n\n\nEvent: \n\n2025 Project LEARN Adult Education End of Year Celebration\n\n\nDescription: \n\nAdult Education End of Year Celebration- ESL \, GED and Civics Classes will be celebrated\n\n\nTheme: \n\nCelebration\n\n\nDate:  \n\n5/8/2025\n\n\nPresentation Start Time:  \n\n6:00 PM\n\n\nWorkshop Start Time: \n\n7:00 PM\n\n\nVenue: \n\nSchool Auditorium\n\n\nAudience: \n\nParents\n\n\nNumber Attending: \n\n200
URL:https://coolspeak.com/event/2025-project-learn-adult-education-end-of-year-celebration/
CATEGORIES:Event
END:VEVENT
BEGIN:VEVENT
DTSTART;TZID=America/New_York:20250508T100000
DTEND;TZID=America/New_York:20250508T174500
DTSTAMP:20260422T224858
CREATED:20250409T051253Z
LAST-MODIFIED:20250508T211926Z
UID:10001758-1746698400-1746726300@coolspeak.com
SUMMARY:Spring 2025 Granite SD Vendor Fair PD
DESCRIPTION:Speaker:\n\nCarlos Ojeda Jr.\n\n\nEvent: \n\nSpring 2025 Granite SD Vendor Fair PD\n\n\nDescription: \n\nChu will provide a 2 hour PD before the vendor fair\n\n\nTheme: \n\nFamily Engagement Event Planning\n\n\nDate:  \n\n5/8/2025\n\n\nWorkshop Start Time: \n\n10:00 AM\n\n\nAudience: \n\nProfessional\n\n\nNumber Attending: \n\n20
URL:https://coolspeak.com/event/spring-2025-granite-sd-vendor-fair-pd/
CATEGORIES:Event
END:VEVENT
BEGIN:VEVENT
DTSTART;TZID=America/New_York:20250508T080000
DTEND;TZID=America/New_York:20250508T150000
DTSTAMP:20260422T224858
CREATED:20250411T155651Z
LAST-MODIFIED:20250519T133921Z
UID:10001769-1746691200-1746716400@coolspeak.com
SUMMARY:2025 Appalachian State University GEAR UP April\, May\, and June
DESCRIPTION:  \n\nSpeaker: Chris Collins\nEvent Title:\n\n2025 Appalachian State University GEAR UP April\, May\, and June Programming with Joaquin Zihuatanejo and Chris Collins.\n\n\nClient Program/Organization:\n\nAppalachian State University\n\n\nEvent Description:\n\nCoolSpeakers Chris Collins and Joaquin Zihuatanejo will provide Student Assemblies and Writing Classroom Takeovers for Students.\n\n\nTheme:\n\nLeadership/Self Expression/GEAR UP/Education\n\n\nStart Date:\n\n2025-04-28\n\n\nEnd Date:\n\n2025-06-11\n\n\nStart Time:\n\n8:00 AM\n\n\nEnd Time:\n\n3:00 PM\n\n\nCity/State:\n\n Boone\, NC\n\n\nAudience:\n\nHigh School\n\n\nNumber attending:\n\n4000\n\n\n\n 
URL:https://coolspeak.com/event/2025-appalachian-state-university-gear-up-april-may-and-june-8/
CATEGORIES:Event
END:VEVENT
BEGIN:VEVENT
DTSTART;TZID=America/New_York:20250507T170000
DTEND;TZID=America/New_York:20250507T210000
DTSTAMP:20260422T224858
CREATED:20250429T040427Z
LAST-MODIFIED:20250508T000427Z
UID:10001796-1746637200-1746651600@coolspeak.com
SUMMARY:Spring 2025 Lewis-Clark State College CAMP Celebration
DESCRIPTION:Speaker:\n\nJuan Cangas\n\n\nEvent: \n\nSpring 2025 Lewis-Clark State College CAMP Celebration\n\n\nDescription: \n\nJuan will share his story during the CAMP end of year celebration\n\n\nTheme: \n\nCelebrating Year\, Inspiring they’re next stage\n\n\nDate:  \n\n5/7/2025\n\n\nPresentation Start Time:  \n\n6:00 PM\n\n\nAudience: \n\nCollege\n\n\nNumber Attending: \n\n80
URL:https://coolspeak.com/event/spring-2025-lewis-clark-state-college-camp-celebration/
CATEGORIES:Event
END:VEVENT
BEGIN:VEVENT
DTSTART;TZID=America/New_York:20250507T080000
DTEND;TZID=America/New_York:20250507T150000
DTSTAMP:20260422T224858
CREATED:20250411T155651Z
LAST-MODIFIED:20250519T133947Z
UID:10001768-1746604800-1746630000@coolspeak.com
SUMMARY:2025 Appalachian State University GEAR UP April\, May\, and June
DESCRIPTION:  \n\nSpeaker: Chris Collins\nEvent Title:\n\n2025 Appalachian State University GEAR UP April\, May\, and June Programming with Joaquin Zihuatanejo and Chris Collins.\n\n\nClient Program/Organization:\n\nAppalachian State University\n\n\nEvent Description:\n\nCoolSpeakers Chris Collins and Joaquin Zihuatanejo will provide Student Assemblies and Writing Classroom Takeovers for Students.\n\n\nTheme:\n\nLeadership/Self Expression/GEAR UP/Education\n\n\nStart Date:\n\n2025-04-28\n\n\nEnd Date:\n\n2025-06-11\n\n\nStart Time:\n\n8:00 AM\n\n\nEnd Time:\n\n3:00 PM\n\n\nCity/State:\n\n Boone\, NC\n\n\nAudience:\n\nHigh School\n\n\nNumber attending:\n\n4000\n\n\n\n 
URL:https://coolspeak.com/event/2025-appalachian-state-university-gear-up-april-may-and-june-7/
CATEGORIES:Event
END:VEVENT
BEGIN:VEVENT
DTSTART;TZID=America/New_York:20250506T090000
DTEND;TZID=America/New_York:20250506T201500
DTSTAMP:20260422T224858
CREATED:20250331T164146Z
LAST-MODIFIED:20250507T000347Z
UID:10001737-1746522000-1746562500@coolspeak.com
SUMMARY:Spring 2025 Blount County Schools Family Night
DESCRIPTION:Speaker:\n\nErnesto Mejia\n\n\nEvent: \n\nSpring 2025 Blount County Schools Family Night\n\n\nDescription: \n\nErnesto will be working with the families of Blount County Schools\n\n\nTheme: \n\nFamily Engagement\n\n\nDate:  \n\n5/6/2025\n\n\nPresentation Start Time:  \n\n5:30 PM\n\n\nWorkshop Start Time: \n\n6:00 PM\n\n\nAudience: \n\nParents\n\n\nNumber Attending: \n\n500
URL:https://coolspeak.com/event/spring-2025-blount-county-schools-family-night/
CATEGORIES:Event
END:VEVENT
BEGIN:VEVENT
DTSTART;TZID=America/New_York:20250506T090000
DTEND;TZID=America/New_York:20250506T140000
DTSTAMP:20260422T224858
CREATED:20250424T051854Z
LAST-MODIFIED:20250506T173513Z
UID:10001789-1746522000-1746540000@coolspeak.com
SUMMARY:2025 UTRGV GEAR UP 2 Day Conference
DESCRIPTION:
URL:https://coolspeak.com/event/2025-utrgv-gear-up-2-day-conference-2/
LOCATION:McAllen\, Tx
CATEGORIES:Event
END:VEVENT
BEGIN:VEVENT
DTSTART;TZID=America/New_York:20250506T080000
DTEND;TZID=America/New_York:20250506T150000
DTSTAMP:20260422T224858
CREATED:20250411T155651Z
LAST-MODIFIED:20250519T134024Z
UID:10001767-1746518400-1746543600@coolspeak.com
SUMMARY:2025 Appalachian State University GEAR UP April\, May\, and June
DESCRIPTION:  \n\nSpeaker: Chris Collins\nEvent Title:\n\n2025 Appalachian State University GEAR UP April\, May\, and June Programming with Joaquin Zihuatanejo and Chris Collins.\n\n\nClient Program/Organization:\n\nAppalachian State University\n\n\nEvent Description:\n\nCoolSpeakers Chris Collins and Joaquin Zihuatanejo will provide Student Assemblies and Writing Classroom Takeovers for Students.\n\n\nTheme:\n\nLeadership/Self Expression/GEAR UP/Education\n\n\nStart Date:\n\n2025-04-28\n\n\nEnd Date:\n\n2025-06-11\n\n\nStart Time:\n\n8:00 AM\n\n\nEnd Time:\n\n3:00 PM\n\n\nCity/State:\n\n Boone\, NC\n\n\nAudience:\n\nHigh School\n\n\nNumber attending:\n\n4000\n\n\n\n 
URL:https://coolspeak.com/event/2025-appalachian-state-university-gear-up-april-may-and-june-6/
CATEGORIES:Event
END:VEVENT
BEGIN:VEVENT
DTSTART;TZID=America/New_York:20250505T090000
DTEND;TZID=America/New_York:20250505T140000
DTSTAMP:20260422T224858
CREATED:20250424T051854Z
LAST-MODIFIED:20250505T170529Z
UID:10001788-1746435600-1746453600@coolspeak.com
SUMMARY:2025 UTRGV GEAR UP 2 Day Conference
DESCRIPTION:
URL:https://coolspeak.com/event/2025-utrgv-gear-up-2-day-conference/
LOCATION:McAllen\, Tx
CATEGORIES:Event
END:VEVENT
BEGIN:VEVENT
DTSTART;TZID=America/New_York:20250505T080000
DTEND;TZID=America/New_York:20250505T150000
DTSTAMP:20260422T224858
CREATED:20250421T154954Z
LAST-MODIFIED:20250505T180520Z
UID:10001782-1746432000-1746457200@coolspeak.com
SUMMARY:Swain Middle School Presentation Day with Joaquin Zihuatanejo.
DESCRIPTION:Below are the event details: \n\nSpeaker: \n\nJoaquin Zihuatanejo\n\n\nEvent Title: \n\nSwain Middle School Presentation Day with Joaquin Zihuatanejo.\n\n\nClient Program/Organization: \n\nSwain Middle School\n\n\nEvent Description: \n\nJoaquin Zihuatanejo will provide a Student Assembly and Classroom Take Overs for Middle School Students.\n\n\nTheme: \n\nSelf Expression/Writing/Motivation\n\n\nStart Date: \n\n2025-05-05\n\n\nEnd Date: \n\n2025-05-05\n\n\nStart Time: \n\n8:00 AM\n\n\nEnd Time: \n\n3:00 PM\n\n\nCity/State:\n\n Bryson City\, NC\n\n\nAudience: \n\nMiddle School\n\n\nNumber attending: \n\n500\n\n\n\nJoin with Google Meet: https://meet.google.com/ihw-jpdg-qkc\nOr dial: (US) +1 240-804-7574 PIN: 789897659#\nMore phone numbers: https://tel.meet/ihw-jpdg-qkc?pin=8790784363201&hs=7\nLearn more about Meet at: https://support.google.com/a/users/answer/9282720
URL:https://coolspeak.com/event/swain-middle-school-presentation-day-with-joaquin-zihuatanejo/
CATEGORIES:Event
END:VEVENT
BEGIN:VEVENT
DTSTART;TZID=America/New_York:20250505T080000
DTEND;TZID=America/New_York:20250505T150000
DTSTAMP:20260422T224858
CREATED:20250411T155651Z
LAST-MODIFIED:20250519T134053Z
UID:10001766-1746432000-1746457200@coolspeak.com
SUMMARY:2025 Appalachian State University GEAR UP April\, May\, and June
DESCRIPTION:  \n\nSpeaker: Chris Collins\nEvent Title:\n\n2025 Appalachian State University GEAR UP April\, May\, and June Programming with Joaquin Zihuatanejo and Chris Collins.\n\n\nClient Program/Organization:\n\nAppalachian State University\n\n\nEvent Description:\n\nCoolSpeakers Chris Collins and Joaquin Zihuatanejo will provide Student Assemblies and Writing Classroom Takeovers for Students.\n\n\nTheme:\n\nLeadership/Self Expression/GEAR UP/Education\n\n\nStart Date:\n\n2025-04-28\n\n\nEnd Date:\n\n2025-06-11\n\n\nStart Time:\n\n8:00 AM\n\n\nEnd Time:\n\n3:00 PM\n\n\nCity/State:\n\n Boone\, NC\n\n\nAudience:\n\nHigh School\n\n\nNumber attending:\n\n4000\n\n\n\n 
URL:https://coolspeak.com/event/2025-appalachian-state-university-gear-up-april-may-and-june-5/
CATEGORIES:Event
END:VEVENT
BEGIN:VEVENT
DTSTART;TZID=America/New_York:20250502T080000
DTEND;TZID=America/New_York:20250502T170000
DTSTAMP:20260422T224858
CREATED:20250425T200404Z
LAST-MODIFIED:20250502T200455Z
UID:10001792-1746172800-1746205200@coolspeak.com
SUMMARY:Spring 2025 CoolTrip to Penn State University
DESCRIPTION:Speaker: Joaquin Zihuatanejo\nEvent Title: Spring 2025 CoolTrip to Penn State University\nClient Program/Organization: The School District of Philadelphia\nEvent Description: A college exploratory visit to a university.\nTheme: College Exposure and Exploration\nStart Date: 2025-05-02\nEnd Date: 2025-05-02\nStart Time: 8:00 AM\nEnd Time: 5:00 PM
URL:https://coolspeak.com/event/spring-2025-cooltrip-to-penn-state-university/
CATEGORIES:Event
END:VEVENT
BEGIN:VEVENT
DTSTART;TZID=America/New_York:20250502T080000
DTEND;TZID=America/New_York:20250502T150000
DTSTAMP:20260422T224858
CREATED:20241219T054340Z
LAST-MODIFIED:20250502T184906Z
UID:10001594-1746172800-1746198000@coolspeak.com
SUMMARY:2025 Dartmouth Middle School Conference
DESCRIPTION:Speaker:\n\nCarlos Ojeda Jr\n\n\nEvent: \n\n2025 UMASS Dartmouth 8th Grade Youth Summit\n\n\nDescription: \n\n8th Grade students from local middle schools\n\n\nTheme: \n\nCollege and Career Awareness\n\n\nDate:  \n\n5/1/2025 & 5/2/2025\n\n\nPresentation Start Time:  \n\n9:00 AM\n\n\nAudience: \n\nMiddle School\n\n\nNumber Attending: \n\n1\,600
URL:https://coolspeak.com/event/2025-dartmouth-middle-school-conference-2/
CATEGORIES:Event
END:VEVENT
BEGIN:VEVENT
DTSTART;TZID=America/New_York:20250501T110000
DTEND;TZID=America/New_York:20250501T173000
DTSTAMP:20260422T224858
CREATED:20250421T154954Z
LAST-MODIFIED:20250501T203415Z
UID:10001781-1746097200-1746120600@coolspeak.com
SUMMARY:2025 Colorado GEAR UP Senior Three Day Bootcamp.
DESCRIPTION:Below are the event details: \n\nSpeaker: \n\nMultiple Speakers\n\n\nEvent Title: \n\n2025 Colorado GEAR UP Senior Three Day Bootcamp.\n\n\nClient Program/Organization: \n\nColorado GEAR UP\n\n\nEvent Description: \n\nTimon Gurung and Samuel Brown will provide Keynote Presentations and Breakout Sessions with GEAR UP Senior Students at Harrison High School\, Fort Lupton High School\, and Adams City High School.\n\n\nTheme: \n\nGEAR UP/Education/Team Building.\n\n\nStart Date: \n\n2025-04-29\n\n\nEnd Date:\n\n 2025-05-01\n\n\nStart Time: \n\n9:00 AM\n\n\nEnd Time: \n\n3:00 PM\n\n\nCity/State: \n\nColorado Springs\, CO\n\n\nAudience: \n\nHigh School\n\n\nNumber attending: \n\n120\n\n\n\nJoin with Google Meet: https://meet.google.com/xjz-wdsg-wgq\nOr dial: (US) +1 636-498-4391 PIN: 433638638#\nMore phone numbers: https://tel.meet/xjz-wdsg-wgq?pin=1830063820868&hs=7\nLearn more about Meet at: https://support.google.com/a/users/answer/9282720
URL:https://coolspeak.com/event/2025-colorado-gear-up-senior-three-day-bootcamp-3/
CATEGORIES:Event
END:VEVENT
BEGIN:VEVENT
DTSTART;TZID=America/New_York:20250501T080000
DTEND;TZID=America/New_York:20250501T170000
DTSTAMP:20260422T224858
CREATED:20250425T200404Z
LAST-MODIFIED:20250501T203415Z
UID:10001791-1746086400-1746118800@coolspeak.com
SUMMARY:Spring 2025 CoolTrip to Millersville and Cheyney Universities
DESCRIPTION:Speaker: MJ Bridges & Marlanea Heaven\nEvent Title: Spring 2025 CoolTrip to Millersville and Cheyney Universities\nClient Program/Organization: The School District of Philadelphia\nEvent Description: A college exploratory visit to a university.\nTheme: College Exposure and Exploration\nStart Date: 2025-05-01\nEnd Date: 2025-05-01\nStart Time: 7:30 AM\nEnd Time: 5:00 PM
URL:https://coolspeak.com/event/spring-2025-cooltrip-to-millersville-and-cheyney-universities/
CATEGORIES:Event
END:VEVENT
BEGIN:VEVENT
DTSTART;TZID=America/New_York:20250501T080000
DTEND;TZID=America/New_York:20250501T170000
DTSTAMP:20260422T224858
CREATED:20250425T190445Z
LAST-MODIFIED:20250501T203415Z
UID:10001790-1746086400-1746118800@coolspeak.com
SUMMARY:Spring 2025 CoolTrip to West Chester and Millersville Universities
DESCRIPTION:Speakers: Chris Collins & Marlaena Heaven\nEvent Title: Spring 2025 CoolTrip to West Chester and Millersville Universities\nClient Program/Organization: The School District of Philadelphia\nEvent Description: A college exploratory visit to a university.\nTheme: College Exposure and Exploration\nStart Date: 2025-05-01\nEnd Date: 2025-05-01\nStart Time: 7:30 AM\nEnd Time: 5:00 PM
URL:https://coolspeak.com/event/spring-2025-cooltrip-to-west-chester-and-millersville-universities/
CATEGORIES:Event
END:VEVENT
BEGIN:VEVENT
DTSTART;TZID=America/New_York:20250501T080000
DTEND;TZID=America/New_York:20250501T150000
DTSTAMP:20260422T224858
CREATED:20241219T054340Z
LAST-MODIFIED:20250501T180522Z
UID:10001593-1746086400-1746111600@coolspeak.com
SUMMARY:2025 Dartmouth Middle School Conference
DESCRIPTION:Speaker:\n\nCarlos Ojeda Jr\n\n\nEvent: \n\n2025 UMASS Dartmouth 8th Grade Youth Summit\n\n\nDescription: \n\n8th Grade students from local middle schools\n\n\nTheme: \n\nCollege and Career Awareness\n\n\nDate:  \n\n5/1/2025 & 5/2/2025\n\n\nPresentation Start Time:  \n\n9:00 AM\n\n\nAudience: \n\nMiddle School\n\n\nNumber Attending: \n\n1\,600
URL:https://coolspeak.com/event/2025-dartmouth-middle-school-conference/
CATEGORIES:Event
END:VEVENT
BEGIN:VEVENT
DTSTART;TZID=America/New_York:20250430T110000
DTEND;TZID=America/New_York:20250430T180000
DTSTAMP:20260422T224858
CREATED:20250226T002810Z
LAST-MODIFIED:20250430T211853Z
UID:10001683-1746010800-1746036000@coolspeak.com
SUMMARY:Spring 2025 Wahluke High School Student Leadership by Ernesto Mejia
DESCRIPTION:Speaker: Ernesto Mejia\nEvent Title: Spring 2025 Wahluke High School Student Leadership by Ernesto Mejia\nClient Program/Organization: Wahluke School District\nEvent Description: Ernesto Mejia providing student leadership programming for newcomers and migrant students\, Staff Development\, and Family Engagement.\nTheme: Student Leadership for newcomer students\, Family Engagement\, Staff Development\nStart Date: 2025-04-29\nEnd Date: 2025-04-30\nStart Time: 8:00 AM\nEnd Time: 3:00 PM\nCity/State: Mattawa\, WA\nAudience: High School\nNumber attending: 30
URL:https://coolspeak.com/event/spring-2025-wahluke-high-school-student-leadership-by-ernesto-mejia-2/
CATEGORIES:Event
END:VEVENT
BEGIN:VEVENT
DTSTART;TZID=America/New_York:20250430T110000
DTEND;TZID=America/New_York:20250430T173000
DTSTAMP:20260422T224858
CREATED:20250421T154954Z
LAST-MODIFIED:20250430T211853Z
UID:10001780-1746010800-1746034200@coolspeak.com
SUMMARY:2025 Colorado GEAR UP Senior Three Day Bootcamp.
DESCRIPTION:Below are the event details: \n\nSpeaker: \n\nMultiple Speakers\n\n\nEvent Title: \n\n2025 Colorado GEAR UP Senior Three Day Bootcamp.\n\n\nClient Program/Organization: \n\nColorado GEAR UP\n\n\nEvent Description: \n\nTimon Gurung and Samuel Brown will provide Keynote Presentations and Breakout Sessions with GEAR UP Senior Students at Harrison High School\, Fort Lupton High School\, and Adams City High School.\n\n\nTheme: \n\nGEAR UP/Education/Team Building.\n\n\nStart Date: \n\n2025-04-29\n\n\nEnd Date:\n\n 2025-05-01\n\n\nStart Time: \n\n9:00 AM\n\n\nEnd Time: \n\n3:00 PM\n\n\nCity/State: \n\nColorado Springs\, CO\n\n\nAudience: \n\nHigh School\n\n\nNumber attending: \n\n120\n\n\n\nJoin with Google Meet: https://meet.google.com/xjz-wdsg-wgq\nOr dial: (US) +1 636-498-4391 PIN: 433638638#\nMore phone numbers: https://tel.meet/xjz-wdsg-wgq?pin=1830063820868&hs=7\nLearn more about Meet at: https://support.google.com/a/users/answer/9282720
URL:https://coolspeak.com/event/2025-colorado-gear-up-senior-three-day-bootcamp-2/
CATEGORIES:Event
END:VEVENT
BEGIN:VEVENT
DTSTART;TZID=America/New_York:20250430T083000
DTEND;TZID=America/New_York:20250430T153000
DTSTAMP:20260422T224858
CREATED:20250307T164316Z
LAST-MODIFIED:20250430T190413Z
UID:10001697-1746001800-1746027000@coolspeak.com
SUMMARY:2025 NYGEAR UP Annual Conference.
DESCRIPTION:Below are the event details: \n\nSpeaker: \n\nCarlos Ojeda Jr.\n\n\nEvent Title: \n\n2025 NYGEAR UP Annual Conference.\n\n\nClient Program/Organization: \n\nNYS Higher Education Services Corporation\n\n\nEvent Description: \n\nCarlos Ojeda Jr. will provide Two Keynote Presentations for Students and Adults.\n\n\nTheme: \n\nGEAR UP. Education. Leadership.\n\n\nStart Date: \n\n2025-04-29\n\n\nEnd Date: \n\n2025-04-30\n\n\nStart Time:\n\n 8:30 AM\n\n\nEnd Time:\n\n 3:30 PM\n\n\nCity/State:\n\n East Syracuse\, NY\n\n\nAudience: \n\nHigh School\n\n\nNumber attending: \n\n200\n\n\n\nJoin with Google Meet: https://meet.google.com/znx-koyc-ngs\nOr dial: (US) +1 413-961-2582 PIN: 548020899#\nMore phone numbers: https://tel.meet/znx-koyc-ngs?pin=2783255240262&hs=7\nLearn more about Meet at: https://support.google.com/a/users/answer/9282720
URL:https://coolspeak.com/event/2025-nygear-up-annual-conference-4/
CATEGORIES:Event
END:VEVENT
BEGIN:VEVENT
DTSTART;TZID=America/New_York:20250429T110000
DTEND;TZID=America/New_York:20250429T180000
DTSTAMP:20260422T224858
CREATED:20250226T002810Z
LAST-MODIFIED:20250429T210512Z
UID:10001682-1745924400-1745949600@coolspeak.com
SUMMARY:Spring 2025 Wahluke High School Student Leadership by Ernesto Mejia
DESCRIPTION:Speaker: Ernesto Mejia\nEvent Title: Spring 2025 Wahluke High School Student Leadership by Ernesto Mejia\nClient Program/Organization: Wahluke School District\nEvent Description: Ernesto Mejia providing student leadership programming for newcomers and migrant students\, Staff Development\, and Family Engagement.\nTheme: Student Leadership for newcomer students\, Family Engagement\, Staff Development\nStart Date: 2025-04-29\nEnd Date: 2025-04-30\nStart Time: 8:00 AM\nEnd Time: 3:00 PM\nCity/State: Mattawa\, WA\nAudience: High School\nNumber attending: 30
URL:https://coolspeak.com/event/spring-2025-wahluke-high-school-student-leadership-by-ernesto-mejia/
CATEGORIES:Event
END:VEVENT
BEGIN:VEVENT
DTSTART;TZID=America/New_York:20250429T110000
DTEND;TZID=America/New_York:20250429T173000
DTSTAMP:20260422T224858
CREATED:20250421T154953Z
LAST-MODIFIED:20250429T210512Z
UID:10001779-1745924400-1745947800@coolspeak.com
SUMMARY:2025 Colorado GEAR UP Senior Three Day Bootcamp.
DESCRIPTION:Below are the event details: \n\nSpeaker: \n\nMultiple Speakers\n\n\nEvent Title: \n\n2025 Colorado GEAR UP Senior Three Day Bootcamp.\n\n\nClient Program/Organization: \n\nColorado GEAR UP\n\n\nEvent Description: \n\nTimon Gurung and Samuel Brown will provide Keynote Presentations and Breakout Sessions with GEAR UP Senior Students at Harrison High School\, Fort Lupton High School\, and Adams City High School.\n\n\nTheme: \n\nGEAR UP/Education/Team Building.\n\n\nStart Date: \n\n2025-04-29\n\n\nEnd Date:\n\n 2025-05-01\n\n\nStart Time: \n\n9:00 AM\n\n\nEnd Time: \n\n3:00 PM\n\n\nCity/State: \n\nColorado Springs\, CO\n\n\nAudience: \n\nHigh School\n\n\nNumber attending: \n\n120\n\n\n\nJoin with Google Meet: https://meet.google.com/xjz-wdsg-wgq\nOr dial: (US) +1 636-498-4391 PIN: 433638638#\nMore phone numbers: https://tel.meet/xjz-wdsg-wgq?pin=1830063820868&hs=7\nLearn more about Meet at: https://support.google.com/a/users/answer/9282720
URL:https://coolspeak.com/event/2025-colorado-gear-up-senior-three-day-bootcamp/
CATEGORIES:Event
END:VEVENT
BEGIN:VEVENT
DTSTART;TZID=America/New_York:20250429T083000
DTEND;TZID=America/New_York:20250429T153000
DTSTAMP:20260422T224858
CREATED:20250307T164316Z
LAST-MODIFIED:20250429T183516Z
UID:10001696-1745915400-1745940600@coolspeak.com
SUMMARY:2025 NYGEAR UP Annual Conference.
DESCRIPTION:Below are the event details: \n\nSpeaker: \n\nCarlos Ojeda Jr.\n\n\nEvent Title: \n\n2025 NYGEAR UP Annual Conference.\n\n\nClient Program/Organization: \n\nNYS Higher Education Services Corporation\n\n\nEvent Description: \n\nCarlos Ojeda Jr. will provide Two Keynote Presentations for Students and Adults.\n\n\nTheme: \n\nGEAR UP. Education. Leadership.\n\n\nStart Date: \n\n2025-04-29\n\n\nEnd Date: \n\n2025-04-30\n\n\nStart Time:\n\n 8:30 AM\n\n\nEnd Time:\n\n 3:30 PM\n\n\nCity/State:\n\n East Syracuse\, NY\n\n\nAudience: \n\nHigh School\n\n\nNumber attending: \n\n200\n\n\n\nJoin with Google Meet: https://meet.google.com/znx-koyc-ngs\nOr dial: (US) +1 413-961-2582 PIN: 548020899#\nMore phone numbers: https://tel.meet/znx-koyc-ngs?pin=2783255240262&hs=7\nLearn more about Meet at: https://support.google.com/a/users/answer/9282720
URL:https://coolspeak.com/event/2025-nygear-up-annual-conference-3/
CATEGORIES:Event
END:VEVENT
BEGIN:VEVENT
DTSTART;TZID=America/New_York:20250428T080000
DTEND;TZID=America/New_York:20250428T200000
DTSTAMP:20260422T224858
CREATED:20250422T043422Z
LAST-MODIFIED:20250428T234951Z
UID:10001786-1745827200-1745870400@coolspeak.com
SUMMARY:Spring 2025 Harper ISD Career Exploration
DESCRIPTION:Speaker:\n\nJuan Cangas\n\n\nEvent: \n\nSpring 2025 Harper ISD Career Exploration\n\n\nDescription: \n\nOur mission is to support students to navigate academic\, career\, personal\, social and financial development milestones so they’ll be prepared to pursue a career aligned to their strengths\, interests and lifestyle aspirations upon graduation\n\n\nTheme: \n\nCareer Exploration\n\n\nDate:  \n\n4/28/2025\n\n\nPresentation Start Time:  \n\n8:00 AM\n\n\nWorkshop Start Time: \n\n9:00 AM\n\n\nAudience: \n\nHigh School\n\n\nNumber Attending: \n\n175\n\n\n\nJoin with Google Meet: https://meet.google.com/yzr-cioc-ixn\nOr dial: (US) +1 510-679-2560 PIN: 343204503#\nMore phone numbers: https://tel.meet/yzr-cioc-ixn?pin=7396562557911&hs=7\nLearn more about Meet at: https://support.google.com/a/users/answer/9282720
URL:https://coolspeak.com/event/spring-2025-harper-isd-career-exploration/
CATEGORIES:Event
END:VEVENT
BEGIN:VEVENT
DTSTART;VALUE=DATE:20250426
DTEND;VALUE=DATE:20250427
DTSTAMP:20260422T224858
CREATED:20250110T194519Z
LAST-MODIFIED:20250426T233711Z
UID:10001607-1745625600-1745711999@coolspeak.com
SUMMARY:Spring 2025 Heritage University Student Resource Fair
DESCRIPTION:Speakers:\n\nJuan Cangas \nLaura Rizo\n\n\nEvent: \n\nSpring 2025 Heritage University Student Resource Fair\n\n\nDescription: \n\nJuan will be sharing his story\, Juan & Rizo will do two workshops with CAMP Students\n\n\nTheme: \n\nResilience\, Leadership and Motivation\n\n\nDate:  \n\n4/26/2025\n\n\nPresentation Start Time:  \n\n6:00 PM\n\n\nAudience: \n\nCollege\n\n\nNumber Attending: \n\n100
URL:https://coolspeak.com/event/spring-2025-heritage-university-student-resource-fair/
CATEGORIES:Event
END:VEVENT
BEGIN:VEVENT
DTSTART;TZID=America/New_York:20250424T173000
DTEND;TZID=America/New_York:20250424T193000
DTSTAMP:20260422T224858
CREATED:20250421T223458Z
LAST-MODIFIED:20250424T230509Z
UID:10001783-1745515800-1745523000@coolspeak.com
SUMMARY:Virginia State University Trio Financial Literacy
DESCRIPTION:Below are the event details \n\nSpeaker: \n\nMelvin Bridges Jr.\n\n\nEvent Title: \n\nVirginia State University Trio Financial Literacy Programming with MJ Bridges.\n\n\nClient Program/Organization: \n\nVirginia State University\n\n\nEvent Description: \n\nMJ Bridges will provide a Financial Literacy Workshop for Trio College Students.\n\n\nTheme:\n\n Financial Literacy/Trio\n\n\nStart Date: \n\n2025-04-24\n\n\nEnd Date: \n\n2025-04-24\n\n\nStart Time: \n\n5:30 PM\n\n\nEnd Time:\n\n 7:30 PM\n\n\nCity/State: \n\nPetersburg\, VA\n\n\nAudience: \n\nCollege\n\n\nNumber attending:\n\n 60
URL:https://coolspeak.com/event/virginia-state-university-trio-financial-literacy/
CATEGORIES:Event
END:VEVENT
END:VCALENDAR