BEGIN:VCALENDAR
VERSION:2.0
PRODID:-//CoolSpeak - ECPv6.15.18//NONSGML v1.0//EN
CALSCALE:GREGORIAN
METHOD:PUBLISH
X-WR-CALNAME:CoolSpeak
X-ORIGINAL-URL:https://coolspeak.com
X-WR-CALDESC:Events for CoolSpeak
REFRESH-INTERVAL;VALUE=DURATION:PT1H
X-Robots-Tag:noindex
X-PUBLISHED-TTL:PT1H
BEGIN:VTIMEZONE
TZID:America/New_York
BEGIN:DAYLIGHT
TZOFFSETFROM:-0500
TZOFFSETTO:-0400
TZNAME:EDT
DTSTART:20240310T070000
END:DAYLIGHT
BEGIN:STANDARD
TZOFFSETFROM:-0400
TZOFFSETTO:-0500
TZNAME:EST
DTSTART:20241103T060000
END:STANDARD
BEGIN:DAYLIGHT
TZOFFSETFROM:-0500
TZOFFSETTO:-0400
TZNAME:EDT
DTSTART:20250309T070000
END:DAYLIGHT
BEGIN:STANDARD
TZOFFSETFROM:-0400
TZOFFSETTO:-0500
TZNAME:EST
DTSTART:20251102T060000
END:STANDARD
BEGIN:DAYLIGHT
TZOFFSETFROM:-0500
TZOFFSETTO:-0400
TZNAME:EDT
DTSTART:20260308T070000
END:DAYLIGHT
BEGIN:STANDARD
TZOFFSETFROM:-0400
TZOFFSETTO:-0500
TZNAME:EST
DTSTART:20261101T060000
END:STANDARD
END:VTIMEZONE
BEGIN:VEVENT
DTSTART;TZID=America/New_York:20250305T080000
DTEND;TZID=America/New_York:20250305T140000
DTSTAMP:20260423T013926
CREATED:20250123T204322Z
LAST-MODIFIED:20250221T171222Z
UID:10001628-1741161600-1741183200@coolspeak.com
SUMMARY:2025 March CoolSpeak Motivational Day at Center Middle and High School
DESCRIPTION:
URL:https://coolspeak.com/event/2025-march-coolspeak-motivational-day-at-center-middle-and-high-school/
LOCATION:Colorado
CATEGORIES:Event
END:VEVENT
BEGIN:VEVENT
DTSTART;VALUE=DATE:20250305
DTEND;VALUE=DATE:20250306
DTSTAMP:20260423T013926
CREATED:20250117T225832Z
LAST-MODIFIED:20250305T232820Z
UID:10001616-1741132800-1741219199@coolspeak.com
SUMMARY:2025 Blackfoot SD Booth Winner
DESCRIPTION:Speaker:\n\nJuan Cangas\n\n\nEvent: \n\n2025 Blackfoot School District\n\n\nDescription: \n\nJuan will do his keynote for students\n\n\nTheme: \n\nEmpowerment\n\n\nDate:  \n\n3/5/2025\n\n\nPresentation Start Time:  \n\n9:00 AM\n\n\nAudience: \n\nHigh School\n\n\nNumber Attending: \n\n100
URL:https://coolspeak.com/event/2025-blackfoot-sd-booth-winner/
CATEGORIES:Event
END:VEVENT
BEGIN:VEVENT
DTSTART;VALUE=DATE:20250304
DTEND;VALUE=DATE:20250306
DTSTAMP:20260423T013926
CREATED:20250222T222748Z
LAST-MODIFIED:20250305T232821Z
UID:10001675-1741046400-1741219199@coolspeak.com
SUMMARY:Los Lunas Family School Workshop Series W. Ernesto
DESCRIPTION:Speaker:\n\nErnesto Mejia\n\n\nEvent: \n\nLos Lunas Family School Workshop Series W. Ernesto\n\n\nDescription: \n\nErnesto will work with the staff of Los Lunas on Family Engagement\n\n\nTheme: \n\nRelationship Building\n\n\nDate:  \n\n3/4/2025 & 3/5/2025\n\n\nWorkshop Start Time: \n\n8:00 AM\n\n\nAudience: \n\nProfessional\n\n\nNumber Attending: \n\n200
URL:https://coolspeak.com/event/los-lunas-family-school-workshop-series-w-ernesto-2/
CATEGORIES:Event
END:VEVENT
BEGIN:VEVENT
DTSTART;VALUE=DATE:20250304
DTEND;VALUE=DATE:20250305
DTSTAMP:20260423T013926
CREATED:20250117T205941Z
LAST-MODIFIED:20250304T232715Z
UID:10001615-1741046400-1741132799@coolspeak.com
SUMMARY:2025 Minidoka SD Waypoint Booth Winner
DESCRIPTION:Speaker: \n\nJuan Cangas\n\n\nEvent: \n\n2025 Minidoka School District\n\n\nDescription: \n\nJuan will do a keynote for students\n\n\nTheme: \n\nEmpowerment\n\n\nDate:  \n\n3/4/2025\n\n\nPresentation Start Time:  \n\n9:00 AM\n\n\nAudience: \n\nHigh School\n\n\nNumber Attending: \n\n100
URL:https://coolspeak.com/event/2025-minidoka-sd-waypoint-booth-winner/
CATEGORIES:Event
END:VEVENT
BEGIN:VEVENT
DTSTART;TZID=America/New_York:20250303T130000
DTEND;TZID=America/New_York:20250303T180000
DTSTAMP:20260423T013926
CREATED:20250303T062810Z
LAST-MODIFIED:20250303T225748Z
UID:10001691-1741006800-1741024800@coolspeak.com
SUMMARY:Spring 2025 Santa Fe High School Assemblies
DESCRIPTION:Speaker:\n\nCarlos Ojeda Jr\n\n\nEvent: \n\nSpring 2025 Santa Fe High School Assemblies\n\n\n\n\nDescription: \n\nChu will do 2 assemblies and work with EL students at Santa Fe High School\n\n\nTheme: \n\nFight Forward\n\n\nDate:  \n\n3/3/2025\n\n\nPresentation Start Time:  \n\n10:00 AM\n\n\nWorkshop Start Time: \n\n12:30 PM\n\n\nAudience: \n\nHigh School\n\n\nNumber Attending: \n\n1\,800
URL:https://coolspeak.com/event/spring-2025-santa-fe-high-school-assemblies/
CATEGORIES:Event
END:VEVENT
BEGIN:VEVENT
DTSTART;TZID=America/New_York:20250303T083000
DTEND;TZID=America/New_York:20250303T143000
DTSTAMP:20260423T013926
CREATED:20250206T172826Z
LAST-MODIFIED:20250303T184227Z
UID:10001661-1740990600-1741012200@coolspeak.com
SUMMARY:2025 Fort Wayne GEAR UP Poetry Seminar
DESCRIPTION:Below are the event details: \n\nSpeaker: \n\nCustomized CoolProgram\n\n\nEvent Title: \n\n2025 Fort Wayne GEAR UP Poetry Seminar.\n\n\nClient Program/Organization: \n\nFort Wayne Community Schools\n\n\nEvent Description: \n\nNatasha Carrizosa will provide Motivational Student/Staff/Parent Presentations over the course of three days.\n\n\nTheme: \n\nPoetry Seminar\n\n\nStart Date: \n\n2025-02-27\n\n\nEnd Date: \n\n2025-03-03\n\n\nStart Time: \n\n8:00 AM\n\n\nEnd Time:\n\n2:30 PM\n\n\nCity/State:\n\n Fort Wayne\, IN\n\n\nAudience: \n\nHigh School\n\n\nNumber attending: \n\n300\n\n\n\nJoin with Google Meet: https://meet.google.com/zas-hekf-rcr\nOr dial: (US) +1 571-758-2761 PIN: 636571734#\nMore phone numbers: https://tel.meet/zas-hekf-rcr?pin=2379949056102&hs=7\nLearn more about Meet at: https://support.google.com/a/users/answer/9282720
URL:https://coolspeak.com/event/2025-fort-wayne-gear-up-poetry-seminar-5/
CATEGORIES:Event
END:VEVENT
BEGIN:VEVENT
DTSTART;TZID=America/New_York:20250303T083000
DTEND;TZID=America/New_York:20250303T120000
DTSTAMP:20260423T013926
CREATED:20250226T002806Z
LAST-MODIFIED:20250303T162753Z
UID:10001681-1740990600-1741003200@coolspeak.com
SUMMARY:St. Petersburg High School W Lamarr
DESCRIPTION:Speaker: Lamarr WombleEvent Title: Spring 2025 St. Petersburg High School Lamarr WombleClient Program/Organization: Saint Petersburg High SchoolEvent Description: Legendary Student Series with Lamarr WombleTheme: Legendary Leadership and Building School CultureStart Date: 2025-03-03End Date: 2025-04-30Start Time: 8:00 AMEnd Time: 12:00 PMCity/State: St. Petersburg\, FLAudience: High SchoolNumber attending: 900
URL:https://coolspeak.com/event/st-petersburg-high-school-w-lamarr/
CATEGORIES:Event
END:VEVENT
BEGIN:VEVENT
DTSTART;TZID=America/New_York:20250302T083000
DTEND;TZID=America/New_York:20250302T143000
DTSTAMP:20260423T013926
CREATED:20250206T172826Z
LAST-MODIFIED:20250302T184333Z
UID:10001660-1740904200-1740925800@coolspeak.com
SUMMARY:2025 Fort Wayne GEAR UP Poetry Seminar
DESCRIPTION:Below are the event details: \n\nSpeaker: \n\nCustomized CoolProgram\n\n\nEvent Title: \n\n2025 Fort Wayne GEAR UP Poetry Seminar.\n\n\nClient Program/Organization: \n\nFort Wayne Community Schools\n\n\nEvent Description: \n\nNatasha Carrizosa will provide Motivational Student/Staff/Parent Presentations over the course of three days.\n\n\nTheme: \n\nPoetry Seminar\n\n\nStart Date: \n\n2025-02-27\n\n\nEnd Date: \n\n2025-03-03\n\n\nStart Time: \n\n8:00 AM\n\n\nEnd Time:\n\n2:30 PM\n\n\nCity/State:\n\n Fort Wayne\, IN\n\n\nAudience: \n\nHigh School\n\n\nNumber attending: \n\n300\n\n\n\nJoin with Google Meet: https://meet.google.com/zas-hekf-rcr\nOr dial: (US) +1 571-758-2761 PIN: 636571734#\nMore phone numbers: https://tel.meet/zas-hekf-rcr?pin=2379949056102&hs=7\nLearn more about Meet at: https://support.google.com/a/users/answer/9282720
URL:https://coolspeak.com/event/2025-fort-wayne-gear-up-poetry-seminar-4/
CATEGORIES:Event
END:VEVENT
BEGIN:VEVENT
DTSTART;TZID=America/New_York:20250301T083000
DTEND;TZID=America/New_York:20250301T143000
DTSTAMP:20260423T013926
CREATED:20250206T172826Z
LAST-MODIFIED:20250301T185708Z
UID:10001659-1740817800-1740839400@coolspeak.com
SUMMARY:2025 Fort Wayne GEAR UP Poetry Seminar
DESCRIPTION:Below are the event details: \n\nSpeaker: \n\nCustomized CoolProgram\n\n\nEvent Title: \n\n2025 Fort Wayne GEAR UP Poetry Seminar.\n\n\nClient Program/Organization: \n\nFort Wayne Community Schools\n\n\nEvent Description: \n\nNatasha Carrizosa will provide Motivational Student/Staff/Parent Presentations over the course of three days.\n\n\nTheme: \n\nPoetry Seminar\n\n\nStart Date: \n\n2025-02-27\n\n\nEnd Date: \n\n2025-03-03\n\n\nStart Time: \n\n8:00 AM\n\n\nEnd Time:\n\n2:30 PM\n\n\nCity/State:\n\n Fort Wayne\, IN\n\n\nAudience: \n\nHigh School\n\n\nNumber attending: \n\n300\n\n\n\nJoin with Google Meet: https://meet.google.com/zas-hekf-rcr\nOr dial: (US) +1 571-758-2761 PIN: 636571734#\nMore phone numbers: https://tel.meet/zas-hekf-rcr?pin=2379949056102&hs=7\nLearn more about Meet at: https://support.google.com/a/users/answer/9282720
URL:https://coolspeak.com/event/2025-fort-wayne-gear-up-poetry-seminar-3/
CATEGORIES:Event
END:VEVENT
BEGIN:VEVENT
DTSTART;TZID=America/New_York:20250228T083000
DTEND;TZID=America/New_York:20250228T143000
DTSTAMP:20260423T013926
CREATED:20250206T172826Z
LAST-MODIFIED:20250228T191322Z
UID:10001658-1740731400-1740753000@coolspeak.com
SUMMARY:2025 Fort Wayne GEAR UP Poetry Seminar
DESCRIPTION:Below are the event details: \n\nSpeaker: \n\nCustomized CoolProgram\n\n\nEvent Title: \n\n2025 Fort Wayne GEAR UP Poetry Seminar.\n\n\nClient Program/Organization: \n\nFort Wayne Community Schools\n\n\nEvent Description: \n\nNatasha Carrizosa will provide Motivational Student/Staff/Parent Presentations over the course of three days.\n\n\nTheme: \n\nPoetry Seminar\n\n\nStart Date: \n\n2025-02-27\n\n\nEnd Date: \n\n2025-03-03\n\n\nStart Time: \n\n8:00 AM\n\n\nEnd Time:\n\n2:30 PM\n\n\nCity/State:\n\n Fort Wayne\, IN\n\n\nAudience: \n\nHigh School\n\n\nNumber attending: \n\n300\n\n\n\nJoin with Google Meet: https://meet.google.com/zas-hekf-rcr\nOr dial: (US) +1 571-758-2761 PIN: 636571734#\nMore phone numbers: https://tel.meet/zas-hekf-rcr?pin=2379949056102&hs=7\nLearn more about Meet at: https://support.google.com/a/users/answer/9282720
URL:https://coolspeak.com/event/2025-fort-wayne-gear-up-poetry-seminar-2/
CATEGORIES:Event
END:VEVENT
BEGIN:VEVENT
DTSTART;VALUE=DATE:20250228
DTEND;VALUE=DATE:20250301
DTSTAMP:20260423T013926
CREATED:20250115T221305Z
LAST-MODIFIED:20250228T235809Z
UID:10001613-1740700800-1740787199@coolspeak.com
SUMMARY:North East ISD 23rd Annual Family Engagement Training
DESCRIPTION:Speaker: \n\nErnesto Mejia\n\n\nEvent: \n\nNorth East ISD 23rd Annual Family Engagement Training\n\n\nDescription: \n\nErnesto will do his keynote for the families of North East ISD focusing on being involved in their child’s education and how it looks different in each household.\n\n\nTheme: \n\nFinding The Joy of The Journey\n\n\nDate:  \n\n2/28/2025\n\n\nPresentation Start Time:  \n\n10:00 AM\n\n\nWorkshop Start Time: \n\n11:00 AM\n\n\nAudience: \n\nParents\n\n\nNumber Attending: \n\n500
URL:https://coolspeak.com/event/north-east-isd-23rd-annual-family-engagement-training/
CATEGORIES:Event
END:VEVENT
BEGIN:VEVENT
DTSTART;TZID=America/New_York:20250227T110000
DTEND;TZID=America/New_York:20250227T160000
DTSTAMP:20260423T013926
CREATED:20250220T124442Z
LAST-MODIFIED:20250227T201237Z
UID:10001667-1740654000-1740672000@coolspeak.com
SUMMARY:Winter 2025 CSUMB PD
DESCRIPTION:Speaker:\n\nErnesto Mejia\n\n\nEvent: \n\nWinter 2025 CSUMB PD Self Care Day\n\n\nDescription: \n\nErnesto will be working with the staff of CSUMB on Self Care\n\n\nTheme: \n\nSelf Care\n\n\nDate:  \n\n2/27/2025\n\n\nPresentation Start Time:  \n\n8:30 AM\n\n\nWorkshop Start Time: \n\n9:00 AM\n\n\nAudience: \n\nProfessional\n\n\nNumber Attending: \n\n40\n\n\n\nJoin Zoom Meeting\nhttps://coolspeak.zoom.us/j/88684418153 (ID: 88684418153)\nJoin by phone\n(US) +1 305-224-1968\nJoining instructions: https://www.google.com/url?q=https://applications.zoom.us/addon/invitation/detail?meetingUuid%3D6lQRbTY2T6WGktX51X%252BRaw%253D%253D%26signature%3Ddd9f600594c7066b6ba0e496ef6836a6a2a076ed92855221628bcf7dcfae9c75%26v%3D1&sa=D&source=calendar&usg=AOvVaw15bbXpoLe12g1wYi4BCrpm\nMeeting host: gil@coolspeak.net \nJoin Zoom Meeting: https://coolspeak.zoom.us/j/88684418153
URL:https://coolspeak.com/event/winter-2025-csumb-pd/
CATEGORIES:Event
END:VEVENT
BEGIN:VEVENT
DTSTART;TZID=America/New_York:20250227T083000
DTEND;TZID=America/New_York:20250227T143000
DTSTAMP:20260423T013926
CREATED:20250206T172826Z
LAST-MODIFIED:20250227T191300Z
UID:10001657-1740645000-1740666600@coolspeak.com
SUMMARY:2025 Fort Wayne GEAR UP Poetry Seminar
DESCRIPTION:Below are the event details: \n\nSpeaker: \n\nCustomized CoolProgram\n\n\nEvent Title: \n\n2025 Fort Wayne GEAR UP Poetry Seminar.\n\n\nClient Program/Organization: \n\nFort Wayne Community Schools\n\n\nEvent Description: \n\nNatasha Carrizosa will provide Motivational Student/Staff/Parent Presentations over the course of three days.\n\n\nTheme: \n\nPoetry Seminar\n\n\nStart Date: \n\n2025-02-27\n\n\nEnd Date: \n\n2025-03-03\n\n\nStart Time: \n\n8:00 AM\n\n\nEnd Time:\n\n2:30 PM\n\n\nCity/State:\n\n Fort Wayne\, IN\n\n\nAudience: \n\nHigh School\n\n\nNumber attending: \n\n300\n\n\n\nJoin with Google Meet: https://meet.google.com/zas-hekf-rcr\nOr dial: (US) +1 571-758-2761 PIN: 636571734#\nMore phone numbers: https://tel.meet/zas-hekf-rcr?pin=2379949056102&hs=7\nLearn more about Meet at: https://support.google.com/a/users/answer/9282720
URL:https://coolspeak.com/event/2025-fort-wayne-gear-up-poetry-seminar/
CATEGORIES:Event
END:VEVENT
BEGIN:VEVENT
DTSTART;TZID=America/New_York:20250226T090000
DTEND;TZID=America/New_York:20250226T120000
DTSTAMP:20260423T013926
CREATED:20250129T194359Z
LAST-MODIFIED:20250226T155747Z
UID:10001638-1740560400-1740571200@coolspeak.com
SUMMARY:What Does Active Citizenship Mean To You?
DESCRIPTION:Below are the event details: \n\nSpeaker: \n\nLilyan Prado Carrillo\n\n\nEvent Title: \n\nWhat Does Active Citizenship Mean To You?\n\n\nClient Program/Organization: \n\nFrederick Gunn School\n\n\nEvent Description: \n\nLilyan Prado-Carrillo will provide a Keynote Presentation and Workshop Sessions for Students and Faculty.\n\n\nTheme: Focus: \n\nEngaged Learners. Community-Oriented. Develop Civic Responsibility.\n\n\nStart Date:\n\n 2025-02-26\n\n\nEnd Date: \n\n2025-02-26\n\n\nStart Time: \n\n9:00 AM\n\n\nEnd Time: \n\n12:00 PM\n\n\nCity/State: \n\n99 Green Hill Rd.\nWashington\, CT\n\n\nAudience: \n\nHigh School\n\n\nNumber attending: \n\n60
URL:https://coolspeak.com/event/what-does-active-citizenship-mean-to-you/
CATEGORIES:Event
END:VEVENT
BEGIN:VEVENT
DTSTART;TZID=America/New_York:20250226T083000
DTEND;TZID=America/New_York:20250226T143000
DTSTAMP:20260423T013926
CREATED:20250206T172826Z
LAST-MODIFIED:20250226T191254Z
UID:10001656-1740558600-1740580200@coolspeak.com
SUMMARY:2025 Fort Wayne GEAR UP Poetry Seminar at Wayne High School.
DESCRIPTION:Below are the event details: \n\nSpeaker: \n\nCustomized CoolProgram\n\n\nEvent Title:\n\n 2025 Fort Wayne GEAR UP Poetry Seminar at Wayne High School.\n\n\nClient Program/Organization: \n\nFort Wayne Community Schools\n\n\nEvent Description: \n\nNatasha Carrizosa and Tim Stafford will provide Motivational Student/Staff/Parent Presentations over the course of three days.\n\n\nTheme: \n\nPoetry Seminar\n\n\nStart Date: \n\n2025-02-24\n\n\nEnd Date: \n\n2025-02-26\n\n\nStart Time: \n\n8:00 AM\n\n\nEnd Time: \n\n2:30 PM\n\n\nCity/State: \n\nFort Wayne\, IN\n\n\nAudience:\n\n High School\n\n\nNumber attending:\n\n 250\n\n\n\nJoin with Google Meet: https://meet.google.com/puj-awtm-rmg\nOr dial: (US) +1 219-281-4352 PIN: 555588479#\nMore phone numbers: https://tel.meet/puj-awtm-rmg?pin=2311732181915&hs=7\nLearn more about Meet at: https://support.google.com/a/users/answer/9282720
URL:https://coolspeak.com/event/2025-fort-wayne-gear-up-poetry-seminar-at-wayne-high-school-3/
CATEGORIES:Event
END:VEVENT
BEGIN:VEVENT
DTSTART;TZID=America/New_York:20250225T083000
DTEND;TZID=America/New_York:20250225T143000
DTSTAMP:20260423T013926
CREATED:20250206T172826Z
LAST-MODIFIED:20250225T184403Z
UID:10001655-1740472200-1740493800@coolspeak.com
SUMMARY:2025 Fort Wayne GEAR UP Poetry Seminar at Wayne High School.
DESCRIPTION:Below are the event details: \n\nSpeaker: \n\nCustomized CoolProgram\n\n\nEvent Title:\n\n 2025 Fort Wayne GEAR UP Poetry Seminar at Wayne High School.\n\n\nClient Program/Organization: \n\nFort Wayne Community Schools\n\n\nEvent Description: \n\nNatasha Carrizosa and Tim Stafford will provide Motivational Student/Staff/Parent Presentations over the course of three days.\n\n\nTheme: \n\nPoetry Seminar\n\n\nStart Date: \n\n2025-02-24\n\n\nEnd Date: \n\n2025-02-26\n\n\nStart Time: \n\n8:00 AM\n\n\nEnd Time: \n\n2:30 PM\n\n\nCity/State: \n\nFort Wayne\, IN\n\n\nAudience:\n\n High School\n\n\nNumber attending:\n\n 250\n\n\n\nJoin with Google Meet: https://meet.google.com/puj-awtm-rmg\nOr dial: (US) +1 219-281-4352 PIN: 555588479#\nMore phone numbers: https://tel.meet/puj-awtm-rmg?pin=2311732181915&hs=7\nLearn more about Meet at: https://support.google.com/a/users/answer/9282720
URL:https://coolspeak.com/event/2025-fort-wayne-gear-up-poetry-seminar-at-wayne-high-school-2/
CATEGORIES:Event
END:VEVENT
BEGIN:VEVENT
DTSTART;TZID=America/New_York:20250224T183000
DTEND;TZID=America/New_York:20250224T203000
DTSTAMP:20260423T013926
CREATED:20250213T044249Z
LAST-MODIFIED:20250225T011316Z
UID:10001666-1740421800-1740429000@coolspeak.com
SUMMARY:2025 GEAR UP TN Kickoff Banquet
DESCRIPTION:Speaker: \n\nChris Collins\n\n\nEvent: \n\nTennessee Tech University\n\n\nDescription: \n\nKickoff banquet for administration and school staff in each county .\n\n\nDate:  \n\n2/24/2025\n\n\nPresentation Start Time:  \n\n5:30 PM\n\n\nWorkshop Start Time: \n\n5:30 PM\n\n\nVenue: \n\nConference Center\n\n\nAudience: \n\nProfessional\n\n\nNumber Attending: \n\n100
URL:https://coolspeak.com/event/2025-gear-up-tn-kickoff-banquet/
CATEGORIES:Event
END:VEVENT
BEGIN:VEVENT
DTSTART;TZID=America/New_York:20250224T083000
DTEND;TZID=America/New_York:20250224T143000
DTSTAMP:20260423T013926
CREATED:20250206T172826Z
LAST-MODIFIED:20250224T191339Z
UID:10001654-1740385800-1740407400@coolspeak.com
SUMMARY:2025 Fort Wayne GEAR UP Poetry Seminar at Wayne High School.
DESCRIPTION:Below are the event details: \n\nSpeaker: \n\nCustomized CoolProgram\n\n\nEvent Title:\n\n 2025 Fort Wayne GEAR UP Poetry Seminar at Wayne High School.\n\n\nClient Program/Organization: \n\nFort Wayne Community Schools\n\n\nEvent Description: \n\nNatasha Carrizosa and Tim Stafford will provide Motivational Student/Staff/Parent Presentations over the course of three days.\n\n\nTheme: \n\nPoetry Seminar\n\n\nStart Date: \n\n2025-02-24\n\n\nEnd Date: \n\n2025-02-26\n\n\nStart Time: \n\n8:00 AM\n\n\nEnd Time: \n\n2:30 PM\n\n\nCity/State: \n\nFort Wayne\, IN\n\n\nAudience:\n\n High School\n\n\nNumber attending:\n\n 250
URL:https://coolspeak.com/event/2025-fort-wayne-gear-up-poetry-seminar-at-wayne-high-school/
CATEGORIES:Event
END:VEVENT
BEGIN:VEVENT
DTSTART;TZID=America/New_York:20250223T090000
DTEND;TZID=America/New_York:20250223T160000
DTSTAMP:20260423T013926
CREATED:20240617T212613Z
LAST-MODIFIED:20250223T201305Z
UID:10001400-1740301200-1740326400@coolspeak.com
SUMMARY:FASC State 2025 Conference.
DESCRIPTION:Event Title:\nFASC State 2025 Conference.\nEvent Description:\nJuan Cangas will provide a Keynote Presentation.\nEvent Theme:\nLeadership and Student Council.\nDate:\n2/23/2025\nTime:\n9:00 AM – 4:00 PM EST\nLocation:\nOrlando\, FL
URL:https://coolspeak.com/event/fasc-state-2025-conference-2/
CATEGORIES:Event
END:VEVENT
BEGIN:VEVENT
DTSTART;TZID=America/New_York:20250222T090000
DTEND;TZID=America/New_York:20250222T160000
DTSTAMP:20260423T013926
CREATED:20240617T212613Z
LAST-MODIFIED:20250222T202856Z
UID:10001399-1740214800-1740240000@coolspeak.com
SUMMARY:FASC State 2025 Conference.
DESCRIPTION:Event Title:\nFASC State 2025 Conference.\nEvent Description:\nLilyan Prado-Carrillo will Keynote and provide multiple workshop presentations.\nEvent Theme:\nLeadership and Student Council.\nDate:\n2/23/2025\nTime:\n9:00 AM – 4:00 PM EST\nLocation:\nOrlando\, FL
URL:https://coolspeak.com/event/fasc-state-2025-conference/
CATEGORIES:Event
END:VEVENT
BEGIN:VEVENT
DTSTART;TZID=America/New_York:20250222T080000
DTEND;TZID=America/New_York:20250222T200000
DTSTAMP:20260423T013926
CREATED:20241124T124344Z
LAST-MODIFIED:20250223T004329Z
UID:10001574-1740211200-1740254400@coolspeak.com
SUMMARY:GTF Scholars Leadership Conference.
DESCRIPTION:Below are the event details: \n\nSpeaker: \n\nCustomized CoolProgram\n\n\nEvent Title: \n\nGTF Scholars Leadership Conference.\n\n\nClient Program/Organization: \n\nGreater Texas Foundation\n\n\nEvent Description: \n\nJoaquin Zihuatanejo and Natasha Carrizosa will provide a Keynote Presentation and Workshops for\n\n\nTheme: \n\nLeadership. Youth Empowerment. Self Expression.\n\n\nStart Date: \n\n2025-02-21\n\n\nEnd Date: \n\n2025-02-22\n\n\nStart Time: \n\n8:00 AM\n\n\nEnd Time: \n\n8:00 PM\n\n\nCity/State: \n\nBryan\, TX\n\n\nAudience: \n\nCollege\n\n\nNumber attending: \n\n80\n\n\n\nJoin with Google Meet: https://meet.google.com/iff-ncve-bse\nOr dial: (US) +1 475-239-1459 PIN: 612847062#\nMore phone numbers: https://tel.meet/iff-ncve-bse?pin=7305744027116&hs=7\nLearn more about Meet at: https://support.google.com/a/users/answer/9282720
URL:https://coolspeak.com/event/gtf-scholars-leadership-conference-2/
CATEGORIES:Event
END:VEVENT
BEGIN:VEVENT
DTSTART;TZID=America/New_York:20250221T113000
DTEND;TZID=America/New_York:20250221T173000
DTSTAMP:20260423T013926
CREATED:20241101T171350Z
LAST-MODIFIED:20250221T222910Z
UID:10001565-1740137400-1740159000@coolspeak.com
SUMMARY:Together Towards Tomorrow Migrant Parent and Student Conference.
DESCRIPTION:Below are the event details: \n\nSpeaker: \n\nLaura Rizo\n\n\nEvent Title: \n\nTogether Towards Tomorrow Migrant Parent and Student Conference.\n\n\nClient Program/Organization: \n\nEducation Service District 123\n\n\nEvent Description: \n\nLaura Rizo will provide a Keynote Presentation\, Parent and Student Workshop Sessions for Migrant Parents and Students.\n\n\nTheme: \n\nBlooming in Education: Migrant parents and students to feel empowered to build positive relationships to further education and remove barriers.\n\n\nStart Date:\n\n 2025-02-21\n\n\nEnd Date: \n\n2025-02-21\n\n\nStart Time: \n\n8:30 AM\n\n\nEnd Time: \n\n2:30 PM\n\n\nAddress: \n\nKennewick\, WA 99336\n\n\nAudience: \n\nParents\n\n\nNumber attending: \n\n450\n\n\n\nJoin with Google Meet: https://meet.google.com/kxd-scmc-rjb\nOr dial: (US) +1 941-451-2717 PIN: 496887375#\nMore phone numbers: https://tel.meet/kxd-scmc-rjb?pin=1678330648768&hs=7\nLearn more about Meet at: https://support.google.com/a/users/answer/9282720
URL:https://coolspeak.com/event/together-towards-tomorrow-migrant-parent-and-student-conference/
CATEGORIES:Event
END:VEVENT
BEGIN:VEVENT
DTSTART;TZID=America/New_York:20250221T080000
DTEND;TZID=America/New_York:20250221T200000
DTSTAMP:20260423T013926
CREATED:20241124T124344Z
LAST-MODIFIED:20250222T002749Z
UID:10001573-1740124800-1740168000@coolspeak.com
SUMMARY:GTF Scholars Leadership Conference.
DESCRIPTION:Below are the event details: \n\nSpeaker: \n\nCustomized CoolProgram\n\n\nEvent Title: \n\nGTF Scholars Leadership Conference.\n\n\nClient Program/Organization: \n\nGreater Texas Foundation\n\n\nEvent Description: \n\nJoaquin Zihuatanejo and Natasha Carrizosa will provide a Keynote Presentation and Workshops for\n\n\nTheme: \n\nLeadership. Youth Empowerment. Self Expression.\n\n\nStart Date: \n\n2025-02-21\n\n\nEnd Date: \n\n2025-02-22\n\n\nStart Time: \n\n8:00 AM\n\n\nEnd Time: \n\n8:00 PM\n\n\nCity/State: \n\nBryan\, TX\n\n\nAudience: \n\nCollege\n\n\nNumber attending: \n\n80
URL:https://coolspeak.com/event/gtf-scholars-leadership-conference/
CATEGORIES:Event
END:VEVENT
BEGIN:VEVENT
DTSTART;VALUE=DATE:20250221
DTEND;VALUE=DATE:20250222
DTSTAMP:20260423T013926
CREATED:20250129T034247Z
LAST-MODIFIED:20250221T232745Z
UID:10001634-1740096000-1740182399@coolspeak.com
SUMMARY:Spring 2025 Ukiah High School
DESCRIPTION:Speaker:\n\nLamarr Womble\n\n\nEvent: \n\nSpring 2025 Ukiah High School\n\n\nDescription: \n\nLamarr will share his story and work with the students of Ukiah HS on School Culture\n\n\nTheme: \n\nBlack History Month / School Culture\n\n\nDate:  \n\n2/21/2025\n\n\nPresentation Start Time:  \n\n8:30 AM\n\n\nWorkshop Start Time: \n\n9:30 AM\n\n\nAudience: \n\nHigh School\n\n\nNumber Attending: \n\n100
URL:https://coolspeak.com/event/spring-2025-ukiah-high-school/
CATEGORIES:Event
END:VEVENT
BEGIN:VEVENT
DTSTART;TZID=America/New_York:20250220T090000
DTEND;TZID=America/New_York:20250220T100000
DTSTAMP:20260423T013926
CREATED:20250206T162908Z
LAST-MODIFIED:20250220T145741Z
UID:10001650-1740042000-1740045600@coolspeak.com
SUMMARY:Mount Healthy High School Leadership Summit with Lamarr Womble.
DESCRIPTION:Below are the event details: \n\nSpeaker: \n\nLamarr Womble\n\n\nEvent Title: \n\nMount Healthy High School Leadership Summit with Lamarr Womble.\n\n\nClient Program/Organization: \n\nCincinnati Youth Collaborative\n\n\nEvent Description: \n\nLamar Womble will provide a Keynote Presentation.\n\n\nTheme: \n\nGEAR UP\n\n\nStart Date: \n\n2025-02-20\n\n\nEnd Date: \n\n2025-02-20\n\n\nStart Time:\n\n 9:00 AM\n\n\nEnd Time: \n\n10:00 AM\n\n\nCity/State:\n\n Cincinnati\, OH\n\n\nAudience: \n\nHigh School\n\n\nNumber attending: \n\n200
URL:https://coolspeak.com/event/mount-healthy-high-school-leadership-summit-with-lamarr-womble-2/
CATEGORIES:Event
END:VEVENT
BEGIN:VEVENT
DTSTART;TZID=America/New_York:20250219T113000
DTEND;TZID=America/New_York:20250219T160000
DTSTAMP:20260423T013926
CREATED:20240504T022639Z
LAST-MODIFIED:20250213T122846Z
UID:10001332-1739964600-1739980800@coolspeak.com
SUMMARY:2025 Denair High School
DESCRIPTION:Event: \n\n2025 Denair High School\n\n\nDescription: \n\nJuan will do a presentation and breakout session with the students of Denair High School\n\n\nTheme: \n\nCareer Day\n\n\nDate:  \n\n2/19/2025\n\n\nPresentation Start Time:  \n\n8:30 AM\n\n\nWorkshop Start Time: \n\n9:30 AM\n\n\nEvent Address: \n\nDenair\, CA\n\n\nAudience: \n\nHigh School\n\n\nNumber Attending: \n\n350
URL:https://coolspeak.com/event/2025-denair-high-school/
CATEGORIES:Event
END:VEVENT
BEGIN:VEVENT
DTSTART;TZID=America/New_York:20250219T080000
DTEND;TZID=America/New_York:20250219T110000
DTSTAMP:20260423T013926
CREATED:20250129T225854Z
LAST-MODIFIED:20250213T122845Z
UID:10001647-1739952000-1739962800@coolspeak.com
SUMMARY:2025 MEAEOPP Conference
DESCRIPTION:
URL:https://coolspeak.com/event/2025-meaeopp-conference-4/
LOCATION:Roanoke\, VA\, USA
CATEGORIES:Event
END:VEVENT
BEGIN:VEVENT
DTSTART;TZID=America/New_York:20250218T080000
DTEND;TZID=America/New_York:20250218T213000
DTSTAMP:20260423T013926
CREATED:20250129T225854Z
LAST-MODIFIED:20250213T122845Z
UID:10001646-1739865600-1739914200@coolspeak.com
SUMMARY:2025 MEAEOPP Conference
DESCRIPTION:
URL:https://coolspeak.com/event/2025-meaeopp-conference-3/
LOCATION:Roanoke\, VA\, USA
CATEGORIES:Event
END:VEVENT
BEGIN:VEVENT
DTSTART;TZID=America/New_York:20250217T080000
DTEND;TZID=America/New_York:20250217T173000
DTSTAMP:20260423T013926
CREATED:20250129T225854Z
LAST-MODIFIED:20250213T122845Z
UID:10001645-1739779200-1739813400@coolspeak.com
SUMMARY:2025 MEAEOPP Conference
DESCRIPTION:
URL:https://coolspeak.com/event/2025-meaeopp-conference-2/
LOCATION:Roanoke\, VA\, USA
CATEGORIES:Event
END:VEVENT
BEGIN:VEVENT
DTSTART;TZID=America/New_York:20250216T130000
DTEND;TZID=America/New_York:20250216T203000
DTSTAMP:20260423T013926
CREATED:20250129T215854Z
LAST-MODIFIED:20250213T122845Z
UID:10001644-1739710800-1739737800@coolspeak.com
SUMMARY:2025 MEAEOPP Conference
DESCRIPTION:
URL:https://coolspeak.com/event/2025-meaeopp-conference/
LOCATION:Roanoke\, VA\, USA
CATEGORIES:Event
END:VEVENT
END:VCALENDAR