BEGIN:VCALENDAR
VERSION:2.0
PRODID:-//CoolSpeak - ECPv6.15.18//NONSGML v1.0//EN
CALSCALE:GREGORIAN
METHOD:PUBLISH
X-WR-CALNAME:CoolSpeak
X-ORIGINAL-URL:https://coolspeak.com
X-WR-CALDESC:Events for CoolSpeak
REFRESH-INTERVAL;VALUE=DURATION:PT1H
X-Robots-Tag:noindex
X-PUBLISHED-TTL:PT1H
BEGIN:VTIMEZONE
TZID:America/New_York
BEGIN:DAYLIGHT
TZOFFSETFROM:-0500
TZOFFSETTO:-0400
TZNAME:EDT
DTSTART:20210314T070000
END:DAYLIGHT
BEGIN:STANDARD
TZOFFSETFROM:-0400
TZOFFSETTO:-0500
TZNAME:EST
DTSTART:20211107T060000
END:STANDARD
BEGIN:DAYLIGHT
TZOFFSETFROM:-0500
TZOFFSETTO:-0400
TZNAME:EDT
DTSTART:20220313T070000
END:DAYLIGHT
BEGIN:STANDARD
TZOFFSETFROM:-0400
TZOFFSETTO:-0500
TZNAME:EST
DTSTART:20221106T060000
END:STANDARD
BEGIN:DAYLIGHT
TZOFFSETFROM:-0500
TZOFFSETTO:-0400
TZNAME:EDT
DTSTART:20230312T070000
END:DAYLIGHT
BEGIN:STANDARD
TZOFFSETFROM:-0400
TZOFFSETTO:-0500
TZNAME:EST
DTSTART:20231105T060000
END:STANDARD
END:VTIMEZONE
BEGIN:VEVENT
DTSTART;TZID=America/New_York:20220323T170000
DTEND;TZID=America/New_York:20220323T200000
DTSTAMP:20260423T191443
CREATED:20220302T140322Z
LAST-MODIFIED:20220302T140322Z
UID:10000251-1648054800-1648065600@coolspeak.com
SUMMARY:Truckee Meadows Community College Men of Color Presentation.
DESCRIPTION:Title:Truckee Meadows Community College Men of Color Presentation. \nDescription:Ernesto Mejia will provide a student and staff presentation. \nTheme:Inspiration. Motivation. Empowerment. \nDate:03/23/2022 \nTime: 2:00pm – 5:00pm PST \nLocation:Reno\, NV
URL:https://coolspeak.com/event/truckee-meadows-community-college-men-of-color-presentation/
END:VEVENT
BEGIN:VEVENT
DTSTART;TZID=America/New_York:20220323T170000
DTEND;TZID=America/New_York:20220323T200000
DTSTAMP:20260423T191443
CREATED:20220302T140322Z
LAST-MODIFIED:20220302T140322Z
UID:10000269-1648054800-1648065600@coolspeak.com
SUMMARY:Truckee Meadows Community College Men of Color Presentation.
DESCRIPTION:Title:Truckee Meadows Community College Men of Color Presentation. \nDescription:Ernesto Mejia will provide a student and staff presentation. \nTheme:Inspiration. Motivation. Empowerment. \nDate:03/23/2022 \nTime: 2:00pm – 5:00pm PST \nLocation:Reno\, NV
URL:https://coolspeak.com/event/truckee-meadows-community-college-men-of-color-presentation-2/
END:VEVENT
BEGIN:VEVENT
DTSTART;TZID=America/New_York:20220322T180000
DTEND;TZID=America/New_York:20220322T190000
DTSTAMP:20260423T191443
CREATED:20220302T140322Z
LAST-MODIFIED:20220302T140322Z
UID:10000249-1647972000-1647975600@coolspeak.com
SUMMARY:2022 Thomas University Virtual Book Club with Natasha Carrizosa.
DESCRIPTION:Title:2022 Thomas University Virtual Book Club with Natasha Carrizosa. \nDescription:Four-Week Interactive Virtual Book Club. \nTheme:Youth Empowerment and Self- Expression. \nDate(s): 03/08/202203/15/202203/22/202203/29/2022 \nTime:6:00pm – 7:00pm EST  Location:Virtual
URL:https://coolspeak.com/event/2022-thomas-university-virtual-book-club-with-natasha-carrizosa-3/
END:VEVENT
BEGIN:VEVENT
DTSTART;TZID=America/New_York:20220322T180000
DTEND;TZID=America/New_York:20220322T190000
DTSTAMP:20260423T191443
CREATED:20220302T140322Z
LAST-MODIFIED:20220302T140322Z
UID:10000268-1647972000-1647975600@coolspeak.com
SUMMARY:2022 Thomas University Virtual Book Club with Natasha Carrizosa.
DESCRIPTION:Title:2022 Thomas University Virtual Book Club with Natasha Carrizosa. \nDescription:Four-Week Interactive Virtual Book Club. \nTheme:Youth Empowerment and Self- Expression. \nDate(s): 03/08/202203/15/202203/22/202203/29/2022 \nTime:6:00pm – 7:00pm EST  Location:Virtual
URL:https://coolspeak.com/event/2022-thomas-university-virtual-book-club-with-natasha-carrizosa-3-2/
END:VEVENT
BEGIN:VEVENT
DTSTART;TZID=America/New_York:20220319T110000
DTEND;TZID=America/New_York:20220319T130000
DTSTAMP:20260423T191443
CREATED:20220315T011310Z
LAST-MODIFIED:20220315T011310Z
UID:10000300-1647687600-1647694800@coolspeak.com
SUMMARY:Jubilee Kingsville Career Readiness Day.
DESCRIPTION:Title:Jubilee Kingsville Career Readiness Day. \nDescription:CoolSpeaker Joaquin Zihuatanejo Present on Career Readiness. \nTheme:Career Readiness. \nDate:03/19/2022 \nTime:10:00am – 12:00pm CST \nLocation: Kingsville\, TX
URL:https://coolspeak.com/event/jubilee-kingsville-career-readiness-day-2/
END:VEVENT
BEGIN:VEVENT
DTSTART;TZID=America/New_York:20220319T110000
DTEND;TZID=America/New_York:20220319T130000
DTSTAMP:20260423T191443
CREATED:20220315T011310Z
LAST-MODIFIED:20220315T011310Z
UID:10000297-1647687600-1647694800@coolspeak.com
SUMMARY:Jubilee Kingsville Career Readiness Day.
DESCRIPTION:Title:Jubilee Kingsville Career Readiness Day. \nDescription:CoolSpeaker Joaquin Zihuatanejo Present on Career Readiness. \nTheme:Career Readiness. \nDate:03/19/2022 \nTime:10:00am – 12:00pm CST \nLocation: Kingsville\, TX
URL:https://coolspeak.com/event/jubilee-kingsville-career-readiness-day/
END:VEVENT
BEGIN:VEVENT
DTSTART;TZID=America/New_York:20220318T120000
DTEND;TZID=America/New_York:20220318T143000
DTSTAMP:20260423T191443
CREATED:20220302T140322Z
LAST-MODIFIED:20220302T140322Z
UID:10000250-1647604800-1647613800@coolspeak.com
SUMMARY:Your Voice Is Your Power
DESCRIPTION:Title:Your Voice Is Your Power Presentation \nDescription:Carlos Ojeda Jr. will provide a in-person keynote presentations and workshops for Stetson Middle School students \nTheme:Youth Empowerment and Leadership \nDate:03/18/2021 \nTime:12:00pm EST \nLocation:West Chester\, PA 
URL:https://coolspeak.com/event/your-voice-is-your-power/
END:VEVENT
BEGIN:VEVENT
DTSTART;TZID=America/New_York:20220318T120000
DTEND;TZID=America/New_York:20220318T143000
DTSTAMP:20260423T191443
CREATED:20220302T140322Z
LAST-MODIFIED:20220302T140322Z
UID:10000266-1647604800-1647613800@coolspeak.com
SUMMARY:Your Voice Is Your Power
DESCRIPTION:Title:Your Voice Is Your Power Presentation \nDescription:Carlos Ojeda Jr. will provide a in-person keynote presentations and workshops for Stetson Middle School students \nTheme:Youth Empowerment and Leadership \nDate:03/18/2021 \nTime:12:00pm EST \nLocation:West Chester\, PA 
URL:https://coolspeak.com/event/your-voice-is-your-power-2/
END:VEVENT
BEGIN:VEVENT
DTSTART;TZID=America/New_York:20220318T090000
DTEND;TZID=America/New_York:20220318T190000
DTSTAMP:20260423T191443
CREATED:20220302T140322Z
LAST-MODIFIED:20220302T140322Z
UID:10000247-1647594000-1647630000@coolspeak.com
SUMMARY:Jubilee Highland Hills Presentation Day with Natasha Carrizosa.
DESCRIPTION:Title:Jubilee Highland Hills Presentation Day with Natasha Carrizosa \nDescription:CoolSpeaker Natasha Carrizosa Providing Student and Parent Presentations. \nTheme:Education. Parent Support in School. Future Motivation. \nDate:03/18/2022 \nTime:8:00am – 6:00pm CST \nLocation:San Antonio\, TX
URL:https://coolspeak.com/event/jubilee-highland-hills-presentation-day-with-natasha-carrizosa/
END:VEVENT
BEGIN:VEVENT
DTSTART;TZID=America/New_York:20220318T090000
DTEND;TZID=America/New_York:20220318T190000
DTSTAMP:20260423T191443
CREATED:20220302T140322Z
LAST-MODIFIED:20220302T140322Z
UID:10000265-1647594000-1647630000@coolspeak.com
SUMMARY:Jubilee Highland Hills Presentation Day with Natasha Carrizosa.
DESCRIPTION:Title:Jubilee Highland Hills Presentation Day with Natasha Carrizosa \nDescription:CoolSpeaker Natasha Carrizosa Providing Student and Parent Presentations. \nTheme:Education. Parent Support in School. Future Motivation. \nDate:03/18/2022 \nTime:8:00am – 6:00pm CST \nLocation:San Antonio\, TX
URL:https://coolspeak.com/event/jubilee-highland-hills-presentation-day-with-natasha-carrizosa-2/
END:VEVENT
BEGIN:VEVENT
DTSTART;TZID=America/New_York:20220318T090000
DTEND;TZID=America/New_York:20220318T110000
DTSTAMP:20260423T191443
CREATED:20220302T140322Z
LAST-MODIFIED:20220302T140322Z
UID:10000264-1647594000-1647601200@coolspeak.com
SUMMARY:Launch into Leadership
DESCRIPTION:Title:Launch into Leadership \nDescription:Our conference goal as a whole is to bring passion and energy back into student leadership environments in order to improve schools and communities and to “launch” back into the leadership skills we exhibited pre-pandemic. \nTheme:Outer Space \nDate:03/18/2022 \nTime:9:00am 11:00am EST \nLocation:West Mifflin\, PA 
URL:https://coolspeak.com/event/launch-into-leadership-2/
END:VEVENT
BEGIN:VEVENT
DTSTART;TZID=America/New_York:20220318T090000
DTEND;TZID=America/New_York:20220318T110000
DTSTAMP:20260423T191443
CREATED:20220302T140322Z
LAST-MODIFIED:20220302T140322Z
UID:10000248-1647594000-1647601200@coolspeak.com
SUMMARY:Launch into Leadership
DESCRIPTION:Title:Launch into Leadership \nDescription:Our conference goal as a whole is to bring passion and energy back into student leadership environments in order to improve schools and communities and to “launch” back into the leadership skills we exhibited pre-pandemic. \nTheme:Outer Space \nDate:03/18/2022 \nTime:9:00am 11:00am EST \nLocation:West Mifflin\, PA 
URL:https://coolspeak.com/event/launch-into-leadership/
END:VEVENT
BEGIN:VEVENT
DTSTART;TZID=America/New_York:20220316T183000
DTEND;TZID=America/New_York:20220316T200000
DTSTAMP:20260423T191443
CREATED:20220302T140322Z
LAST-MODIFIED:20220302T140322Z
UID:10000262-1647455400-1647460800@coolspeak.com
SUMMARY:Jubilee San Antonio Presentation Day
DESCRIPTION:Title:Jubilee San Antonio Presentation Day \nDescription:CoolSpeaker Natasha Carrizosa to Provide Family Engagement Presentation. \nTheme: Believe In Themselves. \nDate:03/16/2022 \nTime: 5:30pm – 7:00pm CST \nLocation:San Antonio\, TX
URL:https://coolspeak.com/event/jubilee-san-antonio-presentation-day-2/
END:VEVENT
BEGIN:VEVENT
DTSTART;TZID=America/New_York:20220316T183000
DTEND;TZID=America/New_York:20220316T200000
DTSTAMP:20260423T191443
CREATED:20220302T140322Z
LAST-MODIFIED:20220302T140322Z
UID:10000246-1647455400-1647460800@coolspeak.com
SUMMARY:Jubilee San Antonio Presentation Day
DESCRIPTION:Title:Jubilee San Antonio Presentation Day \nDescription:CoolSpeaker Natasha Carrizosa to Provide Family Engagement Presentation. \nTheme: Believe In Themselves. \nDate:03/16/2022 \nTime: 5:30pm – 7:00pm CST \nLocation:San Antonio\, TX
URL:https://coolspeak.com/event/jubilee-san-antonio-presentation-day/
END:VEVENT
BEGIN:VEVENT
DTSTART;TZID=America/New_York:20220315T180000
DTEND;TZID=America/New_York:20220315T190000
DTSTAMP:20260423T191443
CREATED:20220302T140322Z
LAST-MODIFIED:20220302T140322Z
UID:10000261-1647367200-1647370800@coolspeak.com
SUMMARY:2022 Thomas University Virtual Book Club with Natasha Carrizosa.
DESCRIPTION:Title:2022 Thomas University Virtual Book Club with Natasha Carrizosa. \nDescription:Four-Week Interactive Virtual Book Club. \nTheme:Youth Empowerment and Self- Expression. \nDate(s): 03/08/202203/15/202203/22/202203/29/2022 \nTime:6:00pm – 7:00pm EST  Location:Virtual
URL:https://coolspeak.com/event/2022-thomas-university-virtual-book-club-with-natasha-carrizosa-2-2/
END:VEVENT
BEGIN:VEVENT
DTSTART;TZID=America/New_York:20220315T180000
DTEND;TZID=America/New_York:20220315T190000
DTSTAMP:20260423T191443
CREATED:20220302T140322Z
LAST-MODIFIED:20220302T140322Z
UID:10000245-1647367200-1647370800@coolspeak.com
SUMMARY:2022 Thomas University Virtual Book Club with Natasha Carrizosa.
DESCRIPTION:Title:2022 Thomas University Virtual Book Club with Natasha Carrizosa. \nDescription:Four-Week Interactive Virtual Book Club. \nTheme:Youth Empowerment and Self- Expression. \nDate(s): 03/08/202203/15/202203/22/202203/29/2022 \nTime:6:00pm – 7:00pm EST  Location:Virtual
URL:https://coolspeak.com/event/2022-thomas-university-virtual-book-club-with-natasha-carrizosa-2/
END:VEVENT
BEGIN:VEVENT
DTSTART;TZID=America/New_York:20220314T170000
DTEND;TZID=America/New_York:20220314T190000
DTSTAMP:20260423T191443
CREATED:20210930T225828Z
LAST-MODIFIED:20210930T225828Z
UID:10000200-1647277200-1647284400@coolspeak.com
SUMMARY:2021 Grand Island GEAR UP LatinX Male/Female Mentoring Session
DESCRIPTION:Title:2021 Grand Island GEAR UP LatinX Male/Female Mentoring Session \nDescription: Workshop Series To Help Empower Young Males & Females \nDate: 03/14/2022 \nTime:4:00pm – 6:00pm CST \nLocation:Grand Island\, NE
URL:https://coolspeak.com/event/2021-grand-island-gear-up-latinx-male-female-mentoring-session-6/
END:VEVENT
BEGIN:VEVENT
DTSTART;TZID=America/New_York:20220314T170000
DTEND;TZID=America/New_York:20220314T190000
DTSTAMP:20260423T191443
CREATED:20210930T225828Z
LAST-MODIFIED:20210930T225828Z
UID:10000206-1647277200-1647284400@coolspeak.com
SUMMARY:2021 Grand Island GEAR UP LatinX Male/Female Mentoring Session
DESCRIPTION:Title:2021 Grand Island GEAR UP LatinX Male/Female Mentoring Session \nDescription: Workshop Series To Help Empower Young Males & Females \nDate: 03/14/2022 \nTime:4:00pm – 6:00pm CST \nLocation:Grand Island\, NE
URL:https://coolspeak.com/event/2021-grand-island-gear-up-latinx-male-female-mentoring-session-6-2/
END:VEVENT
BEGIN:VEVENT
DTSTART;TZID=America/New_York:20220312T100000
DTEND;TZID=America/New_York:20220312T170000
DTSTAMP:20260423T191443
CREATED:20220302T140321Z
LAST-MODIFIED:20220302T140321Z
UID:10000244-1647079200-1647104400@coolspeak.com
SUMMARY:Miami Dade College - 2022 - CAMP Retreat
DESCRIPTION:Title:\nMiami Dade College – 2022 – CAMP Retreat\nDescription:\nCAMP Retreat\nTheme:\nSelf Improvement\nDate:\n03/12/2022\nTime:\n10:00am – 4:00pm EST\nLocation:\nHomestead\, FL
URL:https://coolspeak.com/event/miami-dade-college-2022-camp-retreat-2/
END:VEVENT
BEGIN:VEVENT
DTSTART;TZID=America/New_York:20220312T100000
DTEND;TZID=America/New_York:20220312T170000
DTSTAMP:20260423T191443
CREATED:20220302T140321Z
LAST-MODIFIED:20220302T140321Z
UID:10000231-1647079200-1647104400@coolspeak.com
SUMMARY:Miami Dade College - 2022 - CAMP Retreat
DESCRIPTION:Title:\nMiami Dade College – 2022 – CAMP Retreat\nDescription:\nCAMP Retreat\nTheme:\nSelf Improvement\nDate:\n03/12/2022\nTime:\n10:00am – 4:00pm EST\nLocation:\nHomestead\, FL
URL:https://coolspeak.com/event/miami-dade-college-2022-camp-retreat/
END:VEVENT
BEGIN:VEVENT
DTSTART;TZID=America/New_York:20220312T090000
DTEND;TZID=America/New_York:20220312T170000
DTSTAMP:20260423T191443
CREATED:20220302T140321Z
LAST-MODIFIED:20220302T140321Z
UID:10000243-1647075600-1647104400@coolspeak.com
SUMMARY:University of Wisconsin-Stevens Point Upward Bound Program with Chris Collins.
DESCRIPTION:Title: University of Wisconsin-Stevens Point Upward Bound Program with Chris Collins. \nDescription:Keynote Presentation and Workshops provided by Chris Collins. \nTheme:Upward Bound \nDates:03/11/2022 – 03/12/2022 \nTimes:8:00am – 4:00pm CST \nLocation:Tomahawk\, WI
URL:https://coolspeak.com/event/university-of-wisconsin-stevens-point-upward-bound-program-with-chris-collins-2-2/
END:VEVENT
BEGIN:VEVENT
DTSTART;TZID=America/New_York:20220312T090000
DTEND;TZID=America/New_York:20220312T170000
DTSTAMP:20260423T191443
CREATED:20220302T140321Z
LAST-MODIFIED:20220302T140321Z
UID:10000230-1647075600-1647104400@coolspeak.com
SUMMARY:University of Wisconsin-Stevens Point Upward Bound Program with Chris Collins.
DESCRIPTION:Title: University of Wisconsin-Stevens Point Upward Bound Program with Chris Collins. \nDescription:Keynote Presentation and Workshops provided by Chris Collins. \nTheme:Upward Bound \nDates:03/11/2022 – 03/12/2022 \nTimes:8:00am – 4:00pm CST \nLocation:Tomahawk\, WI
URL:https://coolspeak.com/event/university-of-wisconsin-stevens-point-upward-bound-program-with-chris-collins-2/
END:VEVENT
BEGIN:VEVENT
DTSTART;TZID=America/New_York:20220311T090000
DTEND;TZID=America/New_York:20220311T170000
DTSTAMP:20260423T191443
CREATED:20220302T140321Z
LAST-MODIFIED:20220302T140321Z
UID:10000241-1646989200-1647018000@coolspeak.com
SUMMARY:University of Wisconsin-Stevens Point Upward Bound Program with Chris Collins.
DESCRIPTION:Title: University of Wisconsin-Stevens Point Upward Bound Program with Chris Collins. \nDescription:Keynote Presentation and Workshops provided by Chris Collins. \nTheme:Upward Bound \nDates:03/11/2022 – 03/12/2022 \nTimes:8:00am – 4:00pm CST \nLocation:Tomahawk\, WI
URL:https://coolspeak.com/event/university-of-wisconsin-stevens-point-upward-bound-program-with-chris-collins-3/
END:VEVENT
BEGIN:VEVENT
DTSTART;TZID=America/New_York:20220311T090000
DTEND;TZID=America/New_York:20220311T170000
DTSTAMP:20260423T191443
CREATED:20220302T140321Z
LAST-MODIFIED:20220302T140321Z
UID:10000228-1646989200-1647018000@coolspeak.com
SUMMARY:University of Wisconsin-Stevens Point Upward Bound Program with Chris Collins.
DESCRIPTION:Title: University of Wisconsin-Stevens Point Upward Bound Program with Chris Collins. \nDescription:Keynote Presentation and Workshops provided by Chris Collins. \nTheme:Upward Bound \nDates:03/11/2022 – 03/12/2022 \nTimes:8:00am – 4:00pm CST \nLocation:Tomahawk\, WI
URL:https://coolspeak.com/event/university-of-wisconsin-stevens-point-upward-bound-program-with-chris-collins/
END:VEVENT
BEGIN:VEVENT
DTSTART;TZID=America/New_York:20220311T090000
DTEND;TZID=America/New_York:20220311T110000
DTSTAMP:20260423T191443
CREATED:20220302T140321Z
LAST-MODIFIED:20220302T140321Z
UID:10000242-1646989200-1646996400@coolspeak.com
SUMMARY:2022 Prospanica Leadership Summit
DESCRIPTION:Title:2022 Prospanica Leadership Summit \nDescription:The Association of Hispanic MBAs & Business Professionals \nTheme:Leadership \nDate:03/11/2022 \nTime:8:00am – 10:00am CST \nLocation:Irving\, TX
URL:https://coolspeak.com/event/2022-prospanica-leadership-summit-2/
END:VEVENT
BEGIN:VEVENT
DTSTART;TZID=America/New_York:20220311T090000
DTEND;TZID=America/New_York:20220311T110000
DTSTAMP:20260423T191443
CREATED:20220302T140321Z
LAST-MODIFIED:20220302T140321Z
UID:10000229-1646989200-1646996400@coolspeak.com
SUMMARY:2022 Prospanica Leadership Summit
DESCRIPTION:Title:2022 Prospanica Leadership Summit \nDescription:The Association of Hispanic MBAs & Business Professionals \nTheme:Leadership \nDate:03/11/2022 \nTime:8:00am – 10:00am CST \nLocation:Irving\, TX
URL:https://coolspeak.com/event/2022-prospanica-leadership-summit/
END:VEVENT
BEGIN:VEVENT
DTSTART;TZID=America/New_York:20220311T080000
DTEND;TZID=America/New_York:20220311T120000
DTSTAMP:20260423T191443
CREATED:20220302T140321Z
LAST-MODIFIED:20220302T140321Z
UID:10000227-1646985600-1647000000@coolspeak.com
SUMMARY:Heart & Soul Wellness Day
DESCRIPTION:Title:\nHeart & Soul Wellness Day\nDescription:\nZach Gowen will perform a keynote presentation and workshops.\nTheme:\nWellness\nDate:\n03/11/2022\nTime:\n8:00am – 12:00pm EST\nLocation:\nRidgefield\, NJ
URL:https://coolspeak.com/event/heart-soul-wellness-day/
END:VEVENT
BEGIN:VEVENT
DTSTART;TZID=America/New_York:20220311T080000
DTEND;TZID=America/New_York:20220311T120000
DTSTAMP:20260423T191443
CREATED:20220302T140321Z
LAST-MODIFIED:20220302T140321Z
UID:10000240-1646985600-1647000000@coolspeak.com
SUMMARY:Heart & Soul Wellness Day
DESCRIPTION:Title:\nHeart & Soul Wellness Day\nDescription:\nZach Gowen will perform a keynote presentation and workshops.\nTheme:\nWellness\nDate:\n03/11/2022\nTime:\n8:00am – 12:00pm EST\nLocation:\nRidgefield\, NJ
URL:https://coolspeak.com/event/heart-soul-wellness-day-2/
END:VEVENT
BEGIN:VEVENT
DTSTART;TZID=America/New_York:20220308T180000
DTEND;TZID=America/New_York:20220308T190000
DTSTAMP:20260423T191443
CREATED:20220302T140321Z
LAST-MODIFIED:20220302T140321Z
UID:10000226-1646762400-1646766000@coolspeak.com
SUMMARY:2022 Thomas University Virtual Book Club with Natasha Carrizosa.
DESCRIPTION:Title:2022 Thomas University Virtual Book Club with Natasha Carrizosa. \nDescription:Four-Week Interactive Virtual Book Club. \nTheme:Youth Empowerment and Self- Expression. \nDate(s): 03/08/202203/15/202203/22/202203/29/2022 \nTime:6:00pm – 7:00pm EST  Location:Virtual
URL:https://coolspeak.com/event/2022-thomas-university-virtual-book-club-with-natasha-carrizosa/
END:VEVENT
BEGIN:VEVENT
DTSTART;TZID=America/New_York:20220308T180000
DTEND;TZID=America/New_York:20220308T190000
DTSTAMP:20260423T191443
CREATED:20220302T140321Z
LAST-MODIFIED:20220302T140321Z
UID:10000239-1646762400-1646766000@coolspeak.com
SUMMARY:2022 Thomas University Virtual Book Club with Natasha Carrizosa.
DESCRIPTION:Title:2022 Thomas University Virtual Book Club with Natasha Carrizosa. \nDescription:Four-Week Interactive Virtual Book Club. \nTheme:Youth Empowerment and Self- Expression. \nDate(s): 03/08/202203/15/202203/22/202203/29/2022 \nTime:6:00pm – 7:00pm EST  Location:Virtual
URL:https://coolspeak.com/event/2022-thomas-university-virtual-book-club-with-natasha-carrizosa-5/
END:VEVENT
END:VCALENDAR