BEGIN:VCALENDAR
VERSION:2.0
PRODID:-//CoolSpeak - ECPv6.15.18//NONSGML v1.0//EN
CALSCALE:GREGORIAN
METHOD:PUBLISH
X-WR-CALNAME:CoolSpeak
X-ORIGINAL-URL:https://coolspeak.com
X-WR-CALDESC:Events for CoolSpeak
REFRESH-INTERVAL;VALUE=DURATION:PT1H
X-Robots-Tag:noindex
X-PUBLISHED-TTL:PT1H
BEGIN:VTIMEZONE
TZID:America/New_York
BEGIN:DAYLIGHT
TZOFFSETFROM:-0500
TZOFFSETTO:-0400
TZNAME:EDT
DTSTART:20230312T070000
END:DAYLIGHT
BEGIN:STANDARD
TZOFFSETFROM:-0400
TZOFFSETTO:-0500
TZNAME:EST
DTSTART:20231105T060000
END:STANDARD
BEGIN:DAYLIGHT
TZOFFSETFROM:-0500
TZOFFSETTO:-0400
TZNAME:EDT
DTSTART:20240310T070000
END:DAYLIGHT
BEGIN:STANDARD
TZOFFSETFROM:-0400
TZOFFSETTO:-0500
TZNAME:EST
DTSTART:20241103T060000
END:STANDARD
BEGIN:DAYLIGHT
TZOFFSETFROM:-0500
TZOFFSETTO:-0400
TZNAME:EDT
DTSTART:20250309T070000
END:DAYLIGHT
BEGIN:STANDARD
TZOFFSETFROM:-0400
TZOFFSETTO:-0500
TZNAME:EST
DTSTART:20251102T060000
END:STANDARD
BEGIN:DAYLIGHT
TZOFFSETFROM:-0500
TZOFFSETTO:-0400
TZNAME:EDT
DTSTART:20260308T070000
END:DAYLIGHT
BEGIN:STANDARD
TZOFFSETFROM:-0400
TZOFFSETTO:-0500
TZNAME:EST
DTSTART:20261101T060000
END:STANDARD
END:VTIMEZONE
BEGIN:VEVENT
DTSTART;TZID=America/New_York:20250111T090000
DTEND;TZID=America/New_York:20250111T160000
DTSTAMP:20260423T174503
CREATED:20241029T191451Z
LAST-MODIFIED:20250111T195822Z
UID:10001557-1736586000-1736611200@coolspeak.com
SUMMARY:Abraham Baldwin Agriculture College Students and Parents Retreat.
DESCRIPTION:Below are the event details: \n\nSpeaker\n\nErnesto Mejia\n\n\nEvent: \n\nAbraham Baldwin Agriculture College Students and Parents Retreat.\n\n\nDescription: \n\nErnesto Mejia will provide programming for students and parents.\n\n\nDate:  \n\n1/10/2025 – 1/11/2025\n\n\nTime: \n\n\n9:00 AM – 4:00 PM\n\n\nEvent Address: \n\nTifton\, GA 31793\n\n\nBuilding: \n\nAbraham Baldwin Agriculture College\n\n\nAudience: \n\nHigh School\n\n\nNumber Attending: \n\n40\n\n\nDress Code:  \n\nHip Professional\n\n\n\nJoin with Google Meet: https://meet.google.com/yie-jevo-hst\nOr dial: (US) +1 484-746-4305 PIN: 723516155#\nMore phone numbers: https://tel.meet/yie-jevo-hst?pin=7466988428014&hs=7\nLearn more about Meet at: https://support.google.com/a/users/answer/9282720
URL:https://coolspeak.com/event/abraham-baldwin-agriculture-college-students-and-parents-retreat-4/
CATEGORIES:Event
END:VEVENT
BEGIN:VEVENT
DTSTART;TZID=America/New_York:20250110T090000
DTEND;TZID=America/New_York:20250110T160000
DTSTAMP:20260423T174503
CREATED:20241029T191451Z
LAST-MODIFIED:20250110T204318Z
UID:10001556-1736499600-1736524800@coolspeak.com
SUMMARY:Abraham Baldwin Agriculture College Students and Parents Retreat.
DESCRIPTION:Below are the event details: \n\nSpeaker\n\nErnesto Mejia\n\n\nEvent: \n\nAbraham Baldwin Agriculture College Students and Parents Retreat.\n\n\nDescription: \n\nErnesto Mejia will provide programming for students and parents.\n\n\nDate:  \n\n1/10/2025 – 1/11/2025\n\n\nTime: \n\n\n9:00 AM – 4:00 PM\n\n\nEvent Address: \n\nTifton\, GA 31793\n\n\nBuilding: \n\nAbraham Baldwin Agriculture College\n\n\nAudience: \n\nHigh School\n\n\nNumber Attending: \n\n40\n\n\nDress Code:  \n\nHip Professional
URL:https://coolspeak.com/event/abraham-baldwin-agriculture-college-students-and-parents-retreat-3/
CATEGORIES:Event
END:VEVENT
BEGIN:VEVENT
DTSTART;TZID=America/New_York:20250110T080000
DTEND;TZID=America/New_York:20250110T150000
DTSTAMP:20260423T174503
CREATED:20240531T012753Z
LAST-MODIFIED:20250110T194515Z
UID:10001385-1736496000-1736521200@coolspeak.com
SUMMARY:2025 College of the Sequoias
DESCRIPTION:Event: \n\n2025 College of the Sequoias\n\n\nDescription: \n\nJoaquin will be a keynote presentation and workshop with the staff of College of the Sequoias.\n\n\nDate:  \n\n1/10/2025\n\n\nPresentation Start Time:  \n\n8:00 AM\n\n\nWorkshop Start Time: \n\n1:00 PM\n\n\nLocation: \n\nVisalia\, CA\n\n\nAudience: \n\nProfessional\n\n\nNumber Attending: \n\n400
URL:https://coolspeak.com/event/2025-college-of-the-sequoias/
CATEGORIES:Event
END:VEVENT
BEGIN:VEVENT
DTSTART;TZID=America/New_York:20250108T100000
DTEND;TZID=America/New_York:20250108T133000
DTSTAMP:20260423T174503
CREATED:20240815T202737Z
LAST-MODIFIED:20250108T181426Z
UID:10001449-1736330400-1736343000@coolspeak.com
SUMMARY:2025 NJASC Winter Convention.
DESCRIPTION:Event Title:\n2025 NJASC Winter Convention.\nEvent Description:\nCarlos Ojeda Jr. will provide a Keynote and Workshop or Roundtable Presentations.\nEvent Theme:\nStudent Council.\nDate:\n1/8/2025\nTime:\n10:00 AM – 1:30PM ET\nLocation:\nEwing\, NJ
URL:https://coolspeak.com/event/2025-njasc-winter-convention/
CATEGORIES:Event
END:VEVENT
BEGIN:VEVENT
DTSTART;TZID=America/New_York:20250108T090000
DTEND;TZID=America/New_York:20250108T160000
DTSTAMP:20260423T174503
CREATED:20241220T185832Z
LAST-MODIFIED:20250108T201436Z
UID:10001596-1736326800-1736352000@coolspeak.com
SUMMARY:Spring 2025 Tennessee Higher Education Commission
DESCRIPTION:Speaker(s):\n\nLilyan Prado-Carrillo\nChris Collins\n\n\nEvent: \n\nSpring 2025 Tennessee Higher Education Commission\n\n\nDate:  \n\n1/8/2025\n\n\nPresentation Start Time:  \n\n9:00 AM\n\n\nAudience: \n\nProfessional\n\n\nNumber Attending: \n\n100
URL:https://coolspeak.com/event/spring-2025-tennessee-higher-education-commission-2/
CATEGORIES:Event
END:VEVENT
BEGIN:VEVENT
DTSTART;TZID=America/New_York:20250107T093000
DTEND;TZID=America/New_York:20250107T180000
DTSTAMP:20260423T174503
CREATED:20241217T201342Z
LAST-MODIFIED:20250107T221313Z
UID:10001586-1736242200-1736272800@coolspeak.com
SUMMARY:Empowering Office Staff to Excel
DESCRIPTION:Below are the event details: \n\nSpeaker: \n\nLilyan Prado Carrillo\n\n\nEvent Title: \n\nEmpowering Office Staff to Excel\n\n\nClient Program/Organization:\n\n Houston Independent School District\n\n\nEvent Description:\n\n District Administrative Assistants and Office Staff\n\n\nTheme: \n\nPeaceful and inspiring atmosphere emphasizing the importance of Excellent Customer Service\n\n\nStart Date:\n\n 2025-01-07\n\n\nEnd Date: \n\n2025-01-07\n\n\nStart Time: \n\n8:30 AM\n\n\nEnd Time: \n\n5:00 PM\n\n\nCity/State: \n\nSan Antonio\, TX\n\n\nAudience: \n\nProfessional\n\n\nNumber attending: \n\n65
URL:https://coolspeak.com/event/empowering-office-staff-to-excel/
CATEGORIES:Event
END:VEVENT
BEGIN:VEVENT
DTSTART;TZID=America/New_York:20250107T090000
DTEND;TZID=America/New_York:20250107T160000
DTSTAMP:20260423T174503
CREATED:20241220T185831Z
LAST-MODIFIED:20250107T201330Z
UID:10001595-1736240400-1736265600@coolspeak.com
SUMMARY:Spring 2025 Tennessee Higher Education Commission
DESCRIPTION:Speaker(s):\n\nCarlos Ojeda Jr.\nChris Collins\n\n\nEvent: \n\nSpring 2025 Tennessee Higher Education Commission\n\n\nDate:  \n\n1/7/2025\n\n\nPresentation Start Time:  \n\n9:00 AM\n\n\nAudience: \n\nProfessional\n\n\nNumber Attending: \n\n100
URL:https://coolspeak.com/event/spring-2025-tennessee-higher-education-commission/
CATEGORIES:Event
END:VEVENT
BEGIN:VEVENT
DTSTART;TZID=America/New_York:20250106T093000
DTEND;TZID=America/New_York:20250106T150000
DTSTAMP:20260423T174503
CREATED:20241030T192900Z
LAST-MODIFIED:20250106T191609Z
UID:10001563-1736155800-1736175600@coolspeak.com
SUMMARY:Back to School Kick Off with Lamarr Womble.
DESCRIPTION:Below are the event details: \n\nSpeaker: \n\nLamarr Womble\n\n\nEvent Title: \n\nBack to School Kick Off with Lamarr Womble.\n\n\nClient Program/Organization: \n\nGEAR UP New Mexico\n\n\nEvent Description: \n\nLamarr Womble will provide a Keynote Presentation for High School Students and Two Workshops for Middle School Students.\n\n\nTheme: \n\nGEAR UP/College Readiness/Passion/Motivation.\n\n\nStart Date: \n\n2025-01-06\n\n\nEnd Date: \n\n2025-01-06\n\n\nStart Time: \n\n9:30 AM\n\n\nEnd Time: \n\n3:00 PM\n\n\nAddress:\n\nSocorro\, NM 87801\n\n\nAudience:\n\nHigh School\n\n\nNumber attending: \n\n600
URL:https://coolspeak.com/event/back-to-school-kick-off-with-lamarr-womble/
CATEGORIES:Event
END:VEVENT
BEGIN:VEVENT
DTSTART;TZID=America/New_York:20250106T083000
DTEND;TZID=America/New_York:20250106T153000
DTSTAMP:20260423T174503
CREATED:20241219T023021Z
LAST-MODIFIED:20250106T203000Z
UID:10001591-1736152200-1736177400@coolspeak.com
SUMMARY:Winter 2025 Ukiah High School Staff PD
DESCRIPTION:Speaker:\n\nZach Gowen\n\n\nEvent: \n\nWinter 2025 Ukiah High School Staff PD\n\n\nDescription: \n\nZach will share tools to help staff navigate what’s within our conrol and repsond effectively to what’s not to help reduce stress and build resilience\, this will enhance their ability to support their students.\n\n\nTheme: \n\nSelf Care\n\n\nDate:  \n\n1/6/2025\n\n\nPresentation Start Time:  \n\n8:30 AM\n\n\nWorkshop Start Time: \n\n9:30 AM\n\n\nAudience: \n\nProfessional\n\n\nNumber Attending: \n\n100
URL:https://coolspeak.com/event/winter-2025-ukiah-high-school-staff-pd/
CATEGORIES:Event
END:VEVENT
BEGIN:VEVENT
DTSTART;TZID=America/New_York:20241218T100000
DTEND;TZID=America/New_York:20241218T140000
DTSTAMP:20260423T174503
CREATED:20241217T201342Z
LAST-MODIFIED:20241218T185822Z
UID:10001585-1734516000-1734530400@coolspeak.com
SUMMARY:2024 Christina School District December Student Ambassador Session with Lamarr Womble.
DESCRIPTION:Below are the event details: \n\nSpeaker: \n\nLamarr Womble\n\n\nEvent Title: \n\n2024 Christina School District December Student Ambassador Session with Lamarr Womble.\n\n\nClient Program/Organization: \n\nChristina School District\n\n\nEvent Description: \n\nLamarr Womble will provide a Student Ambassador Session.\n\n\nTheme: \n\nYouth Empowerment. Passion. Finding Purpose. Being Legendary.\n\n\nStart Date: \n\n2024-12-18\n\n\nEnd Date:\n\n 2024-12-18\n\n\nStart Time: \n\n10:00 AM\n\n\nEnd Time: \n\n2:00 PM\n\n\nCity/State: \n\nNewark\, DE\n\n\nAudience: \n\nMiddle School\n\n\nNumber attending: \n\n100\n\n\n\nJoin with Google Meet: https://meet.google.com/isv-mkgy-efh\nOr dial: (US) +1 321-234-5055 PIN: 471085269#\nMore phone numbers: https://tel.meet/isv-mkgy-efh?pin=7142000060415&hs=7\nLearn more about Meet at: https://support.google.com/a/users/answer/9282720
URL:https://coolspeak.com/event/2024-christina-school-district-december-student-ambassador-session-with-lamarr-womble/
CATEGORIES:Event
END:VEVENT
BEGIN:VEVENT
DTSTART;TZID=America/New_York:20241212T080000
DTEND;TZID=America/New_York:20241212T190000
DTSTAMP:20260423T174503
CREATED:20241205T174323Z
LAST-MODIFIED:20241212T232747Z
UID:10001578-1733990400-1734030000@coolspeak.com
SUMMARY:Winter 2024 Gooding High School W. Chris
DESCRIPTION:Below are the event details: \n\nEvent: \n\nWinter 2024 Gooding High School W. Chris Collins\n\n\nDescription: \n\nChris will provide full-day programming with the students and families of Gooding High School\n\n\nTheme: \n\nMy Voice\, My Story\, My Legacy\n\n\nDate:  \n\n12/12/2024\n\n\nTime:  \n\n8:00 AM – 7:00 PM MT\n\n\nAudience: \n\nHigh School\n\n\nNumber Attending: \n\n300
URL:https://coolspeak.com/event/winter-2024-gooding-high-school-w-chris/
CATEGORIES:Event
END:VEVENT
BEGIN:VEVENT
DTSTART;TZID=America/New_York:20241212T073000
DTEND;TZID=America/New_York:20241212T180000
DTSTAMP:20260423T174503
CREATED:20241124T124342Z
LAST-MODIFIED:20241212T222823Z
UID:10001572-1733988600-1734026400@coolspeak.com
SUMMARY:McDonald’s HACER
DESCRIPTION:
URL:https://coolspeak.com/event/mcdonalds-hacer-5/
LOCATION:Miami\, FL
CATEGORIES:Event
END:VEVENT
BEGIN:VEVENT
DTSTART;TZID=America/New_York:20241208T080000
DTEND;TZID=America/New_York:20241208T210000
DTSTAMP:20260423T174503
CREATED:20240920T165906Z
LAST-MODIFIED:20241209T011318Z
UID:10001512-1733644800-1733691600@coolspeak.com
SUMMARY:2024 National Conference on Student Activities
DESCRIPTION:CoolSpeak will be presenting workshops at the 52nd annual National Conference on Student Activities.\nJoin Zoom Meeting\nhttps://coolspeak.zoom.us/j/82051547886?pwd=KOsCSY1vw40i7qcvtCCQp19KJzVSXd.1 (ID: 82051547886\, passcode: 366064)\nJoin by phone\n(US) +1 301-715-8592 (passcode: 366064)\nJoining instructions: https://www.google.com/url?q=https://applications.zoom.us/addon/invitation/detail?meetingUuid%3DzP5NtaHdQEqmSggg%252BzYa7g%253D%253D%26signature%3Db8c6efa14ec89cbccaf760f22658b3db7267a89d285d0fb15e40274ba9fc2794%26v%3D1&sa=D&source=calendar&usg=AOvVaw0zkSQxtlnYLfi1XhfQCH0H\nMeeting host: chu@coolspeak.net \nJoin Zoom Meeting: https://coolspeak.zoom.us/j/82051547886?pwd=KOsCSY1vw40i7qcvtCCQp19KJzVSXd.1
URL:https://coolspeak.com/event/2024-national-conference-on-student-activities-3/
LOCATION:Memphis\, TN\, USA
CATEGORIES:Event
END:VEVENT
BEGIN:VEVENT
DTSTART;TZID=America/New_York:20241207T080000
DTEND;TZID=America/New_York:20241207T210000
DTSTAMP:20260423T174503
CREATED:20240920T165906Z
LAST-MODIFIED:20241208T014418Z
UID:10001511-1733558400-1733605200@coolspeak.com
SUMMARY:2024 National Conference on Student Activities
DESCRIPTION:CoolSpeak will be presenting workshops at the 52nd annual National Conference on Student Activities.\nJoin Zoom Meeting\nhttps://coolspeak.zoom.us/j/85430578733?pwd=iFD5HkG3xypIkb7CchxDIXbppaPWfb.1 (ID: 85430578733\, passcode: 349400)\nJoin by phone\n(US) +1 309-205-3325 (passcode: 349400)\nJoining instructions: https://www.google.com/url?q=https://applications.zoom.us/addon/invitation/detail?meetingUuid%3DchL5QjEIT%252FqdDFCU%252BMy2cQ%253D%253D%26signature%3D1f6859cfc72972d096b9212decda4d6b218b98edc14384f7aa4d4939f884e215%26v%3D1&sa=D&source=calendar&usg=AOvVaw13jo61Yon9mtgI5kcykZBB\nMeeting host: chu@coolspeak.net \nJoin Zoom Meeting: https://coolspeak.zoom.us/j/85430578733?pwd=iFD5HkG3xypIkb7CchxDIXbppaPWfb.1
URL:https://coolspeak.com/event/2024-national-conference-on-student-activities-2/
LOCATION:Memphis\, TN\, USA
CATEGORIES:Event
END:VEVENT
BEGIN:VEVENT
DTSTART;TZID=America/New_York:20241206T083000
DTEND;TZID=America/New_York:20241206T103000
DTSTAMP:20260423T174503
CREATED:20241124T124342Z
LAST-MODIFIED:20241206T145833Z
UID:10001571-1733473800-1733481000@coolspeak.com
SUMMARY:McDonald’s HACER
DESCRIPTION:
URL:https://coolspeak.com/event/mcdonalds-hacer-4/
LOCATION:Colorado
CATEGORIES:Event
END:VEVENT
BEGIN:VEVENT
DTSTART;TZID=America/New_York:20241206T080000
DTEND;TZID=America/New_York:20241206T210000
DTSTAMP:20260423T174503
CREATED:20240920T165905Z
LAST-MODIFIED:20241207T015838Z
UID:10001510-1733472000-1733518800@coolspeak.com
SUMMARY:2024 National Conference on Student Activities
DESCRIPTION:CoolSpeak will be presenting workshops at the 52nd annual National Conference on Student Activities.\nJoin Zoom Meeting\nhttps://coolspeak.zoom.us/j/85250751321?pwd=GPP3CaaWVUjaWBRGaPHDkqHd50Rp0J.1 (ID: 85250751321\, passcode: 447691)\nJoin by phone\n(US) +1 312-626-6799 (passcode: 447691)\nJoining instructions: https://www.google.com/url?q=https://applications.zoom.us/addon/invitation/detail?meetingUuid%3DPxtSfdMlSP%252By%252B%252FLtJtms5g%253D%253D%26signature%3Dfb3e44145b72dc2e2b0ab28f592f8f8e1344633e9b92980a2f45d1de93dfb859%26v%3D1&sa=D&source=calendar&usg=AOvVaw3XqyKwPKl94Fxu4qCnDBfD\nMeeting host: chu@coolspeak.net \nJoin Zoom Meeting: https://coolspeak.zoom.us/j/85250751321?pwd=GPP3CaaWVUjaWBRGaPHDkqHd50Rp0J.1
URL:https://coolspeak.com/event/2024-national-conference-on-student-activities/
LOCATION:Memphis\, TN\, USA
CATEGORIES:Event
END:VEVENT
BEGIN:VEVENT
DTSTART;TZID=America/New_York:20241202T090000
DTEND;TZID=America/New_York:20241202T134500
DTSTAMP:20260423T174503
CREATED:20241124T124342Z
LAST-MODIFIED:20241202T175800Z
UID:10001570-1733130000-1733147100@coolspeak.com
SUMMARY:McDonald’s HACER
DESCRIPTION:
URL:https://coolspeak.com/event/mcdonalds-hacer-3/
LOCATION:El paso\, TX
CATEGORIES:Event
END:VEVENT
BEGIN:VEVENT
DTSTART;TZID=America/New_York:20241126T093000
DTEND;TZID=America/New_York:20241126T113000
DTSTAMP:20260423T174503
CREATED:20241124T124342Z
LAST-MODIFIED:20241126T162938Z
UID:10001569-1732613400-1732620600@coolspeak.com
SUMMARY:Shady Grove Elementary School Presentation Day with Carlos Ojeda Jr.
DESCRIPTION:Below are the event details: \n\nSpeaker: \n\nCarlos Ojeda Jr.\n\n\nEvent Title: \n\nShady Grove Elementary School Presentation Day with Carlos Ojeda Jr.\n\n\nClient Program/Organization: \n\nWissahickon School District\n\n\nEvent Description: \n\nCarlos Ojeda Jr. will provide a Keynote Presentation for Elementary School Students.\n\n\nTheme: \n\nYour Voice is Your Power. Leadership. Youth Empowerment.\n\n\nStart Date: \n\n2024-11-26\n\n\nEnd Date: \n\n2024-11-26\n\n\nStart Time:\n\n 9:30 AM\n\n\nEnd Time: \n\n11:30 AM\n\n\nCity/State: \n\n351 W Skippack Pike\nAmbler\, PA 19002\n\n\nAudience: \n\nMiddle School\n\n\nNumber attending: \n\n700\n\n\n\nJoin with Google Meet: https://meet.google.com/ujc-dvpx-rww\nOr dial: (US) +1 443-607-2139 PIN: 919329329#\nMore phone numbers: https://tel.meet/ujc-dvpx-rww?pin=6800535665855&hs=7\nLearn more about Meet at: https://support.google.com/a/users/answer/9282720
URL:https://coolspeak.com/event/shady-grove-elementary-school-presentation-day-with-carlos-ojeda-jr/
CATEGORIES:Event
END:VEVENT
BEGIN:VEVENT
DTSTART;TZID=America/New_York:20241125T090000
DTEND;TZID=America/New_York:20241125T180000
DTSTAMP:20260423T174503
CREATED:20240706T025949Z
LAST-MODIFIED:20241125T225830Z
UID:10001418-1732525200-1732557600@coolspeak.com
SUMMARY:Bay Area MS/HS Student Leadership Conference Hosted by Area B
DESCRIPTION:Event: \n\nBay Area MS/HS Student Leadership Conference\, hosted by Area B\n\n\nTheme: \n\nStudent Leadership\n\n\nDate:  \n\n11/25/2024\n\n\nLocation: \n\nUnion City\, CA\n\n\nBuilding: \n\nJames Logan High School\n\n\nAudience: \n\nHigh School\n\n\nNumber Attending: \n\n200
URL:https://coolspeak.com/event/bay-area-ms-hs-student-leadership-conference-hosted-by-area-b/
CATEGORIES:Event
END:VEVENT
BEGIN:VEVENT
DTSTART;TZID=America/New_York:20241125T080000
DTEND;TZID=America/New_York:20241125T140000
DTSTAMP:20260423T174503
CREATED:20240904T175906Z
LAST-MODIFIED:20241125T185806Z
UID:10001487-1732521600-1732543200@coolspeak.com
SUMMARY:NYS CLSA 35th Annual Leadership Conference
DESCRIPTION:Event Title:\nNYS CLSA 35th Annual Leadership Conference\nEvent Description:\nChris Collins will provide a Keynote Presentation and Workshops.\nEvent Theme:\nIgnite Leadership\nTime:\n8:00AM – 2:00PM ET\nDate:\n11/24/2024 – 11/24/2024\nLocation:\nLake Placid\, NY\nJoin with Google Meet: https://meet.google.com/epq-snct-hrp\nOr dial: (US) +1 435-731-4769 PIN: 541403207#\nMore phone numbers: https://tel.meet/epq-snct-hrp?pin=8152376767568&hs=7\nLearn more about Meet at: https://support.google.com/a/users/answer/9282720
URL:https://coolspeak.com/event/nys-clsa-35th-annual-leadership-conference-2/
CATEGORIES:Event
END:VEVENT
BEGIN:VEVENT
DTSTART;TZID=America/New_York:20241124T080000
DTEND;TZID=America/New_York:20241124T140000
DTSTAMP:20260423T174503
CREATED:20240904T175906Z
LAST-MODIFIED:20241124T185914Z
UID:10001486-1732435200-1732456800@coolspeak.com
SUMMARY:NYS CLSA 35th Annual Leadership Conference
DESCRIPTION:Event Title:\nNYS CLSA 35th Annual Leadership Conference\nEvent Description:\nChris Collins will provide a Keynote Presentation and Workshops.\nEvent Theme:\nIgnite Leadership\nTime:\n8:00AM – 2:00PM ET\nDate:\n11/24/2024 – 11/24/2024\nLocation:\nLake Placid\, NY\nJoin with Google Meet: https://meet.google.com/epq-snct-hrp\nOr dial: (US) +1 435-731-4769 PIN: 541403207#\nMore phone numbers: https://tel.meet/epq-snct-hrp?pin=8152376767568&hs=7\nLearn more about Meet at: https://support.google.com/a/users/answer/9282720
URL:https://coolspeak.com/event/nys-clsa-35th-annual-leadership-conference/
CATEGORIES:Event
END:VEVENT
BEGIN:VEVENT
DTSTART;TZID=America/New_York:20241121T093000
DTEND;TZID=America/New_York:20241121T140000
DTSTAMP:20260423T174503
CREATED:20241003T042812Z
LAST-MODIFIED:20241109T122859Z
UID:10001533-1732181400-1732197600@coolspeak.com
SUMMARY:2024 Partners for Rural Impact College Readiness Summit
DESCRIPTION:
URL:https://coolspeak.com/event/2024-partners-for-rural-impact-college-readiness-summit-2/
LOCATION:Richmond\, KY\, USA
CATEGORIES:Event
END:VEVENT
BEGIN:VEVENT
DTSTART;TZID=America/New_York:20241121T090000
DTEND;TZID=America/New_York:20241121T140000
DTSTAMP:20260423T174503
CREATED:20241101T171348Z
LAST-MODIFIED:20241109T122859Z
UID:10001564-1732179600-1732197600@coolspeak.com
SUMMARY:Downingtown Area School District Student Leadership and Belonging Conference.
DESCRIPTION:Below are the event details: \n\nSpeaker: \n\nLamarr Womble\n\n\nEvent Title: \n\nDowningtown Area School District Student Leadership and Belonging Conference.\n\n\nClient Program/Organization: \n\nDowningtown Area School District\n\n\nEvent Description: \n\nLamarr Womble will provide a Virtual Presentation for Downingtown Area School District Students.\n\n\nTheme: \n\nResetting Habits and Knowing Your Values.\n\n\nStart Date: \n\n2024-11-21\n\n\nEnd Date: \n\n2024-11-21\n\n\nStart Time: \n\n9:00 AM\n\n\nEnd Time: \n\n2:00 PM\n\n\nLocation: \n\nVirtual\n\n\nAudience: \n\nHigh School\n\n\nNumber attending: \n\n60
URL:https://coolspeak.com/event/downingtown-area-school-district-student-leadership-and-belonging-conference/
CATEGORIES:Event
END:VEVENT
BEGIN:VEVENT
DTSTART;TZID=America/New_York:20241120T100000
DTEND;TZID=America/New_York:20241120T160000
DTSTAMP:20260423T174503
CREATED:20240830T222830Z
LAST-MODIFIED:20241109T122859Z
UID:10001467-1732096800-1732118400@coolspeak.com
SUMMARY:Fall 2024 Lufkin High School GEAR UP Writing Workshops
DESCRIPTION:Speaker:\n\nJoaquin Zihuatanejo\n\n\nEvent: \n\nFall 2024 Lufkin High School GEAR UP Writing Workshops\n\n\nDescription: \n\nWriting workshops for the GEAR UP Senior cohort at Lufkin High School\n\n\nTheme: \n\nScholarships\n\n\nDate:  \n\n11/20/2024\n\n\nWorkshop Start Time: \n\n8:00 AM – 3:00 PM\n\n\nLocation: \n\nLufkin\, TX\n\n\nAudience: \n\nHigh School\n\n\nNumber Attending: \n\n100
URL:https://coolspeak.com/event/fall-2024-lufkin-high-school-gear-up-writing-workshops/
CATEGORIES:Event
END:VEVENT
BEGIN:VEVENT
DTSTART;TZID=America/New_York:20241120T090000
DTEND;TZID=America/New_York:20241120T110000
DTSTAMP:20260423T174503
CREATED:20240926T052750Z
LAST-MODIFIED:20241109T122859Z
UID:10001523-1732093200-1732100400@coolspeak.com
SUMMARY:EOA 50th Annual Conference
DESCRIPTION:
URL:https://coolspeak.com/event/eoa-50th-annual-conference-4/
LOCATION:Minneapolis\, MN\, USA
CATEGORIES:Event
END:VEVENT
BEGIN:VEVENT
DTSTART;TZID=America/New_York:20241119T100000
DTEND;TZID=America/New_York:20241119T170000
DTSTAMP:20260423T174503
CREATED:20241004T204329Z
LAST-MODIFIED:20241109T122858Z
UID:10001536-1732010400-1732035600@coolspeak.com
SUMMARY:Fall 2024 ESC Region 15 Family Engagement PD Session
DESCRIPTION:Below are the event details: \n\nEvent: \n\nFall 2024 ESC Region 15 Family Engagement PD Session\n\n\nDescription: \n\nThe goal is to give them tools on how to build better relationships with the families and students.\n\n\nTheme: \n\nBuilding Better Relationships\n\n\nDate:  \n\n11/19/2024\n\n\nTime: \n\n9:00 AM – 4:00 PM CT\n\n\nEvent Address: \n\nSan Angelo\, TX 76903
URL:https://coolspeak.com/event/fall-2024-esc-region-15-family-engagement-pd-session/
CATEGORIES:Event
END:VEVENT
BEGIN:VEVENT
DTSTART;TZID=America/New_York:20241119T080000
DTEND;TZID=America/New_York:20241119T213000
DTSTAMP:20260423T174503
CREATED:20240926T052750Z
LAST-MODIFIED:20241109T122859Z
UID:10001522-1732003200-1732051800@coolspeak.com
SUMMARY:EOA 50th Annual Conference
DESCRIPTION:
URL:https://coolspeak.com/event/eoa-50th-annual-conference-3/
LOCATION:Minneapolis\, MN\, USA
CATEGORIES:Event
END:VEVENT
BEGIN:VEVENT
DTSTART;TZID=America/New_York:20241118T100000
DTEND;TZID=America/New_York:20241118T153000
DTSTAMP:20260423T174503
CREATED:20240904T172804Z
LAST-MODIFIED:20241109T122858Z
UID:10001481-1731924000-1731943800@coolspeak.com
SUMMARY:Minnesota Office of Higher Education Get Ready
DESCRIPTION:Event Title:\nMinnesota Office of Higher Education Get Ready\nEvent Description:\nLamarr Womble will provide Keynote Presentation and Informational Breakout Sessions for First Gen and GEAR UP Students.\nEvent Theme:\nFirst Gen Students and GEAR UP\nTime:\n9:00AM – 2:30PM CT\nDate:\n11/18/2024\nLocation:\nMinneapolis\, MN\nJoin with Google Meet: https://meet.google.com/iji-xozy-erj\nOr dial: (US) +1 513-796-6762 PIN: 583245584#\nMore phone numbers: https://tel.meet/iji-xozy-erj?pin=8062207906117&hs=7\nLearn more about Meet at: https://support.google.com/a/users/answer/9282720
URL:https://coolspeak.com/event/minnesota-office-of-higher-education-get-ready/
CATEGORIES:Event
END:VEVENT
BEGIN:VEVENT
DTSTART;TZID=America/New_York:20241118T080000
DTEND;TZID=America/New_York:20241118T190000
DTSTAMP:20260423T174503
CREATED:20240926T052750Z
LAST-MODIFIED:20241109T122858Z
UID:10001521-1731916800-1731956400@coolspeak.com
SUMMARY:EOA 50th Annual Conference
DESCRIPTION:
URL:https://coolspeak.com/event/eoa-50th-annual-conference-2/
LOCATION:Minneapolis\, MN\, USA
CATEGORIES:Event
END:VEVENT
BEGIN:VEVENT
DTSTART;TZID=America/New_York:20241117T100000
DTEND;TZID=America/New_York:20241117T190000
DTSTAMP:20260423T174503
CREATED:20240926T052749Z
LAST-MODIFIED:20241109T122858Z
UID:10001520-1731837600-1731870000@coolspeak.com
SUMMARY:EOA 50th Annual Conference
DESCRIPTION:
URL:https://coolspeak.com/event/eoa-50th-annual-conference/
LOCATION:Minneapolis\, MN\, USA
CATEGORIES:Event
END:VEVENT
END:VCALENDAR