BEGIN:VCALENDAR
VERSION:2.0
PRODID:-//CoolSpeak - ECPv6.15.18//NONSGML v1.0//EN
CALSCALE:GREGORIAN
METHOD:PUBLISH
X-WR-CALNAME:CoolSpeak
X-ORIGINAL-URL:https://coolspeak.com
X-WR-CALDESC:Events for CoolSpeak
REFRESH-INTERVAL;VALUE=DURATION:PT1H
X-Robots-Tag:noindex
X-PUBLISHED-TTL:PT1H
BEGIN:VTIMEZONE
TZID:America/New_York
BEGIN:DAYLIGHT
TZOFFSETFROM:-0500
TZOFFSETTO:-0400
TZNAME:EDT
DTSTART:20230312T070000
END:DAYLIGHT
BEGIN:STANDARD
TZOFFSETFROM:-0400
TZOFFSETTO:-0500
TZNAME:EST
DTSTART:20231105T060000
END:STANDARD
BEGIN:DAYLIGHT
TZOFFSETFROM:-0500
TZOFFSETTO:-0400
TZNAME:EDT
DTSTART:20240310T070000
END:DAYLIGHT
BEGIN:STANDARD
TZOFFSETFROM:-0400
TZOFFSETTO:-0500
TZNAME:EST
DTSTART:20241103T060000
END:STANDARD
BEGIN:DAYLIGHT
TZOFFSETFROM:-0500
TZOFFSETTO:-0400
TZNAME:EDT
DTSTART:20250309T070000
END:DAYLIGHT
BEGIN:STANDARD
TZOFFSETFROM:-0400
TZOFFSETTO:-0500
TZNAME:EST
DTSTART:20251102T060000
END:STANDARD
END:VTIMEZONE
BEGIN:VEVENT
DTSTART;TZID=America/New_York:20241120T090000
DTEND;TZID=America/New_York:20241120T110000
DTSTAMP:20260423T204700
CREATED:20240926T052750Z
LAST-MODIFIED:20241109T122859Z
UID:10001523-1732093200-1732100400@coolspeak.com
SUMMARY:EOA 50th Annual Conference
DESCRIPTION:
URL:https://coolspeak.com/event/eoa-50th-annual-conference-4/
LOCATION:Minneapolis\, MN\, USA
CATEGORIES:Event
END:VEVENT
BEGIN:VEVENT
DTSTART;TZID=America/New_York:20241119T100000
DTEND;TZID=America/New_York:20241119T170000
DTSTAMP:20260423T204700
CREATED:20241004T204329Z
LAST-MODIFIED:20241109T122858Z
UID:10001536-1732010400-1732035600@coolspeak.com
SUMMARY:Fall 2024 ESC Region 15 Family Engagement PD Session
DESCRIPTION:Below are the event details: \n\nEvent: \n\nFall 2024 ESC Region 15 Family Engagement PD Session\n\n\nDescription: \n\nThe goal is to give them tools on how to build better relationships with the families and students.\n\n\nTheme: \n\nBuilding Better Relationships\n\n\nDate:  \n\n11/19/2024\n\n\nTime: \n\n9:00 AM – 4:00 PM CT\n\n\nEvent Address: \n\nSan Angelo\, TX 76903
URL:https://coolspeak.com/event/fall-2024-esc-region-15-family-engagement-pd-session/
CATEGORIES:Event
END:VEVENT
BEGIN:VEVENT
DTSTART;TZID=America/New_York:20241119T080000
DTEND;TZID=America/New_York:20241119T213000
DTSTAMP:20260423T204700
CREATED:20240926T052750Z
LAST-MODIFIED:20241109T122859Z
UID:10001522-1732003200-1732051800@coolspeak.com
SUMMARY:EOA 50th Annual Conference
DESCRIPTION:
URL:https://coolspeak.com/event/eoa-50th-annual-conference-3/
LOCATION:Minneapolis\, MN\, USA
CATEGORIES:Event
END:VEVENT
BEGIN:VEVENT
DTSTART;TZID=America/New_York:20241118T100000
DTEND;TZID=America/New_York:20241118T153000
DTSTAMP:20260423T204700
CREATED:20240904T172804Z
LAST-MODIFIED:20241109T122858Z
UID:10001481-1731924000-1731943800@coolspeak.com
SUMMARY:Minnesota Office of Higher Education Get Ready
DESCRIPTION:Event Title:\nMinnesota Office of Higher Education Get Ready\nEvent Description:\nLamarr Womble will provide Keynote Presentation and Informational Breakout Sessions for First Gen and GEAR UP Students.\nEvent Theme:\nFirst Gen Students and GEAR UP\nTime:\n9:00AM – 2:30PM CT\nDate:\n11/18/2024\nLocation:\nMinneapolis\, MN\nJoin with Google Meet: https://meet.google.com/iji-xozy-erj\nOr dial: (US) +1 513-796-6762 PIN: 583245584#\nMore phone numbers: https://tel.meet/iji-xozy-erj?pin=8062207906117&hs=7\nLearn more about Meet at: https://support.google.com/a/users/answer/9282720
URL:https://coolspeak.com/event/minnesota-office-of-higher-education-get-ready/
CATEGORIES:Event
END:VEVENT
BEGIN:VEVENT
DTSTART;TZID=America/New_York:20241118T080000
DTEND;TZID=America/New_York:20241118T190000
DTSTAMP:20260423T204700
CREATED:20240926T052750Z
LAST-MODIFIED:20241109T122858Z
UID:10001521-1731916800-1731956400@coolspeak.com
SUMMARY:EOA 50th Annual Conference
DESCRIPTION:
URL:https://coolspeak.com/event/eoa-50th-annual-conference-2/
LOCATION:Minneapolis\, MN\, USA
CATEGORIES:Event
END:VEVENT
BEGIN:VEVENT
DTSTART;TZID=America/New_York:20241117T100000
DTEND;TZID=America/New_York:20241117T190000
DTSTAMP:20260423T204700
CREATED:20240926T052749Z
LAST-MODIFIED:20241109T122858Z
UID:10001520-1731837600-1731870000@coolspeak.com
SUMMARY:EOA 50th Annual Conference
DESCRIPTION:
URL:https://coolspeak.com/event/eoa-50th-annual-conference/
LOCATION:Minneapolis\, MN\, USA
CATEGORIES:Event
END:VEVENT
BEGIN:VEVENT
DTSTART;TZID=America/New_York:20241116T110000
DTEND;TZID=America/New_York:20241116T193000
DTSTAMP:20260423T204700
CREATED:20240805T172814Z
LAST-MODIFIED:20241109T122858Z
UID:10001443-1731754800-1731785400@coolspeak.com
SUMMARY:2024 Western NASC Conference
DESCRIPTION:Client:  \n\nNevada Association of Student Councils\n\n\nSpeaker:\n\nLilyan Prado-Carrillo\n\n\n\n\nEvent: \n\n2024 Western NASC Conference\n\n\nTheme: \n\nStudent Leadership\n\n\nDate:  \n\n11/16/2024\n\n\nPresentation Start Time:  \n\n8:00 AM\n\n\nWorkshop Start Time: \n\n9:00 AM\n\n\nLocation: \n\nReno\, NV\n\n\nAudience: \n\nHigh School\n\n\nNumber Attending: \n\n900
URL:https://coolspeak.com/event/2024-western-nasc-conference/
CATEGORIES:Event
END:VEVENT
BEGIN:VEVENT
DTSTART;TZID=America/New_York:20241115T110000
DTEND;TZID=America/New_York:20241115T200000
DTSTAMP:20260423T204700
CREATED:20241022T211309Z
LAST-MODIFIED:20241109T122857Z
UID:10001554-1731668400-1731700800@coolspeak.com
SUMMARY:GUNM Student Leadership Conference
DESCRIPTION:Below are the event details: \n\nSpeaker: \n\nMultiple Speakers\n\n\nEvent: \n\n 2024 GUNM Higher Education Department Student Leadership Conference\n\n\nDescription:\n\nThe GEAR UP NM Student Leadership Conference will empower high school students with the tools to lead effectively within their schools and communities.\n\n\nTheme: \n\nLeadership\n\n\nDate:  \n\n11/13/2024 – 11/15/2024\n\n\nTime: \n\n9:00 AM – 6:00pm \n\n\nEvent Address: \n\nAlbuquerque\, NM 87102\n\n\nBuilding: \n\nAlbuquerque Convention Center\n\n\nAudience: \n\nHigh School\n\n\nNumber Attending: \n\n200\n\n\nDress Code:  \n\nHip Professional\n\n\n\nJoin with Google Meet: https://meet.google.com/xwu-krmg-hgn\nOr dial: (US) +1 484-423-4798 PIN: 622995924#\nMore phone numbers: https://tel.meet/xwu-krmg-hgn?pin=8688629814356&hs=7\nLearn more about Meet at: https://support.google.com/a/users/answer/9282720
URL:https://coolspeak.com/event/gunm-student-leadership-conference-3/
CATEGORIES:Event
END:VEVENT
BEGIN:VEVENT
DTSTART;TZID=America/New_York:20241115T100000
DTEND;TZID=America/New_York:20241115T170000
DTSTAMP:20260423T204700
CREATED:20240815T002742Z
LAST-MODIFIED:20241109T122857Z
UID:10001445-1731664800-1731690000@coolspeak.com
SUMMARY:Fall 2024 Red Mountain High School
DESCRIPTION:Speaker: \n\nZach Gowen\n\n\nEvent: \n\nFall 2024 Red Mountain High School\n\n\nDescription: \n\nZach will do his presentation to get the kids pumped up for Q2\n\n\nTheme: \n\nWrap Up of Q1\n\n\nDate:  \n\n11/15/2024\n\n\nTime:  \n\n8:00 AM – 2:30 PM\n\n\nLocation: \n\nMesa\, AZ\n\n\nAudience: \n\nHigh School\n\n\nNumber Attending: \n\n3\,400
URL:https://coolspeak.com/event/fall-2024-red-mountain-high-school/
CATEGORIES:Event
END:VEVENT
BEGIN:VEVENT
DTSTART;TZID=America/New_York:20241115T090000
DTEND;TZID=America/New_York:20241115T160000
DTSTAMP:20260423T204700
CREATED:20241030T182834Z
LAST-MODIFIED:20241109T122858Z
UID:10001561-1731661200-1731686400@coolspeak.com
SUMMARY:Fall 2024 Trenton Central High School Student Assemblies
DESCRIPTION:Below are the event details: \n\nSpeaker:\n\n Lamarr Womble\n\n\nEvent Title: \n\nFall 2024 Trenton Central High School Student Assemblies\n\n\nClient Program/Organization: \n\nTrenton Central High School\n\n\nEvent Description: \n\nLamarr will do 2 Keynote Presentations with Students and 2 PD Session with Staff\n\n\nTheme:\n\n Legendary Leaders\n\n\nStart Date: \n\n2024-11-15\n\n\nEnd Date: \n\n2025-05-31\n\n\nStart Time: \n\n9:00 AM\n\n\nEnd Time: \n\n4:00 PM\n\n\nAddress: \n\nTrenton Central High School\nTrenton\, NJ 08609\n\n\nAudience: \n\nHigh School\n\n\nNumber attending: \n\n2100
URL:https://coolspeak.com/event/fall-2024-trenton-central-high-school-student-assemblies/
CATEGORIES:Event
END:VEVENT
BEGIN:VEVENT
DTSTART;TZID=America/New_York:20241114T110000
DTEND;TZID=America/New_York:20241114T200000
DTSTAMP:20260423T204700
CREATED:20241022T211309Z
LAST-MODIFIED:20241109T122857Z
UID:10001553-1731582000-1731614400@coolspeak.com
SUMMARY:GUNM Student Leadership Conference
DESCRIPTION:Below are the event details: \n\nSpeaker: \n\nMultiple Speakers\n\n\nEvent: \n\n 2024 GUNM Higher Education Department Student Leadership Conference\n\n\nDescription:\n\nThe GEAR UP NM Student Leadership Conference will empower high school students with the tools to lead effectively within their schools and communities.\n\n\nTheme: \n\nLeadership\n\n\nDate:  \n\n11/13/2024 – 11/15/2024\n\n\nTime: \n\n9:00 AM – 6:00pm \n\n\nEvent Address: \n\nAlbuquerque\, NM 87102\n\n\nBuilding: \n\nAlbuquerque Convention Center\n\n\nAudience: \n\nHigh School\n\n\nNumber Attending: \n\n200\n\n\nDress Code:  \n\nHip Professional\n\n\n\nJoin with Google Meet: https://meet.google.com/xwu-krmg-hgn\nOr dial: (US) +1 484-423-4798 PIN: 622995924#\nMore phone numbers: https://tel.meet/xwu-krmg-hgn?pin=8688629814356&hs=7\nLearn more about Meet at: https://support.google.com/a/users/answer/9282720
URL:https://coolspeak.com/event/gunm-student-leadership-conference-2/
CATEGORIES:Event
END:VEVENT
BEGIN:VEVENT
DTSTART;TZID=America/New_York:20241114T100000
DTEND;TZID=America/New_York:20241114T130000
DTSTAMP:20260423T204700
CREATED:20241108T161704Z
LAST-MODIFIED:20241109T122857Z
UID:10001568-1731578400-1731589200@coolspeak.com
SUMMARY:McDonald’s HACER
DESCRIPTION:
URL:https://coolspeak.com/event/mcdonalds-hacer-2/
LOCATION:Idaho
CATEGORIES:Event
END:VEVENT
BEGIN:VEVENT
DTSTART;TZID=America/New_York:20241114T093000
DTEND;TZID=America/New_York:20241114T140000
DTSTAMP:20260423T204700
CREATED:20241003T042811Z
LAST-MODIFIED:20241109T122857Z
UID:10001532-1731576600-1731592800@coolspeak.com
SUMMARY:2024 Partners for Rural Impact College Readiness Summit
DESCRIPTION:
URL:https://coolspeak.com/event/2024-partners-for-rural-impact-college-readiness-summit/
LOCATION:Corbin\, Corbin\, KY\, United States
CATEGORIES:Event
GEO:36.960643;-84.093265
END:VEVENT
BEGIN:VEVENT
DTSTART;TZID=America/New_York:20241113T110000
DTEND;TZID=America/New_York:20241113T200000
DTSTAMP:20260423T204700
CREATED:20241022T211309Z
LAST-MODIFIED:20241109T122857Z
UID:10001552-1731495600-1731528000@coolspeak.com
SUMMARY:GUNM Student Leadership Conference
DESCRIPTION:Below are the event details: \n\nSpeaker: \n\nMultiple Speakers\n\n\nEvent: \n\n 2024 GUNM Higher Education Department Student Leadership Conference\n\n\nDescription:\n\nThe GEAR UP NM Student Leadership Conference will empower high school students with the tools to lead effectively within their schools and communities.\n\n\nTheme: \n\nLeadership\n\n\nDate:  \n\n11/13/2024 – 11/15/2024\n\n\nTime: \n\n9:00 AM – 6:00pm \n\n\nEvent Address: \n\nAlbuquerque\, NM 87102\n\n\nBuilding: \n\nAlbuquerque Convention Center\n\n\nAudience: \n\nHigh School\n\n\nNumber Attending: \n\n200\n\n\nDress Code:  \n\nHip Professional
URL:https://coolspeak.com/event/gunm-student-leadership-conference/
CATEGORIES:Event
END:VEVENT
BEGIN:VEVENT
DTSTART;TZID=America/New_York:20241112T111500
DTEND;TZID=America/New_York:20241112T210000
DTSTAMP:20260423T204700
CREATED:20241108T161704Z
LAST-MODIFIED:20241109T122857Z
UID:10001567-1731410100-1731445200@coolspeak.com
SUMMARY:McDonald’s HACER
DESCRIPTION:
URL:https://coolspeak.com/event/mcdonalds-hacer/
LOCATION:Washington
CATEGORIES:Event
END:VEVENT
BEGIN:VEVENT
DTSTART;TZID=America/New_York:20241111T100000
DTEND;TZID=America/New_York:20241111T130000
DTSTAMP:20260423T204700
CREATED:20241030T182834Z
LAST-MODIFIED:20241109T122856Z
UID:10001560-1731319200-1731330000@coolspeak.com
SUMMARY:Westlake Academy
DESCRIPTION:Speaker: \n\nJoaquin Zihuatanejo\n\n\nEvent Title:\n\n Fall 2024 Westlake Academy W. Joaquin\n\n\nClient Program/Organization: \n\nWestlake Academy\n\n\nEvent Description: \n\nJoaquin will share his story and do some writing activities with the students of Westlake Academy\n\n\nTheme: \n\nA Life in Poetry\n\n\nStart Date: \n\n2024-11-11\n\n\nEnd Date: \n\n2024-11-11\n\n\nStart Time: \n\n10:00 AM\n\n\nEnd Time: \n\n1:00 PM\n\n\nCity/State: \n\nWestlake\, TX\n\n\nAudience: \n\nHigh School\n\n\nNumber attending: \n\n80\n\n\n\nJoin with Google Meet: https://meet.google.com/xwt-qocf-rqx\nOr dial: (US) +1 302-329-8246 PIN: 780743010#\nMore phone numbers: https://tel.meet/xwt-qocf-rqx?pin=3480214923987&hs=7\nLearn more about Meet at: https://support.google.com/a/users/answer/9282720
URL:https://coolspeak.com/event/westlake-academy/
CATEGORIES:Event
END:VEVENT
BEGIN:VEVENT
DTSTART;TZID=America/New_York:20241109T090000
DTEND;TZID=America/New_York:20241109T170000
DTSTAMP:20260423T204700
CREATED:20241030T182834Z
LAST-MODIFIED:20241109T122856Z
UID:10001559-1731142800-1731171600@coolspeak.com
SUMMARY:2024 FASC Kickoff Conference
DESCRIPTION:Below are the event details: \n\nSpeaker: \n\nCarlos Ojeda Jr.\n\n\nEvent Title: \n\n2024 FASC Kickoff Conference\n\n\nClient Program/Organization: \n\nFlorida Association of School Councils (FASC).\n\n\nEvent Description: \n\nCarlos Ojeda Jr. will be providing multiple presentations.\n\n\nTheme: \n\nLeadership\n\n\nStart Date: \n\n2024-11-08\n\n\nEnd Date: \n\n2024-11-09\n\n\nStart Time: \n\n9:00 AM\n\n\nEnd Time: \n\n5:00 PM\n\n\nCity/State: \n\nPunta Gorda\, FL\n\n\nAudience: \n\nHigh School\n\n\nNumber attending:\n\n 350\n\n\n\nJoin with Google Meet: https://meet.google.com/vxt-yzag-wkc\nOr dial: (US) +1 573-342-3163 PIN: 142777350#\nMore phone numbers: https://tel.meet/vxt-yzag-wkc?pin=5728103070101&hs=7\nLearn more about Meet at: https://support.google.com/a/users/answer/9282720
URL:https://coolspeak.com/event/2024-fasc-kickoff-conference-2/
CATEGORIES:Event
END:VEVENT
BEGIN:VEVENT
DTSTART;TZID=America/New_York:20241108T090000
DTEND;TZID=America/New_York:20241108T170000
DTSTAMP:20260423T204700
CREATED:20241030T182834Z
LAST-MODIFIED:20241108T205919Z
UID:10001558-1731056400-1731085200@coolspeak.com
SUMMARY:2024 FASC Kickoff Conference
DESCRIPTION:Below are the event details: \n\nSpeaker: \n\nCarlos Ojeda Jr.\n\n\nEvent Title: \n\n2024 FASC Kickoff Conference\n\n\nClient Program/Organization: \n\nFlorida Association of School Councils (FASC).\n\n\nEvent Description: \n\nCarlos Ojeda Jr. will be providing multiple presentations.\n\n\nTheme: \n\nLeadership\n\n\nStart Date: \n\n2024-11-08\n\n\nEnd Date: \n\n2024-11-09\n\n\nStart Time: \n\n9:00 AM\n\n\nEnd Time: \n\n5:00 PM\n\n\nCity/State: \n\nPunta Gorda\, FL\n\n\nAudience: \n\nHigh School\n\n\nNumber attending:\n\n 350
URL:https://coolspeak.com/event/2024-fasc-kickoff-conference/
CATEGORIES:Event
END:VEVENT
BEGIN:VEVENT
DTSTART;TZID=America/New_York:20241107T123000
DTEND;TZID=America/New_York:20241107T133000
DTSTAMP:20260423T204700
CREATED:20240819T194325Z
LAST-MODIFIED:20241107T181353Z
UID:10001457-1730982600-1730986200@coolspeak.com
SUMMARY:State Student Council Convention Presentation with Logan Taylor.
DESCRIPTION:Event Title:\nState Student Council Convention Presentation with Logan Taylor.\nEvent Description:\nLogan Taylor will provide a keynote presentation.\nEvent Theme:\nStudent Council/General Leadership.\nDate:\n11/7/2024\nTime:\n10:30 AM – 11:30 AM MT \nLocation:\nMesa\,AZ
URL:https://coolspeak.com/event/state-student-council-convention-presentation-with-logan-taylor/
CATEGORIES:Event
END:VEVENT
BEGIN:VEVENT
DTSTART;TZID=America/New_York:20241106T130000
DTEND;TZID=America/New_York:20241106T220000
DTSTAMP:20260423T204700
CREATED:20240904T171252Z
LAST-MODIFIED:20241107T020001Z
UID:10001477-1730898000-1730930400@coolspeak.com
SUMMARY:College Application Week
DESCRIPTION:Event Title:\nCollege Application Week\nEvent Description:\nWill provide a keynote presentation (Student) and two workshops (Student and Parent).\nEvent Theme:\nCollege Readiness/Financial Literacy/Motivation.\nTime:\n11:00AM – 8:00PM MT\nDate:\n11/6/2024\nLocation:\nSocorro\, NM\nJoin with Google Meet: https://meet.google.com/jiy-vetc-sjd\nOr dial: (US) +1 636-789-8076 PIN: 112779879#\nMore phone numbers: https://tel.meet/jiy-vetc-sjd?pin=5733273741613&hs=7\nLearn more about Meet at: https://support.google.com/a/users/answer/9282720
URL:https://coolspeak.com/event/college-application-week-2/
CATEGORIES:Event
END:VEVENT
BEGIN:VEVENT
DTSTART;TZID=America/New_York:20241106T090000
DTEND;TZID=America/New_York:20241106T130000
DTSTAMP:20260423T204700
CREATED:20240619T212609Z
LAST-MODIFIED:20241106T175807Z
UID:10001402-1730883600-1730898000@coolspeak.com
SUMMARY:Region 18 ESC Transition Fair
DESCRIPTION:Event: \n\nRegion 18 ESC Transition Fair\n\n\nDescription: \n\nTransition Fair for students ages 16-21 with disabilities.\n\n\nTheme: \n\nSelf Determination\n\n\nDate:  \n\n11/6/2024\n\n\nPresentation Start Time:  \n\n8:30 AM\n\n\nWorkshop Start Time: \n\n10:00 AM\n\n\nLocation: \n\nMidland\, TX\n\n\nAudience: \n\nHigh School\n\n\nNumber Attending: \n\n200
URL:https://coolspeak.com/event/region-18-esc-transition-fair/
CATEGORIES:Event
END:VEVENT
BEGIN:VEVENT
DTSTART;TZID=America/New_York:20241106T090000
DTEND;TZID=America/New_York:20241106T113000
DTSTAMP:20260423T204700
CREATED:20241019T011353Z
LAST-MODIFIED:20241106T154345Z
UID:10001551-1730883600-1730892600@coolspeak.com
SUMMARY:2024 SWASAP Annual Conference
DESCRIPTION:
URL:https://coolspeak.com/event/2024-swasap-annual-conference-4/
CATEGORIES:Event
END:VEVENT
BEGIN:VEVENT
DTSTART;TZID=America/New_York:20241105T110000
DTEND;TZID=America/New_York:20241105T120000
DTSTAMP:20260423T204700
CREATED:20240819T194325Z
LAST-MODIFIED:20241105T162918Z
UID:10001456-1730804400-1730808000@coolspeak.com
SUMMARY:First Generation Celebration Day.
DESCRIPTION:Event Title:\nFirst Generation Celebration Day.\nEvent Description:\nFirst Generation Students Making Real Decisions with CoolSpeaker Juan Cangas.\nEvent Theme:\nFirst Generation Students.  Real Life Decisions.\nDate:\n11/7/2024\nTime:\n11:00 AM – 12:00 PM ET\nLocation:\nFort Scott\, KS
URL:https://coolspeak.com/event/first-generation-celebration-day/
CATEGORIES:Event
END:VEVENT
BEGIN:VEVENT
DTSTART;TZID=America/New_York:20241105T083000
DTEND;TZID=America/New_York:20241105T153000
DTSTAMP:20260423T204700
CREATED:20240916T202904Z
LAST-MODIFIED:20241105T194440Z
UID:10001508-1730795400-1730820600@coolspeak.com
SUMMARY:Miami Dade College GEAR UP Professional Development Day with Joaquin Zihuatanejo.
DESCRIPTION:Event Title:\nMiami Dade College GEAR UP Professional Development Day with Joaquin Zihuatanejo.\nEvent Description:\nJoaquin Zihuatanejo will provide a Professional Development for Staff at Jorge Mas Canosa Middle School..\nEvent Theme:\nProfessional Development/Motivation/Team Building.\nDate:\n11/5/2024\nTime:\n8:30am – 3:30pm\nLocation:\nMiami\, FL
URL:https://coolspeak.com/event/miami-dade-college-gear-up-professional-development-day-with-joaquin-zihuatanejo/
CATEGORIES:Event
END:VEVENT
BEGIN:VEVENT
DTSTART;TZID=America/New_York:20241105T080000
DTEND;TZID=America/New_York:20241105T203000
DTSTAMP:20260423T204700
CREATED:20241019T011353Z
LAST-MODIFIED:20241106T002931Z
UID:10001550-1730793600-1730838600@coolspeak.com
SUMMARY:2024 SWASAP Annual Conference
DESCRIPTION:
URL:https://coolspeak.com/event/2024-swasap-annual-conference-3/
CATEGORIES:Event
END:VEVENT
BEGIN:VEVENT
DTSTART;TZID=America/New_York:20241104T080000
DTEND;TZID=America/New_York:20241104T230000
DTSTAMP:20260423T204700
CREATED:20241019T011352Z
LAST-MODIFIED:20241105T034230Z
UID:10001549-1730707200-1730761200@coolspeak.com
SUMMARY:2024 SWASAP Annual Conference
DESCRIPTION:
URL:https://coolspeak.com/event/2024-swasap-annual-conference-2/
CATEGORIES:Event
END:VEVENT
BEGIN:VEVENT
DTSTART;VALUE=DATE:20241104
DTEND;VALUE=DATE:20241105
DTSTAMP:20260423T204700
CREATED:20241016T204528Z
LAST-MODIFIED:20241104T231414Z
UID:10001547-1730678400-1730764799@coolspeak.com
SUMMARY:2024 Idaho Association of Student Councils Conference.
DESCRIPTION:Below are the event details: \n\nSpeaker: \n\nCarlos Ojeda Jr.\n\n\nEvent: \n\n2024 Idaho Association of Student Councils Conference.\n\n\nDescription: \n\nCarlos Ojeda Jr. will be providing a Keynote Presentation for Student Councils from the state of Idaho.\n\n\nTheme: \n\n“Go For The Gold”\n\n\nDate:  \n\n11/4/2024\n\n\nWorkshop Start Time: \n\nTBD\n\n\nEvent Address: \n\nTwin Falls\, ID 83301
URL:https://coolspeak.com/event/2024-idaho-association-of-student-councils-conference/
CATEGORIES:Event
END:VEVENT
BEGIN:VEVENT
DTSTART;TZID=America/New_York:20241103T080000
DTEND;TZID=America/New_York:20241103T220000
DTSTAMP:20260423T204700
CREATED:20241019T011352Z
LAST-MODIFIED:20241104T023015Z
UID:10001548-1730620800-1730671200@coolspeak.com
SUMMARY:2024 SWASAP Annual Conference
DESCRIPTION:
URL:https://coolspeak.com/event/2024-swasap-annual-conference/
CATEGORIES:Event
END:VEVENT
BEGIN:VEVENT
DTSTART;TZID=America/New_York:20241103T080000
DTEND;TZID=America/New_York:20241103T170000
DTSTAMP:20260423T204700
CREATED:20241015T211319Z
LAST-MODIFIED:20241103T215915Z
UID:10001546-1730620800-1730653200@coolspeak.com
SUMMARY:Fall 2024 Partners for Rural Impact GEAR UP Promise Zone
DESCRIPTION:
URL:https://coolspeak.com/event/fall-2024-partners-for-rural-impact-gear-up-promise-zone-2/
LOCATION:Prestonsburg\, Prestonsburg\, KY\, United States
CATEGORIES:Event
GEO:37.66565;-82.77155
END:VEVENT
BEGIN:VEVENT
DTSTART;TZID=America/New_York:20241102T080000
DTEND;TZID=America/New_York:20241102T200000
DTSTAMP:20260423T204700
CREATED:20241015T211319Z
LAST-MODIFIED:20241102T232815Z
UID:10001545-1730534400-1730577600@coolspeak.com
SUMMARY:Fall 2024 Partners for Rural Impact GEAR UP Promise Zone
DESCRIPTION:
URL:https://coolspeak.com/event/fall-2024-partners-for-rural-impact-gear-up-promise-zone/
LOCATION:Prestonsburg\, Prestonsburg\, KY\, United States
CATEGORIES:Event
GEO:37.66565;-82.77155
END:VEVENT
END:VCALENDAR