BEGIN:VCALENDAR
VERSION:2.0
PRODID:-//CoolSpeak - ECPv6.15.18//NONSGML v1.0//EN
CALSCALE:GREGORIAN
METHOD:PUBLISH
X-WR-CALNAME:CoolSpeak
X-ORIGINAL-URL:https://coolspeak.com
X-WR-CALDESC:Events for CoolSpeak
REFRESH-INTERVAL;VALUE=DURATION:PT1H
X-Robots-Tag:noindex
X-PUBLISHED-TTL:PT1H
BEGIN:VTIMEZONE
TZID:America/New_York
BEGIN:DAYLIGHT
TZOFFSETFROM:-0500
TZOFFSETTO:-0400
TZNAME:EDT
DTSTART:20230312T070000
END:DAYLIGHT
BEGIN:STANDARD
TZOFFSETFROM:-0400
TZOFFSETTO:-0500
TZNAME:EST
DTSTART:20231105T060000
END:STANDARD
BEGIN:DAYLIGHT
TZOFFSETFROM:-0500
TZOFFSETTO:-0400
TZNAME:EDT
DTSTART:20240310T070000
END:DAYLIGHT
BEGIN:STANDARD
TZOFFSETFROM:-0400
TZOFFSETTO:-0500
TZNAME:EST
DTSTART:20241103T060000
END:STANDARD
BEGIN:DAYLIGHT
TZOFFSETFROM:-0500
TZOFFSETTO:-0400
TZNAME:EDT
DTSTART:20250309T070000
END:DAYLIGHT
BEGIN:STANDARD
TZOFFSETFROM:-0400
TZOFFSETTO:-0500
TZNAME:EST
DTSTART:20251102T060000
END:STANDARD
END:VTIMEZONE
BEGIN:VEVENT
DTSTART;TZID=America/New_York:20241105T080000
DTEND;TZID=America/New_York:20241105T203000
DTSTAMP:20260423T231321
CREATED:20241019T011353Z
LAST-MODIFIED:20241106T002931Z
UID:10001550-1730793600-1730838600@coolspeak.com
SUMMARY:2024 SWASAP Annual Conference
DESCRIPTION:
URL:https://coolspeak.com/event/2024-swasap-annual-conference-3/
CATEGORIES:Event
END:VEVENT
BEGIN:VEVENT
DTSTART;TZID=America/New_York:20241104T080000
DTEND;TZID=America/New_York:20241104T230000
DTSTAMP:20260423T231321
CREATED:20241019T011352Z
LAST-MODIFIED:20241105T034230Z
UID:10001549-1730707200-1730761200@coolspeak.com
SUMMARY:2024 SWASAP Annual Conference
DESCRIPTION:
URL:https://coolspeak.com/event/2024-swasap-annual-conference-2/
CATEGORIES:Event
END:VEVENT
BEGIN:VEVENT
DTSTART;VALUE=DATE:20241104
DTEND;VALUE=DATE:20241105
DTSTAMP:20260423T231321
CREATED:20241016T204528Z
LAST-MODIFIED:20241104T231414Z
UID:10001547-1730678400-1730764799@coolspeak.com
SUMMARY:2024 Idaho Association of Student Councils Conference.
DESCRIPTION:Below are the event details: \n\nSpeaker: \n\nCarlos Ojeda Jr.\n\n\nEvent: \n\n2024 Idaho Association of Student Councils Conference.\n\n\nDescription: \n\nCarlos Ojeda Jr. will be providing a Keynote Presentation for Student Councils from the state of Idaho.\n\n\nTheme: \n\n“Go For The Gold”\n\n\nDate:  \n\n11/4/2024\n\n\nWorkshop Start Time: \n\nTBD\n\n\nEvent Address: \n\nTwin Falls\, ID 83301
URL:https://coolspeak.com/event/2024-idaho-association-of-student-councils-conference/
CATEGORIES:Event
END:VEVENT
BEGIN:VEVENT
DTSTART;TZID=America/New_York:20241103T080000
DTEND;TZID=America/New_York:20241103T220000
DTSTAMP:20260423T231321
CREATED:20241019T011352Z
LAST-MODIFIED:20241104T023015Z
UID:10001548-1730620800-1730671200@coolspeak.com
SUMMARY:2024 SWASAP Annual Conference
DESCRIPTION:
URL:https://coolspeak.com/event/2024-swasap-annual-conference/
CATEGORIES:Event
END:VEVENT
BEGIN:VEVENT
DTSTART;TZID=America/New_York:20241103T080000
DTEND;TZID=America/New_York:20241103T170000
DTSTAMP:20260423T231321
CREATED:20241015T211319Z
LAST-MODIFIED:20241103T215915Z
UID:10001546-1730620800-1730653200@coolspeak.com
SUMMARY:Fall 2024 Partners for Rural Impact GEAR UP Promise Zone
DESCRIPTION:
URL:https://coolspeak.com/event/fall-2024-partners-for-rural-impact-gear-up-promise-zone-2/
LOCATION:Prestonsburg\, Prestonsburg\, KY\, United States
CATEGORIES:Event
GEO:37.66565;-82.77155
END:VEVENT
BEGIN:VEVENT
DTSTART;TZID=America/New_York:20241102T080000
DTEND;TZID=America/New_York:20241102T200000
DTSTAMP:20260423T231321
CREATED:20241015T211319Z
LAST-MODIFIED:20241102T232815Z
UID:10001545-1730534400-1730577600@coolspeak.com
SUMMARY:Fall 2024 Partners for Rural Impact GEAR UP Promise Zone
DESCRIPTION:
URL:https://coolspeak.com/event/fall-2024-partners-for-rural-impact-gear-up-promise-zone/
LOCATION:Prestonsburg\, Prestonsburg\, KY\, United States
CATEGORIES:Event
GEO:37.66565;-82.77155
END:VEVENT
BEGIN:VEVENT
DTSTART;TZID=America/New_York:20241031T080000
DTEND;TZID=America/New_York:20241031T114500
DTSTAMP:20260423T231321
CREATED:20240930T045812Z
LAST-MODIFIED:20241031T152759Z
UID:10001531-1730361600-1730375100@coolspeak.com
SUMMARY:2024 National HEP/CAMP Conference
DESCRIPTION:
URL:https://coolspeak.com/event/2024-national-hep-camp-conference-4/
LOCATION:Raleigh\, NC\, USA
CATEGORIES:Event
END:VEVENT
BEGIN:VEVENT
DTSTART;TZID=America/New_York:20241030T073000
DTEND;TZID=America/New_York:20241030T161500
DTSTAMP:20260423T231321
CREATED:20240930T045812Z
LAST-MODIFIED:20241030T192856Z
UID:10001530-1730273400-1730304900@coolspeak.com
SUMMARY:2024 National HEP/CAMP Conference
DESCRIPTION:
URL:https://coolspeak.com/event/2024-national-hep-camp-conference-3/
LOCATION:Raleigh\, NC\, USA
CATEGORIES:Event
END:VEVENT
BEGIN:VEVENT
DTSTART;TZID=America/New_York:20241029T130000
DTEND;TZID=America/New_York:20241029T140000
DTSTAMP:20260423T231321
CREATED:20241011T201256Z
LAST-MODIFIED:20241028T134244Z
UID:10001543-1730206800-1730210400@coolspeak.com
SUMMARY:LOGAN: Fall 2024 Pflugerville ISD Virtual Workshops W. Logan
DESCRIPTION:Below are the event details: \n\nSpeaker: \n\nLogan Taylor\n\n\n\n\nEvent Title: \n\nFall 2024 Pflugerville ISD Virtual Workshops W. Logan\n\n\nEvent Description:\n\nLogan will do two virtual presentations for the parents and families of Pfluferville ISD on Cyber Bullying and Social Media Do’s and Donts\n\n\nTheme: \n\nCyber Bullying and Social Media Awareness\n\n\nStart Date: \n\n2024-10-29\n\n\nEnd Date: \n\n2024-11-27\n\n\nStart Time: \n\n12:00 PM\n\n\nEnd Time: \n\n1:00 PM\n\n\nLocation:\n\nPflugerville\, TX
URL:https://coolspeak.com/event/logan-fall-2024-pflugerville-isd-virtual-workshops-w-logan/
CATEGORIES:Event
END:VEVENT
BEGIN:VEVENT
DTSTART;TZID=America/New_York:20241029T080000
DTEND;TZID=America/New_York:20241029T180000
DTSTAMP:20260423T231321
CREATED:20240521T185642Z
LAST-MODIFIED:20241028T134244Z
UID:10001354-1730188800-1730224800@coolspeak.com
SUMMARY:2024 GEAR UP West Conference
DESCRIPTION:
URL:https://coolspeak.com/event/2024-gear-up-west-conference-3/
LOCATION:Albuquerque\, NM
CATEGORIES:Event
END:VEVENT
BEGIN:VEVENT
DTSTART;TZID=America/New_York:20241029T073000
DTEND;TZID=America/New_York:20241029T203000
DTSTAMP:20260423T231321
CREATED:20240930T045812Z
LAST-MODIFIED:20241028T134245Z
UID:10001529-1730187000-1730233800@coolspeak.com
SUMMARY:2024 National HEP/CAMP Conference
DESCRIPTION:
URL:https://coolspeak.com/event/2024-national-hep-camp-conference-2/
LOCATION:Raleigh\, NC\, USA
CATEGORIES:Event
END:VEVENT
BEGIN:VEVENT
DTSTART;TZID=America/New_York:20241028T080000
DTEND;TZID=America/New_York:20241028T180000
DTSTAMP:20260423T231321
CREATED:20240521T185642Z
LAST-MODIFIED:20241026T225812Z
UID:10001353-1730102400-1730138400@coolspeak.com
SUMMARY:2024 GEAR UP West Conference
DESCRIPTION:
URL:https://coolspeak.com/event/2024-gear-up-west-conference-2/
LOCATION:Albuquerque\, NM
CATEGORIES:Event
END:VEVENT
BEGIN:VEVENT
DTSTART;TZID=America/New_York:20241028T073000
DTEND;TZID=America/New_York:20241028T173000
DTSTAMP:20260423T231321
CREATED:20240930T045812Z
LAST-MODIFIED:20241026T225812Z
UID:10001528-1730100600-1730136600@coolspeak.com
SUMMARY:2024 National HEP/CAMP Conference
DESCRIPTION:
URL:https://coolspeak.com/event/2024-national-hep-camp-conference/
LOCATION:Raleigh\, NC\, USA
CATEGORIES:Event
END:VEVENT
BEGIN:VEVENT
DTSTART;TZID=America/New_York:20241027T080000
DTEND;TZID=America/New_York:20241027T180000
DTSTAMP:20260423T231321
CREATED:20240521T185641Z
LAST-MODIFIED:20241027T215840Z
UID:10001352-1730016000-1730052000@coolspeak.com
SUMMARY:2024 GEAR UP West Conference
DESCRIPTION:
URL:https://coolspeak.com/event/2024-gear-up-west-conference/
LOCATION:Albuquerque\, NM
CATEGORIES:Event
END:VEVENT
BEGIN:VEVENT
DTSTART;TZID=America/New_York:20241024T100000
DTEND;TZID=America/New_York:20241024T170000
DTSTAMP:20260423T231321
CREATED:20241011T201255Z
LAST-MODIFIED:20241024T201444Z
UID:10001542-1729764000-1729789200@coolspeak.com
SUMMARY:CoolSpeak Motivational Days at Center Middle and High School.
DESCRIPTION:Below are the event details: \n\nEvent: \n\nCoolSpeak Motivational Days at Center Middle and High School.\n\n\nDescription: \n\nCoolSpeakers Lilyan Prado-Carrillo\, Marlon Lizama\, and Logan Taylor will provide Keynote Presentations\, Workshops\, and a Large Group Activity for Middle and High School Students.\n\n\nTheme: \n\nMotivation. Education. Leadership. Team Building.\n\n\nDate:  \n\n10/23/2024 – 10/24/2024\n\n\nTime:  \n\n 8:00 AM – 3:00 PM MT\n\n\nEvent Address:\n\nCenter\, CO 81125\n\n\n\nJoin with Google Meet: https://meet.google.com/uje-zkus-kxx\nOr dial: (US) +1 240-903-1962 PIN: 320758329#\nMore phone numbers: https://tel.meet/uje-zkus-kxx?pin=3912551322500&hs=7\nLearn more about Meet at: https://support.google.com/a/users/answer/9282720
URL:https://coolspeak.com/event/coolspeak-motivational-days-at-center-middle-and-high-school-2/
CATEGORIES:Event
END:VEVENT
BEGIN:VEVENT
DTSTART;TZID=America/New_York:20241024T080000
DTEND;TZID=America/New_York:20241024T123000
DTSTAMP:20260423T231321
CREATED:20241008T012813Z
LAST-MODIFIED:20241024T155818Z
UID:10001539-1729756800-1729773000@coolspeak.com
SUMMARY:2024 October CoolSpeak Motivational Day at Center Middle and High School
DESCRIPTION:
URL:https://coolspeak.com/event/2024-october-coolspeak-motivational-day-at-center-middle-and-high-school-2/
LOCATION:Center\, Center\, CO\, United States
CATEGORIES:Event
GEO:37.869875;-106.046711
END:VEVENT
BEGIN:VEVENT
DTSTART;TZID=America/New_York:20241023T110000
DTEND;TZID=America/New_York:20241023T170000
DTSTAMP:20260423T231321
CREATED:20240926T165903Z
LAST-MODIFIED:20241023T201323Z
UID:10001526-1729681200-1729702800@coolspeak.com
SUMMARY:2024 Colorado GEAR UP Professional Development Retreat with Lamarr Womble.
DESCRIPTION:Event: \n\n2024 Colorado GEAR UP Professional Development Retreat with Lamarr Womble.\n\n\nDescription: \n\nLamarr Womble will provide a Professional Development Program for Colorado GEAR UP Staff.\n\n\nTheme: \n\nGEAR UP/Professional Development/Self Care/Team Building/Youth Engagement.\n\n\nDate:  \n\n10/23/2024\n\n\nTime:  \n\n9:00 AM – 3:00 PM MT\n\n\nEvent Address: \n\nColorado Springs\, CO 80906\n\n\n\nJoin with Google Meet: https://meet.google.com/wfn-eacw-cix\nOr dial: (US) +1 304-918-0827 PIN: 873828767#\nMore phone numbers: https://tel.meet/wfn-eacw-cix?pin=9277076420773&hs=7\nLearn more about Meet at: https://support.google.com/a/users/answer/9282720
URL:https://coolspeak.com/event/2024-colorado-gear-up-professional-development-retreat-with-lamarr-womble/
CATEGORIES:Event
END:VEVENT
BEGIN:VEVENT
DTSTART;TZID=America/New_York:20241023T100000
DTEND;TZID=America/New_York:20241023T170000
DTSTAMP:20260423T231321
CREATED:20241011T201251Z
LAST-MODIFIED:20241023T201323Z
UID:10001541-1729677600-1729702800@coolspeak.com
SUMMARY:CoolSpeak Motivational Days at Center Middle and High School.
DESCRIPTION:Below are the event details: \n\nEvent: \n\nCoolSpeak Motivational Days at Center Middle and High School.\n\n\nDescription: \n\nCoolSpeakers Lilyan Prado-Carrillo\, Marlon Lizama\, and Logan Taylor will provide Keynote Presentations\, Workshops\, and a Large Group Activity for Middle and High School Students.\n\n\nTheme: \n\nMotivation. Education. Leadership. Team Building.\n\n\nDate:  \n\n10/23/2024 – 10/24/2024\n\n\nTime:  \n\n 8:00 AM – 3:00 PM MT\n\n\nEvent Address:\n\nCenter\, CO 81125
URL:https://coolspeak.com/event/coolspeak-motivational-days-at-center-middle-and-high-school/
CATEGORIES:Event
END:VEVENT
BEGIN:VEVENT
DTSTART;TZID=America/New_York:20241023T080000
DTEND;TZID=America/New_York:20241023T123000
DTSTAMP:20260423T231321
CREATED:20241008T012813Z
LAST-MODIFIED:20241023T154455Z
UID:10001538-1729670400-1729686600@coolspeak.com
SUMMARY:2024 October CoolSpeak Motivational Day at Center Middle and High School
DESCRIPTION:
URL:https://coolspeak.com/event/2024-october-coolspeak-motivational-day-at-center-middle-and-high-school/
LOCATION:Center\, Center\, CO\, United States
CATEGORIES:Event
GEO:37.869875;-106.046711
END:VEVENT
BEGIN:VEVENT
DTSTART;TZID=America/New_York:20241022T100000
DTEND;TZID=America/New_York:20241022T150000
DTSTAMP:20260423T231321
CREATED:20240927T165736Z
LAST-MODIFIED:20241022T185833Z
UID:10001527-1729591200-1729609200@coolspeak.com
SUMMARY:RIZO: District 8 Student Council Fall Forum
DESCRIPTION:Event: \n\nDistrict 8 Student Council Fall Forum\n\n\nDescription: \n\nRizo will be partnering with Monahans High School and Region 18 to empower students to focus on their mental health and speak up when help is needed\n\n\nTheme: \n\nArise\n\n\nDate:  \n\n10/22/2024\n\n\nTime:  \n\n9:00 AM – 2:00 PM CT\n\n\nEvent Address: \n\nMonahans\, TX 79756\, USA
URL:https://coolspeak.com/event/rizo-district-8-student-council-fall-forum/
LOCATION:1525 E Monahans Pkwy\, Monahans\, TX\, United States
CATEGORIES:Event
GEO:31.5943;-102.89265
END:VEVENT
BEGIN:VEVENT
DTSTART;TZID=America/New_York:20241019T090000
DTEND;TZID=America/New_York:20241019T153000
DTSTAMP:20260423T231321
CREATED:20240529T172656Z
LAST-MODIFIED:20241019T184253Z
UID:10001382-1729328400-1729351800@coolspeak.com
SUMMARY:Fall 2024 ABAC HEP Retreat
DESCRIPTION:Event Title:\nFall 2024 ABAC HEP Retreat\nEvent Description:\nErnesto Mejia will provide a 6-hour program for HEP students.\nEvent Theme:\nHEP\nDate:\n10/19/2024\nTime:\n9AM – 3:30PM EST\nLocation:\nTifton\, GA\nJoin with Google Meet: https://meet.google.com/avj-ditw-jwh\nOr dial: (US) +1 218-481-0663 PIN: 779899142#\nMore phone numbers: https://tel.meet/avj-ditw-jwh?pin=1409535346400&hs=7\nLearn more about Meet at: https://support.google.com/a/users/answer/9282720
URL:https://coolspeak.com/event/fall-2024-abac-hep-retreat/
CATEGORIES:Event
END:VEVENT
BEGIN:VEVENT
DTSTART;TZID=America/New_York:20241018T080000
DTEND;TZID=America/New_York:20241018T143000
DTSTAMP:20260423T231321
CREATED:20240926T135754Z
LAST-MODIFIED:20241018T174401Z
UID:10001525-1729238400-1729261800@coolspeak.com
SUMMARY:Fall 2024 Madisonville Community College TRiO
DESCRIPTION:Event Title:\nFall 2024 Madisonville Community College TRiO\nEvent Theme:\nCarlos will share his story with TRIO Talent Search middle and high school students\nEvent Description:\nLeadership\nDate:\n10/17/2024 – 10/18/2024\nTime:\n8:00 AM – 2:30pm ET\nLocation: \nMadisonville\, KY 42431
URL:https://coolspeak.com/event/fall-2024-madisonville-community-college-trio-2/
LOCATION:Madisonville Community College (North Campus)\, 2000 College Dr\, Madisonville\, KY\, United States
CATEGORIES:Event
GEO:37.363702;-87.503176
X-APPLE-STRUCTURED-LOCATION;VALUE=URI;X-ADDRESS=Madisonville Community College (North Campus) 2000 College Dr Madisonville KY United States;X-APPLE-RADIUS=500;X-TITLE=2000 College Dr:geo:-87.503176,37.363702
END:VEVENT
BEGIN:VEVENT
DTSTART;TZID=America/New_York:20241018T073000
DTEND;TZID=America/New_York:20241018T123000
DTSTAMP:20260423T231321
CREATED:20240922T021438Z
LAST-MODIFIED:20241018T162808Z
UID:10001518-1729236600-1729254600@coolspeak.com
SUMMARY:TEA Parent & Family Engagement Statewide Conference
DESCRIPTION:
URL:https://coolspeak.com/event/tea-parent-family-engagement-statewide-conference-3/
LOCATION:Houston\, TX\, USA
CATEGORIES:Event
END:VEVENT
BEGIN:VEVENT
DTSTART;TZID=America/New_York:20241017T080000
DTEND;TZID=America/New_York:20241017T143000
DTSTAMP:20260423T231321
CREATED:20240926T135754Z
LAST-MODIFIED:20241017T182844Z
UID:10001524-1729152000-1729175400@coolspeak.com
SUMMARY:Fall 2024 Madisonville Community College TRiO
DESCRIPTION:Event Title:\nFall 2024 Madisonville Community College TRiO\nEvent Theme:\nCarlos will share his story with TRIO Talent Search middle and high school students\nEvent Description:\nLeadership\nDate:\n10/17/2024 – 10/18/2024\nTime:\n8:00 AM – 2:30pm ET\nSpeech Time: 10:30-11:30AM\nLocation: \nMadisonville Community College\n750 masson\nMadisonville\, KY 42431\nAudience: \nHigh School\nAttendees:\n500
URL:https://coolspeak.com/event/fall-2024-madisonville-community-college-trio/
LOCATION:Madisonville Community College (North Campus)\, 2000 College Dr\, Madisonville\, KY\, United States
CATEGORIES:Event
GEO:37.363702;-87.503176
X-APPLE-STRUCTURED-LOCATION;VALUE=URI;X-ADDRESS=Madisonville Community College (North Campus) 2000 College Dr Madisonville KY United States;X-APPLE-RADIUS=500;X-TITLE=2000 College Dr:geo:-87.503176,37.363702
END:VEVENT
BEGIN:VEVENT
DTSTART;TZID=America/New_York:20241017T073000
DTEND;TZID=America/New_York:20241017T163000
DTSTAMP:20260423T231321
CREATED:20240922T021438Z
LAST-MODIFIED:20241017T194452Z
UID:10001517-1729150200-1729182600@coolspeak.com
SUMMARY:TEA Parent & Family Engagement Statewide Conference
DESCRIPTION:
URL:https://coolspeak.com/event/tea-parent-family-engagement-statewide-conference-2/
LOCATION:Houston\, TX\, USA
CATEGORIES:Event
END:VEVENT
BEGIN:VEVENT
DTSTART;TZID=America/New_York:20241016T073000
DTEND;TZID=America/New_York:20241016T163000
DTSTAMP:20260423T231321
CREATED:20240922T021437Z
LAST-MODIFIED:20241016T194324Z
UID:10001516-1729063800-1729096200@coolspeak.com
SUMMARY:TEA Parent & Family Engagement Statewide Conference
DESCRIPTION:
URL:https://coolspeak.com/event/tea-parent-family-engagement-statewide-conference/
LOCATION:Houston\, TX\, USA
CATEGORIES:Event
END:VEVENT
BEGIN:VEVENT
DTSTART;TZID=America/New_York:20241015T210000
DTEND;TZID=America/New_York:20241015T223000
DTSTAMP:20260423T231321
CREATED:20240904T175905Z
LAST-MODIFIED:20241016T022811Z
UID:10001485-1729026000-1729031400@coolspeak.com
SUMMARY:Maricopa Community College Virtual Presentation with Joaquin Zihuatanejo.
DESCRIPTION:Event Title:\nMaricopa Community College Virtual Presentation with Joaquin Zihuatanejo.\nEvent Description:\nVirtual Presentation by Joaquin Zihuatanejo.\nEvent Theme:\nWriting Poetry Workshop.\nTime:\n6:00 PM – 7:30 PM MT\nDate:\n10/15/2024\nLocation:\nVirtual\nJoin with Google Meet: https://meet.google.com/unw-cutc-rng\nOr dial: (US) +1 252-662-0217 PIN: 947874498#\nMore phone numbers: https://tel.meet/unw-cutc-rng?pin=5510450850734&hs=7\nLearn more about Meet at: https://support.google.com/a/users/answer/9282720
URL:https://coolspeak.com/event/maricopa-community-college-virtual-presentation-with-joaquin-zihuatanejo/
CATEGORIES:Event
END:VEVENT
BEGIN:VEVENT
DTSTART;TZID=America/New_York:20241015T113000
DTEND;TZID=America/New_York:20241015T123000
DTSTAMP:20260423T231321
CREATED:20241011T005829Z
LAST-MODIFIED:20241015T155753Z
UID:10001540-1728991800-1728995400@coolspeak.com
SUMMARY:2024 SFCC Virtual Session W. Joaquin
DESCRIPTION:Speaker:\n\nJoaquin Zihuatanejo\n\n\nEvent: \n\n2024 SFCC Virtual Session W. Joaquin\n\n\nDescription: \n\nOne hour\, online reading from Joaquin centering on issues related to Hispanic Heritage Month on campus\n\n\nTheme: \n\nHispanic Heritage Month\n\n\nDate:  \n\n10/15/2024\n\n\nPresentation Start Time:  \n\n11:30 AM\n\n\nEvent Address: \n\nSpokane\, WA (Virtual)\n\n\nBuilding: \n\nVirtual\n\n\nAudience: \n\nCollege
URL:https://coolspeak.com/event/2024-sfcc-virtual-session-w-joaquin/
CATEGORIES:Event
END:VEVENT
BEGIN:VEVENT
DTSTART;TZID=America/New_York:20241012T080000
DTEND;TZID=America/New_York:20241012T180000
DTSTAMP:20260423T231321
CREATED:20240926T021338Z
LAST-MODIFIED:20241012T212800Z
UID:10001519-1728720000-1728756000@coolspeak.com
SUMMARY:Fall 2024 Penn State Berks Leadership Summit
DESCRIPTION:Speaker: \n\nChris Collins\n\n\nPhotography By:\n\nLaura Kingston\n\n\nEvent: \n\nFall 2024 Penn State Berks Leadership Summit\n\n\nDescription: \n\nThe Office of Inclusive Excellence and Office of Student Engagement and Leadership is hosting the inaugural Cultural Leadership Retreat at Penn State Berks to bring BIPOC student leaders together for community building\, leadership development.\n\n\nTheme: \n\nOur Roots\, Our Culture\, Our Legacy!\n\n\nDate:  \n\n10/12/2024\n\n\nTime:\n\n8:00 AM – 6:00 PM EST \n\n\nLocation: \n\nReading\, PA\n\n\nAudience: \n\nCollege\n\n\nNumber Attending: \n\n150
URL:https://coolspeak.com/event/fall-2024-penn-state-berks-leadership-summit/
CATEGORIES:Event
END:VEVENT
BEGIN:VEVENT
DTSTART;TZID=America/New_York:20241011T150000
DTEND;TZID=America/New_York:20241011T163000
DTSTAMP:20260423T231321
CREATED:20240729T001249Z
LAST-MODIFIED:20241011T201249Z
UID:10001431-1728658800-1728664200@coolspeak.com
SUMMARY:Child and Youth Services Fort Bliss
DESCRIPTION:Speaker:\n\nLaura Rizo\n\n\nEvent: \n\nChild and Youth Services Fort Bliss\n\n\nDate:  \n\n10/11/2024\n\n\nTime: \n\n1:00 PM\n\n\nEvent Address: \n\nFort Bliss\, TX\n\n\nBuilding: \n\nCentennial Banquet & Conference Center\n\n\nAudience: \n\nProfessional\n\n\nNumber Attending: \n\n400
URL:https://coolspeak.com/event/child-and-youth-services-fort-bliss/
CATEGORIES:Event
END:VEVENT
END:VCALENDAR