BEGIN:VCALENDAR
VERSION:2.0
PRODID:-//CoolSpeak - ECPv6.15.18//NONSGML v1.0//EN
CALSCALE:GREGORIAN
METHOD:PUBLISH
X-WR-CALNAME:CoolSpeak
X-ORIGINAL-URL:https://coolspeak.com
X-WR-CALDESC:Events for CoolSpeak
REFRESH-INTERVAL;VALUE=DURATION:PT1H
X-Robots-Tag:noindex
X-PUBLISHED-TTL:PT1H
BEGIN:VTIMEZONE
TZID:America/New_York
BEGIN:DAYLIGHT
TZOFFSETFROM:-0500
TZOFFSETTO:-0400
TZNAME:EDT
DTSTART:20200308T070000
END:DAYLIGHT
BEGIN:STANDARD
TZOFFSETFROM:-0400
TZOFFSETTO:-0500
TZNAME:EST
DTSTART:20201101T060000
END:STANDARD
BEGIN:DAYLIGHT
TZOFFSETFROM:-0500
TZOFFSETTO:-0400
TZNAME:EDT
DTSTART:20210314T070000
END:DAYLIGHT
BEGIN:STANDARD
TZOFFSETFROM:-0400
TZOFFSETTO:-0500
TZNAME:EST
DTSTART:20211107T060000
END:STANDARD
BEGIN:DAYLIGHT
TZOFFSETFROM:-0500
TZOFFSETTO:-0400
TZNAME:EDT
DTSTART:20220313T070000
END:DAYLIGHT
BEGIN:STANDARD
TZOFFSETFROM:-0400
TZOFFSETTO:-0500
TZNAME:EST
DTSTART:20221106T060000
END:STANDARD
BEGIN:DAYLIGHT
TZOFFSETFROM:-0500
TZOFFSETTO:-0400
TZNAME:EDT
DTSTART:20230312T070000
END:DAYLIGHT
BEGIN:STANDARD
TZOFFSETFROM:-0400
TZOFFSETTO:-0500
TZNAME:EST
DTSTART:20231105T060000
END:STANDARD
END:VTIMEZONE
BEGIN:VEVENT
DTSTART;TZID=America/New_York:20220311T090000
DTEND;TZID=America/New_York:20220311T110000
DTSTAMP:20260423T214914
CREATED:20220302T140321Z
LAST-MODIFIED:20220302T140321Z
UID:10000242-1646989200-1646996400@coolspeak.com
SUMMARY:2022 Prospanica Leadership Summit
DESCRIPTION:Title:2022 Prospanica Leadership Summit \nDescription:The Association of Hispanic MBAs & Business Professionals \nTheme:Leadership \nDate:03/11/2022 \nTime:8:00am – 10:00am CST \nLocation:Irving\, TX
URL:https://coolspeak.com/event/2022-prospanica-leadership-summit-2/
END:VEVENT
BEGIN:VEVENT
DTSTART;TZID=America/New_York:20220311T090000
DTEND;TZID=America/New_York:20220311T110000
DTSTAMP:20260423T214914
CREATED:20220302T140321Z
LAST-MODIFIED:20220302T140321Z
UID:10000229-1646989200-1646996400@coolspeak.com
SUMMARY:2022 Prospanica Leadership Summit
DESCRIPTION:Title:2022 Prospanica Leadership Summit \nDescription:The Association of Hispanic MBAs & Business Professionals \nTheme:Leadership \nDate:03/11/2022 \nTime:8:00am – 10:00am CST \nLocation:Irving\, TX
URL:https://coolspeak.com/event/2022-prospanica-leadership-summit/
END:VEVENT
BEGIN:VEVENT
DTSTART;TZID=America/New_York:20220311T080000
DTEND;TZID=America/New_York:20220311T120000
DTSTAMP:20260423T214914
CREATED:20220302T140321Z
LAST-MODIFIED:20220302T140321Z
UID:10000227-1646985600-1647000000@coolspeak.com
SUMMARY:Heart & Soul Wellness Day
DESCRIPTION:Title:\nHeart & Soul Wellness Day\nDescription:\nZach Gowen will perform a keynote presentation and workshops.\nTheme:\nWellness\nDate:\n03/11/2022\nTime:\n8:00am – 12:00pm EST\nLocation:\nRidgefield\, NJ
URL:https://coolspeak.com/event/heart-soul-wellness-day/
END:VEVENT
BEGIN:VEVENT
DTSTART;TZID=America/New_York:20220311T080000
DTEND;TZID=America/New_York:20220311T120000
DTSTAMP:20260423T214914
CREATED:20220302T140321Z
LAST-MODIFIED:20220302T140321Z
UID:10000240-1646985600-1647000000@coolspeak.com
SUMMARY:Heart & Soul Wellness Day
DESCRIPTION:Title:\nHeart & Soul Wellness Day\nDescription:\nZach Gowen will perform a keynote presentation and workshops.\nTheme:\nWellness\nDate:\n03/11/2022\nTime:\n8:00am – 12:00pm EST\nLocation:\nRidgefield\, NJ
URL:https://coolspeak.com/event/heart-soul-wellness-day-2/
END:VEVENT
BEGIN:VEVENT
DTSTART;TZID=America/New_York:20220308T180000
DTEND;TZID=America/New_York:20220308T190000
DTSTAMP:20260423T214914
CREATED:20220302T140321Z
LAST-MODIFIED:20220302T140321Z
UID:10000226-1646762400-1646766000@coolspeak.com
SUMMARY:2022 Thomas University Virtual Book Club with Natasha Carrizosa.
DESCRIPTION:Title:2022 Thomas University Virtual Book Club with Natasha Carrizosa. \nDescription:Four-Week Interactive Virtual Book Club. \nTheme:Youth Empowerment and Self- Expression. \nDate(s): 03/08/202203/15/202203/22/202203/29/2022 \nTime:6:00pm – 7:00pm EST  Location:Virtual
URL:https://coolspeak.com/event/2022-thomas-university-virtual-book-club-with-natasha-carrizosa/
END:VEVENT
BEGIN:VEVENT
DTSTART;TZID=America/New_York:20220308T180000
DTEND;TZID=America/New_York:20220308T190000
DTSTAMP:20260423T214914
CREATED:20220302T140321Z
LAST-MODIFIED:20220302T140321Z
UID:10000239-1646762400-1646766000@coolspeak.com
SUMMARY:2022 Thomas University Virtual Book Club with Natasha Carrizosa.
DESCRIPTION:Title:2022 Thomas University Virtual Book Club with Natasha Carrizosa. \nDescription:Four-Week Interactive Virtual Book Club. \nTheme:Youth Empowerment and Self- Expression. \nDate(s): 03/08/202203/15/202203/22/202203/29/2022 \nTime:6:00pm – 7:00pm EST  Location:Virtual
URL:https://coolspeak.com/event/2022-thomas-university-virtual-book-club-with-natasha-carrizosa-5/
END:VEVENT
BEGIN:VEVENT
DTSTART;TZID=America/New_York:20220305T120000
DTEND;TZID=America/New_York:20220305T180000
DTSTAMP:20260423T214914
CREATED:20220302T140321Z
LAST-MODIFIED:20220302T140321Z
UID:10000238-1646481600-1646503200@coolspeak.com
SUMMARY:Columbia Basin College CAMP Retreat with Ernesto Mejia
DESCRIPTION:Title:Columbia Basin College CAMP Retreat with Ernesto Mejia \nDescription:Columbia Basin College CAMP Students. \nTheme: Leadership \nDate:03/04/2022 – 03/05/2022 \nTime:9:00am – 3:00pm PST \nLocation:Pasco\, WA
URL:https://coolspeak.com/event/columbia-basin-college-camp-retreat-with-ernesto-mejia-2-2/
END:VEVENT
BEGIN:VEVENT
DTSTART;TZID=America/New_York:20220305T120000
DTEND;TZID=America/New_York:20220305T180000
DTSTAMP:20260423T214914
CREATED:20220302T140321Z
LAST-MODIFIED:20220302T140321Z
UID:10000225-1646481600-1646503200@coolspeak.com
SUMMARY:Columbia Basin College CAMP Retreat with Ernesto Mejia
DESCRIPTION:Title:Columbia Basin College CAMP Retreat with Ernesto Mejia \nDescription:Columbia Basin College CAMP Students. \nTheme: Leadership \nDate:03/04/2022 – 03/05/2022 \nTime:9:00am – 3:00pm PST \nLocation:Pasco\, WA
URL:https://coolspeak.com/event/columbia-basin-college-camp-retreat-with-ernesto-mejia-2/
END:VEVENT
BEGIN:VEVENT
DTSTART;TZID=America/New_York:20220304T120000
DTEND;TZID=America/New_York:20220304T180000
DTSTAMP:20260423T214914
CREATED:20220302T140321Z
LAST-MODIFIED:20220302T140321Z
UID:10000236-1646395200-1646416800@coolspeak.com
SUMMARY:Columbia Basin College CAMP Retreat with Ernesto Mejia
DESCRIPTION:Title:Columbia Basin College CAMP Retreat with Ernesto Mejia \nDescription:Columbia Basin College CAMP Students. \nTheme: Leadership \nDate:03/04/2022 – 03/05/2022 \nTime:9:00am – 3:00pm PST \nLocation:Pasco\, WA
URL:https://coolspeak.com/event/columbia-basin-college-camp-retreat-with-ernesto-mejia-3/
END:VEVENT
BEGIN:VEVENT
DTSTART;TZID=America/New_York:20220304T120000
DTEND;TZID=America/New_York:20220304T180000
DTSTAMP:20260423T214914
CREATED:20220302T140321Z
LAST-MODIFIED:20220302T140321Z
UID:10000223-1646395200-1646416800@coolspeak.com
SUMMARY:Columbia Basin College CAMP Retreat with Ernesto Mejia
DESCRIPTION:Title:Columbia Basin College CAMP Retreat with Ernesto Mejia \nDescription:Columbia Basin College CAMP Students. \nTheme: Leadership \nDate:03/04/2022 – 03/05/2022 \nTime:9:00am – 3:00pm PST \nLocation:Pasco\, WA
URL:https://coolspeak.com/event/columbia-basin-college-camp-retreat-with-ernesto-mejia/
END:VEVENT
BEGIN:VEVENT
DTSTART;TZID=America/New_York:20220304T100000
DTEND;TZID=America/New_York:20220304T170000
DTSTAMP:20260423T214914
CREATED:20220302T140321Z
LAST-MODIFIED:20220302T140321Z
UID:10000237-1646388000-1646413200@coolspeak.com
SUMMARY:Jubilee Wells Presentation Day
DESCRIPTION:Title:\nJubilee Wells Presentation Day\nDescription:\nCoolSpeaker Lilyan Prado-Carrillo to provide 3 Student Presentations\, 1 Professional Development and 1 Family Engagement Presentation.\nTheme:\nMotivation/Education/Being your best.\nDate:\n03/04/2022\nTime:\n9:00am – 4:00pm CST\nLocation:\nAustin\, TX
URL:https://coolspeak.com/event/jubilee-wells-presentation-day-2/
END:VEVENT
BEGIN:VEVENT
DTSTART;TZID=America/New_York:20220304T100000
DTEND;TZID=America/New_York:20220304T170000
DTSTAMP:20260423T214914
CREATED:20220302T140321Z
LAST-MODIFIED:20220302T140321Z
UID:10000224-1646388000-1646413200@coolspeak.com
SUMMARY:Jubilee Wells Presentation Day
DESCRIPTION:Title:\nJubilee Wells Presentation Day\nDescription:\nCoolSpeaker Lilyan Prado-Carrillo to provide 3 Student Presentations\, 1 Professional Development and 1 Family Engagement Presentation.\nTheme:\nMotivation/Education/Being your best.\nDate:\n03/04/2022\nTime:\n9:00am – 4:00pm CST\nLocation:\nAustin\, TX
URL:https://coolspeak.com/event/jubilee-wells-presentation-day/
END:VEVENT
BEGIN:VEVENT
DTSTART;TZID=America/New_York:20220304T000000
DTEND;TZID=America/New_York:20220304T235959
DTSTAMP:20260423T214914
CREATED:20220302T140321Z
LAST-MODIFIED:20220302T140321Z
UID:10000234-1646352000-1646438399@coolspeak.com
SUMMARY:2021 Grand Island GEAR UP CoolPoets Take Over
DESCRIPTION:Title:\n2021 Grand Island GEAR UP CoolPoets Take Over\nDescription:\nPoetry Classroom Take Overs\nDate:\n03/03/2022 & 03/04/2022\nLocation:\nGrand Island\, NE
URL:https://coolspeak.com/event/2021-grand-island-gear-up-coolpoets-take-over-3/
END:VEVENT
BEGIN:VEVENT
DTSTART;TZID=America/New_York:20220304T000000
DTEND;TZID=America/New_York:20220304T235959
DTSTAMP:20260423T214914
CREATED:20220302T140321Z
LAST-MODIFIED:20220302T140321Z
UID:10000220-1646352000-1646438399@coolspeak.com
SUMMARY:2021 Grand Island GEAR UP CoolPoets Take Over
DESCRIPTION:Title:\n2021 Grand Island GEAR UP CoolPoets Take Over\nDescription:\nPoetry Classroom Take Overs\nDate:\n03/03/2022 & 03/04/2022\nLocation:\nGrand Island\, NE
URL:https://coolspeak.com/event/2021-grand-island-gear-up-coolpoets-take-over/
END:VEVENT
BEGIN:VEVENT
DTSTART;TZID=America/New_York:20220303T100000
DTEND;TZID=America/New_York:20220303T130000
DTSTAMP:20260423T214914
CREATED:20220302T140321Z
LAST-MODIFIED:20220302T140321Z
UID:10000221-1646301600-1646312400@coolspeak.com
SUMMARY:Jubilee Lakeview Presentation Day with Lilyan Prado-Carrillo.
DESCRIPTION:Title:Jubilee Lakeview Presentation Day. \nDescription:CoolSpeaker Lilyan Prado-Carrillo to provide Student Presentations \nTheme:Motivation/Education/Being Your Best. \nDate: 03/03/2022 \nTime:9:00am – 12:00pm CST \nLocation:CST
URL:https://coolspeak.com/event/jubilee-lakeview-presentation-day-with-lilyan-prado-carrillo/
END:VEVENT
BEGIN:VEVENT
DTSTART;TZID=America/New_York:20220303T100000
DTEND;TZID=America/New_York:20220303T130000
DTSTAMP:20260423T214914
CREATED:20220302T140321Z
LAST-MODIFIED:20220302T140321Z
UID:10000233-1646301600-1646312400@coolspeak.com
SUMMARY:Jubilee Lakeview Presentation Day with Lilyan Prado-Carrillo.
DESCRIPTION:Title:Jubilee Lakeview Presentation Day. \nDescription:CoolSpeaker Lilyan Prado-Carrillo to provide Student Presentations \nTheme:Motivation/Education/Being Your Best. \nDate: 03/03/2022 \nTime:9:00am – 12:00pm CST \nLocation:CST
URL:https://coolspeak.com/event/jubilee-lakeview-presentation-day-with-lilyan-prado-carrillo-2/
END:VEVENT
BEGIN:VEVENT
DTSTART;TZID=America/New_York:20220303T000000
DTEND;TZID=America/New_York:20220303T235959
DTSTAMP:20260423T214914
CREATED:20220302T140321Z
LAST-MODIFIED:20220302T140321Z
UID:10000235-1646265600-1646351999@coolspeak.com
SUMMARY:2021 Grand Island GEAR UP CoolPoets Take Over
DESCRIPTION:Title:\n2021 Grand Island GEAR UP CoolPoets Take Over\nDescription:\nPoetry Classroom Take Overs\nDate:\n03/03/2022 & 03/04/2022\nLocation:\nGrand Island\, NE
URL:https://coolspeak.com/event/2021-grand-island-gear-up-coolpoets-take-over-2-2/
END:VEVENT
BEGIN:VEVENT
DTSTART;TZID=America/New_York:20220303T000000
DTEND;TZID=America/New_York:20220303T235959
DTSTAMP:20260423T214914
CREATED:20220302T140321Z
LAST-MODIFIED:20220302T140321Z
UID:10000222-1646265600-1646351999@coolspeak.com
SUMMARY:2021 Grand Island GEAR UP CoolPoets Take Over
DESCRIPTION:Title:\n2021 Grand Island GEAR UP CoolPoets Take Over\nDescription:\nPoetry Classroom Take Overs\nDate:\n03/03/2022 & 03/04/2022\nLocation:\nGrand Island\, NE
URL:https://coolspeak.com/event/2021-grand-island-gear-up-coolpoets-take-over-2/
END:VEVENT
BEGIN:VEVENT
DTSTART;TZID=America/New_York:20220302T100000
DTEND;TZID=America/New_York:20220302T190000
DTSTAMP:20260423T214914
CREATED:20220302T140321Z
LAST-MODIFIED:20220302T140321Z
UID:10000219-1646215200-1646247600@coolspeak.com
SUMMARY:THE Fort Bend ISD STUDENT VOICES SUMMIT
DESCRIPTION:Title:\nTHE Fort Bend ISD STUDENT VOICES SUMMIT\nDescription:\nChris Collins providing a virtual presentation.\nTheme:\nThe Road to Reconnection: Reconnecting Our Hearts\, Minds\, and World\nDate:\n03/02/2022\nTime:\n8:00am – 5:00pm MST\nLocation:\nVirtual
URL:https://coolspeak.com/event/the-fort-bend-isd-student-voices-summit/
END:VEVENT
BEGIN:VEVENT
DTSTART;TZID=America/New_York:20220302T100000
DTEND;TZID=America/New_York:20220302T190000
DTSTAMP:20260423T214914
CREATED:20220302T140321Z
LAST-MODIFIED:20220302T140321Z
UID:10000232-1646215200-1646247600@coolspeak.com
SUMMARY:THE Fort Bend ISD STUDENT VOICES SUMMIT
DESCRIPTION:Title:\nTHE Fort Bend ISD STUDENT VOICES SUMMIT\nDescription:\nChris Collins providing a virtual presentation.\nTheme:\nThe Road to Reconnection: Reconnecting Our Hearts\, Minds\, and World\nDate:\n03/02/2022\nTime:\n8:00am – 5:00pm MST\nLocation:\nVirtual
URL:https://coolspeak.com/event/the-fort-bend-isd-student-voices-summit-2/
END:VEVENT
BEGIN:VEVENT
DTSTART;TZID=America/New_York:20220214T170000
DTEND;TZID=America/New_York:20220214T190000
DTSTAMP:20260423T214914
CREATED:20210930T225828Z
LAST-MODIFIED:20210930T225828Z
UID:10000205-1644858000-1644865200@coolspeak.com
SUMMARY:2021 Grand Island GEAR UP LatinX Male/Female Mentoring Session
DESCRIPTION:Title:2021 Grand Island GEAR UP LatinX Male/Female Mentoring Session \nDescription: Workshop Series To Help Empower Young Males & Females \nDate: 02/14/2022 \nTime:4:00pm – 6:00pm CST \nLocation:Grand Island\, NE
URL:https://coolspeak.com/event/2021-grand-island-gear-up-latinx-male-female-mentoring-session-5-2/
END:VEVENT
BEGIN:VEVENT
DTSTART;TZID=America/New_York:20220214T170000
DTEND;TZID=America/New_York:20220214T190000
DTSTAMP:20260423T214914
CREATED:20210930T225828Z
LAST-MODIFIED:20210930T225828Z
UID:10000199-1644858000-1644865200@coolspeak.com
SUMMARY:2021 Grand Island GEAR UP LatinX Male/Female Mentoring Session
DESCRIPTION:Title:2021 Grand Island GEAR UP LatinX Male/Female Mentoring Session \nDescription: Workshop Series To Help Empower Young Males & Females \nDate: 02/14/2022 \nTime:4:00pm – 6:00pm CST \nLocation:Grand Island\, NE
URL:https://coolspeak.com/event/2021-grand-island-gear-up-latinx-male-female-mentoring-session-5/
END:VEVENT
BEGIN:VEVENT
DTSTART;TZID=America/New_York:20220120T220000
DTEND;TZID=America/New_York:20220120T230000
DTSTAMP:20260423T214914
CREATED:20210928T152743Z
LAST-MODIFIED:20210928T152743Z
UID:10000191-1642716000-1642719600@coolspeak.com
SUMMARY:McDonald's HACER Workshop Series (Scholarship session)
DESCRIPTION:Title: 2021 McDonald’s HACER Education Tour  \nDescription: Student leadership summit promoting a culture of education \nDate: 01/20/2021 \nTime: 10:00pm EST  \nLocation:Virtual
URL:https://coolspeak.com/event/mcdonalds-hacer-workshop-series-scholarship-session-3-2/
END:VEVENT
BEGIN:VEVENT
DTSTART;TZID=America/New_York:20220120T220000
DTEND;TZID=America/New_York:20220120T230000
DTSTAMP:20260423T214914
CREATED:20210928T152743Z
LAST-MODIFIED:20210928T152743Z
UID:10000189-1642716000-1642719600@coolspeak.com
SUMMARY:McDonald's HACER Workshop Series (Scholarship session)
DESCRIPTION:Title: 2021 McDonald’s HACER Education Tour  \nDescription: Student leadership summit promoting a culture of education \nDate: 01/20/2021 \nTime: 10:00pm EST  \nLocation:Virtual
URL:https://coolspeak.com/event/mcdonalds-hacer-workshop-series-scholarship-session-3/
END:VEVENT
BEGIN:VEVENT
DTSTART;TZID=America/New_York:20220119T100000
DTEND;TZID=America/New_York:20220119T110000
DTSTAMP:20260423T214914
CREATED:20210928T152742Z
LAST-MODIFIED:20210928T152742Z
UID:10000188-1642586400-1642590000@coolspeak.com
SUMMARY:McDonald's HACER Workshop Series (Student session)
DESCRIPTION:Title: 2021 McDonald’s HACER Education Tour  \nDescription: Student leadership summit promoting a culture of education \nDate: 01/19/2021 \nTime: 10:00am EST  \nLocation:Virtual
URL:https://coolspeak.com/event/mcdonalds-hacer-workshop-series-student-session-3-2/
END:VEVENT
BEGIN:VEVENT
DTSTART;TZID=America/New_York:20220119T100000
DTEND;TZID=America/New_York:20220119T110000
DTSTAMP:20260423T214914
CREATED:20210928T152742Z
LAST-MODIFIED:20210928T152742Z
UID:10000181-1642586400-1642590000@coolspeak.com
SUMMARY:McDonald's HACER Workshop Series (Student session)
DESCRIPTION:Title: 2021 McDonald’s HACER Education Tour  \nDescription: Student leadership summit promoting a culture of education \nDate: 01/19/2021 \nTime: 10:00am EST  \nLocation:Virtual
URL:https://coolspeak.com/event/mcdonalds-hacer-workshop-series-student-session-3/
END:VEVENT
BEGIN:VEVENT
DTSTART;TZID=America/New_York:20220110T170000
DTEND;TZID=America/New_York:20220110T190000
DTSTAMP:20260423T214914
CREATED:20210930T225828Z
LAST-MODIFIED:20210930T225828Z
UID:10000204-1641834000-1641841200@coolspeak.com
SUMMARY:2021 Grand Island GEAR UP LatinX Male/Female Mentoring Session
DESCRIPTION:Title:2021 Grand Island GEAR UP LatinX Male/Female Mentoring Session \nDescription: Workshop Series To Help Empower Young Males & Females \nDate: 01/10/2022 \nTime:4:00pm – 6:00pm CST \nLocation:Grand Island\, NE
URL:https://coolspeak.com/event/2021-grand-island-gear-up-latinx-male-female-mentoring-session-4-2/
END:VEVENT
BEGIN:VEVENT
DTSTART;TZID=America/New_York:20220110T170000
DTEND;TZID=America/New_York:20220110T190000
DTSTAMP:20260423T214914
CREATED:20210930T225828Z
LAST-MODIFIED:20210930T225828Z
UID:10000198-1641834000-1641841200@coolspeak.com
SUMMARY:2021 Grand Island GEAR UP LatinX Male/Female Mentoring Session
DESCRIPTION:Title:2021 Grand Island GEAR UP LatinX Male/Female Mentoring Session \nDescription: Workshop Series To Help Empower Young Males & Females \nDate: 01/10/2022 \nTime:4:00pm – 6:00pm CST \nLocation:Grand Island\, NE
URL:https://coolspeak.com/event/2021-grand-island-gear-up-latinx-male-female-mentoring-session-4/
END:VEVENT
BEGIN:VEVENT
DTSTART;TZID=America/New_York:20211213T170000
DTEND;TZID=America/New_York:20211213T190000
DTSTAMP:20260423T214914
CREATED:20210930T225828Z
LAST-MODIFIED:20210930T225828Z
UID:10000203-1639414800-1639422000@coolspeak.com
SUMMARY:2021 Grand Island GEAR UP LatinX Male/Female Mentoring Session
DESCRIPTION:Title:2021 Grand Island GEAR UP LatinX Male/Female Mentoring Session \nDescription: Workshop Series To Help Empower Young Males & Females \nDate: 12/13/2021 \nTime:4:00pm – 6:00pm CST \nLocation:Grand Island\, NE
URL:https://coolspeak.com/event/2021-grand-island-gear-up-latinx-male-female-mentoring-session-3-2/
END:VEVENT
BEGIN:VEVENT
DTSTART;TZID=America/New_York:20211213T170000
DTEND;TZID=America/New_York:20211213T190000
DTSTAMP:20260423T214914
CREATED:20210930T225828Z
LAST-MODIFIED:20210930T225828Z
UID:10000197-1639414800-1639422000@coolspeak.com
SUMMARY:2021 Grand Island GEAR UP LatinX Male/Female Mentoring Session
DESCRIPTION:Title:2021 Grand Island GEAR UP LatinX Male/Female Mentoring Session \nDescription: Workshop Series To Help Empower Young Males & Females \nDate: 12/13/2021 \nTime:4:00pm – 6:00pm CST \nLocation:Grand Island\, NE
URL:https://coolspeak.com/event/2021-grand-island-gear-up-latinx-male-female-mentoring-session-3/
END:VEVENT
END:VCALENDAR