BEGIN:VCALENDAR
VERSION:2.0
PRODID:-//CoolSpeak - ECPv6.15.18//NONSGML v1.0//EN
CALSCALE:GREGORIAN
METHOD:PUBLISH
X-WR-CALNAME:CoolSpeak
X-ORIGINAL-URL:https://coolspeak.com
X-WR-CALDESC:Events for CoolSpeak
REFRESH-INTERVAL;VALUE=DURATION:PT1H
X-Robots-Tag:noindex
X-PUBLISHED-TTL:PT1H
BEGIN:VTIMEZONE
TZID:America/New_York
BEGIN:DAYLIGHT
TZOFFSETFROM:-0500
TZOFFSETTO:-0400
TZNAME:EDT
DTSTART:20210314T070000
END:DAYLIGHT
BEGIN:STANDARD
TZOFFSETFROM:-0400
TZOFFSETTO:-0500
TZNAME:EST
DTSTART:20211107T060000
END:STANDARD
BEGIN:DAYLIGHT
TZOFFSETFROM:-0500
TZOFFSETTO:-0400
TZNAME:EDT
DTSTART:20220313T070000
END:DAYLIGHT
BEGIN:STANDARD
TZOFFSETFROM:-0400
TZOFFSETTO:-0500
TZNAME:EST
DTSTART:20221106T060000
END:STANDARD
BEGIN:DAYLIGHT
TZOFFSETFROM:-0500
TZOFFSETTO:-0400
TZNAME:EDT
DTSTART:20230312T070000
END:DAYLIGHT
BEGIN:STANDARD
TZOFFSETFROM:-0400
TZOFFSETTO:-0500
TZNAME:EST
DTSTART:20231105T060000
END:STANDARD
END:VTIMEZONE
BEGIN:VEVENT
DTSTART;TZID=America/New_York:20220610T120000
DTEND;TZID=America/New_York:20220610T190000
DTSTAMP:20260424T012551
CREATED:20220524T105950Z
LAST-MODIFIED:20220524T105950Z
UID:10000536-1654862400-1654887600@coolspeak.com
SUMMARY:Idaho State Department of Education Migrant Summer Camp
DESCRIPTION:Title: Idaho State Department of Education Migrant Summer Camp \nDescription: \nTheme:Migrant Summer Camp \nDate: 6/4/2022 – 6/10/2022 \nTime:9:00 AM- 4:00 PM MST \nLocation:Moscow\, ID
URL:https://coolspeak.com/event/idaho-state-department-of-education-migrant-summer-camp-7-2/
END:VEVENT
BEGIN:VEVENT
DTSTART;TZID=America/New_York:20220610T123000
DTEND;TZID=America/New_York:20220610T133000
DTSTAMP:20260424T012551
CREATED:20220606T164341Z
LAST-MODIFIED:20220606T164341Z
UID:10000550-1654864200-1654867800@coolspeak.com
SUMMARY:Wonderful College Prep Academy GEAR UP
DESCRIPTION:Title:\nReef-Sunset Middle School Team Building Activities\nDescription:\nTeam Building Activities provided by Joaquin Zihuatanejo.\nTheme:\nTeam Building\nDate:\n06/09/2022\nTime:\n12:30 PM – 2:00 PM PST\nLocation:\nAvenal. CA
URL:https://coolspeak.com/event/wonderful-college-prep-academy-gear-up-2/
END:VEVENT
BEGIN:VEVENT
DTSTART;TZID=America/New_York:20220610T123000
DTEND;TZID=America/New_York:20220610T133000
DTSTAMP:20260424T012551
CREATED:20220606T164341Z
LAST-MODIFIED:20220606T164341Z
UID:10000552-1654864200-1654867800@coolspeak.com
SUMMARY:Wonderful College Prep Academy GEAR UP
DESCRIPTION:Title:\nReef-Sunset Middle School Team Building Activities\nDescription:\nTeam Building Activities provided by Joaquin Zihuatanejo.\nTheme:\nTeam Building\nDate:\n06/09/2022\nTime:\n12:30 PM – 2:00 PM PST\nLocation:\nAvenal. CA
URL:https://coolspeak.com/event/wonderful-college-prep-academy-gear-up-2-2/
END:VEVENT
BEGIN:VEVENT
DTSTART;TZID=America/New_York:20220613T080000
DTEND;TZID=America/New_York:20220613T220000
DTSTAMP:20260424T012551
CREATED:20220419T014309Z
LAST-MODIFIED:20220419T014309Z
UID:10000363-1655107200-1655157600@coolspeak.com
SUMMARY:2022 Kansas City Kansas GEAR UP Cool U Get In Gear
DESCRIPTION:
URL:https://coolspeak.com/event/2022-kansas-city-kansas-gear-up-cool-u-get-in-gear/
END:VEVENT
BEGIN:VEVENT
DTSTART;TZID=America/New_York:20220613T080000
DTEND;TZID=America/New_York:20220613T220000
DTSTAMP:20260424T012551
CREATED:20220419T014309Z
LAST-MODIFIED:20220419T014309Z
UID:10000367-1655107200-1655157600@coolspeak.com
SUMMARY:2022 Kansas City Kansas GEAR UP Cool U Get In Gear
DESCRIPTION:
URL:https://coolspeak.com/event/2022-kansas-city-kansas-gear-up-cool-u-get-in-gear-7/
END:VEVENT
BEGIN:VEVENT
DTSTART;TZID=America/New_York:20220613T080000
DTEND;TZID=America/New_York:20220613T220000
DTSTAMP:20260424T012551
CREATED:20220419T045815Z
LAST-MODIFIED:20220419T045815Z
UID:10000421-1655107200-1655157600@coolspeak.com
SUMMARY:2022 Kansas City Kansas GEAR UP Cool U Get In Gear
DESCRIPTION:
URL:https://coolspeak.com/event/2022-kansas-city-kansas-gear-up-cool-u-get-in-gear-6/
END:VEVENT
BEGIN:VEVENT
DTSTART;TZID=America/New_York:20220613T080000
DTEND;TZID=America/New_York:20220613T220000
DTSTAMP:20260424T012551
CREATED:20220419T045815Z
LAST-MODIFIED:20220419T045815Z
UID:10000422-1655107200-1655157600@coolspeak.com
SUMMARY:2022 Kansas City Kansas GEAR UP Cool U Get In Gear
DESCRIPTION:
URL:https://coolspeak.com/event/2022-kansas-city-kansas-gear-up-cool-u-get-in-gear-6-2/
END:VEVENT
BEGIN:VEVENT
DTSTART;TZID=America/New_York:20220613T080000
DTEND;TZID=America/New_York:20220613T230000
DTSTAMP:20260424T012551
CREATED:20220419T014309Z
LAST-MODIFIED:20220419T014309Z
UID:10000364-1655107200-1655161200@coolspeak.com
SUMMARY:Wichita State University CoolTrips
DESCRIPTION:Title:Wichita State University CoolTrips \nDescription:3-Day Bus Trip \nTheme:Education \nDate:06/13/2022 – 06/15/2022 \nTime:8:00am – 8:00pm PST \nLocation:Colorado Springs\, CO
URL:https://coolspeak.com/event/wichita-state-university-cooltrips/
END:VEVENT
BEGIN:VEVENT
DTSTART;TZID=America/New_York:20220613T080000
DTEND;TZID=America/New_York:20220613T230000
DTSTAMP:20260424T012551
CREATED:20220419T014309Z
LAST-MODIFIED:20220419T014309Z
UID:10000368-1655107200-1655161200@coolspeak.com
SUMMARY:Wichita State University CoolTrips
DESCRIPTION:Title:Wichita State University CoolTrips \nDescription:3-Day Bus Trip \nTheme:Education \nDate:06/13/2022 – 06/15/2022 \nTime:8:00am – 8:00pm PST \nLocation:Colorado Springs\, CO
URL:https://coolspeak.com/event/wichita-state-university-cooltrips-4/
END:VEVENT
BEGIN:VEVENT
DTSTART;TZID=America/New_York:20220613T080000
DTEND;TZID=America/New_York:20220613T230000
DTSTAMP:20260424T012551
CREATED:20220606T205806Z
LAST-MODIFIED:20220606T205806Z
UID:10000559-1655107200-1655161200@coolspeak.com
SUMMARY:CoolTrip: Wichita State GEAR UP to Colorado Springs
DESCRIPTION:3-Day CoolTrip to visit colleges and universities in Colorado Springs featuring CoolSpeakers Juan Cangas\, Joaquin Zihuatanejo and Zach Gowen.
URL:https://coolspeak.com/event/cooltrip-wichita-state-gear-up-to-colorado-springs-4/
LOCATION:Colorado Springs\, CO\, USA
END:VEVENT
BEGIN:VEVENT
DTSTART;TZID=America/New_York:20220613T080000
DTEND;TZID=America/New_York:20220613T230000
DTSTAMP:20260424T012551
CREATED:20220606T205806Z
LAST-MODIFIED:20220606T205806Z
UID:10000560-1655107200-1655161200@coolspeak.com
SUMMARY:CoolTrip: Wichita State GEAR UP to Colorado Springs
DESCRIPTION:3-Day CoolTrip to visit colleges and universities in Colorado Springs featuring CoolSpeakers Juan Cangas\, Joaquin Zihuatanejo and Zach Gowen.
URL:https://coolspeak.com/event/cooltrip-wichita-state-gear-up-to-colorado-springs/
LOCATION:Colorado Springs\, CO\, USA
END:VEVENT
BEGIN:VEVENT
DTSTART;TZID=America/New_York:20220613T120000
DTEND;TZID=America/New_York:20220613T150000
DTSTAMP:20260424T012551
CREATED:20220419T003326Z
LAST-MODIFIED:20220419T003326Z
UID:10000361-1655121600-1655132400@coolspeak.com
SUMMARY:University of Texas Rio Grande  GEAR UP Summer Camp
DESCRIPTION:Title:\n2022 University of Texas Rio Grande Valley GEAR UP Summer presentation Day with Angela Vivar.\nDescription:\nMotivating students to finish the school year strong and pursue their dreams.\nTheme:\nMotivation\, Education\, and Pursuit of Goals.\nDate:\n6/13/2022\nTime:\n11:00 AM – 2:00 PM CST\nLocation:\nBrownsville\, TX
URL:https://coolspeak.com/event/tentative-utrgv-gear-up-summer-camp-3-2/
END:VEVENT
BEGIN:VEVENT
DTSTART;TZID=America/New_York:20220614T080000
DTEND;TZID=America/New_York:20220614T220000
DTSTAMP:20260424T012551
CREATED:20220419T014309Z
LAST-MODIFIED:20220419T014309Z
UID:10000369-1655193600-1655244000@coolspeak.com
SUMMARY:2022 Kansas City Kansas GEAR UP Cool U Get In Gear
DESCRIPTION:
URL:https://coolspeak.com/event/2022-kansas-city-kansas-gear-up-cool-u-get-in-gear-2-2/
END:VEVENT
BEGIN:VEVENT
DTSTART;TZID=America/New_York:20220614T080000
DTEND;TZID=America/New_York:20220614T220000
DTSTAMP:20260424T012551
CREATED:20220419T014309Z
LAST-MODIFIED:20220419T014309Z
UID:10000365-1655193600-1655244000@coolspeak.com
SUMMARY:2022 Kansas City Kansas GEAR UP Cool U Get In Gear
DESCRIPTION:
URL:https://coolspeak.com/event/2022-kansas-city-kansas-gear-up-cool-u-get-in-gear-2/
END:VEVENT
BEGIN:VEVENT
DTSTART;TZID=America/New_York:20220614T080000
DTEND;TZID=America/New_York:20220614T230000
DTSTAMP:20260424T012551
CREATED:20220512T233007Z
LAST-MODIFIED:20220512T233007Z
UID:10000491-1655193600-1655247600@coolspeak.com
SUMMARY:Wichita State University CoolTrips
DESCRIPTION:Title:Wichita State University CoolTrips \nDescription:3-Day Bus Trip \nTheme:Education \nDate:06/13/2022 – 06/15/2022 \nTime:8:00am – 8:00pm PST \nLocation:Colorado Springs\, CO
URL:https://coolspeak.com/event/wichita-state-university-cooltrips-2/
END:VEVENT
BEGIN:VEVENT
DTSTART;TZID=America/New_York:20220614T080000
DTEND;TZID=America/New_York:20220614T230000
DTSTAMP:20260424T012551
CREATED:20220512T233007Z
LAST-MODIFIED:20220512T233007Z
UID:10000493-1655193600-1655247600@coolspeak.com
SUMMARY:Wichita State University CoolTrips
DESCRIPTION:Title:Wichita State University CoolTrips \nDescription:3-Day Bus Trip \nTheme:Education \nDate:06/13/2022 – 06/15/2022 \nTime:8:00am – 8:00pm PST \nLocation:Colorado Springs\, CO
URL:https://coolspeak.com/event/wichita-state-university-cooltrips-2-2/
END:VEVENT
BEGIN:VEVENT
DTSTART;TZID=America/New_York:20220614T080000
DTEND;TZID=America/New_York:20220614T230000
DTSTAMP:20260424T012551
CREATED:20220606T205807Z
LAST-MODIFIED:20220606T205807Z
UID:10000561-1655193600-1655247600@coolspeak.com
SUMMARY:CoolTrip: Wichita State GEAR UP to Colorado Springs
DESCRIPTION:3-Day CoolTrip to visit colleges and universities in Colorado Springs featuring CoolSpeakers Juan Cangas\, Joaquin Zihuatanejo and Zach Gowen.
URL:https://coolspeak.com/event/cooltrip-wichita-state-gear-up-to-colorado-springs-2/
LOCATION:Colorado Springs\, CO\, USA
END:VEVENT
BEGIN:VEVENT
DTSTART;TZID=America/New_York:20220614T080000
DTEND;TZID=America/New_York:20220614T230000
DTSTAMP:20260424T012551
CREATED:20220606T205807Z
LAST-MODIFIED:20220606T205807Z
UID:10000563-1655193600-1655247600@coolspeak.com
SUMMARY:CoolTrip: Wichita State GEAR UP to Colorado Springs
DESCRIPTION:3-Day CoolTrip to visit colleges and universities in Colorado Springs featuring CoolSpeakers Juan Cangas\, Joaquin Zihuatanejo and Zach Gowen.
URL:https://coolspeak.com/event/cooltrip-wichita-state-gear-up-to-colorado-springs-2-2/
LOCATION:Colorado Springs\, CO\, USA
END:VEVENT
BEGIN:VEVENT
DTSTART;TZID=America/New_York:20220615T080000
DTEND;TZID=America/New_York:20220615T220000
DTSTAMP:20260424T012551
CREATED:20220419T014309Z
LAST-MODIFIED:20220419T014309Z
UID:10000370-1655280000-1655330400@coolspeak.com
SUMMARY:2022 Kansas City Kansas GEAR UP Cool U Get In Gear
DESCRIPTION:
URL:https://coolspeak.com/event/2022-kansas-city-kansas-gear-up-cool-u-get-in-gear-3-2/
END:VEVENT
BEGIN:VEVENT
DTSTART;TZID=America/New_York:20220615T080000
DTEND;TZID=America/New_York:20220615T220000
DTSTAMP:20260424T012551
CREATED:20220419T014309Z
LAST-MODIFIED:20220419T014309Z
UID:10000366-1655280000-1655330400@coolspeak.com
SUMMARY:2022 Kansas City Kansas GEAR UP Cool U Get In Gear
DESCRIPTION:
URL:https://coolspeak.com/event/2022-kansas-city-kansas-gear-up-cool-u-get-in-gear-3/
END:VEVENT
BEGIN:VEVENT
DTSTART;TZID=America/New_York:20220615T080000
DTEND;TZID=America/New_York:20220615T230000
DTSTAMP:20260424T012551
CREATED:20220512T233007Z
LAST-MODIFIED:20220512T233007Z
UID:10000492-1655280000-1655334000@coolspeak.com
SUMMARY:Wichita State University CoolTrips
DESCRIPTION:Title:Wichita State University CoolTrips \nDescription:3-Day Bus Trip \nTheme:Education \nDate:06/13/2022 – 06/15/2022 \nTime:8:00am – 8:00pm PST \nLocation:Colorado Springs\, CO
URL:https://coolspeak.com/event/wichita-state-university-cooltrips-3/
END:VEVENT
BEGIN:VEVENT
DTSTART;TZID=America/New_York:20220615T080000
DTEND;TZID=America/New_York:20220615T230000
DTSTAMP:20260424T012551
CREATED:20220512T233007Z
LAST-MODIFIED:20220512T233007Z
UID:10000494-1655280000-1655334000@coolspeak.com
SUMMARY:Wichita State University CoolTrips
DESCRIPTION:Title:Wichita State University CoolTrips \nDescription:3-Day Bus Trip \nTheme:Education \nDate:06/13/2022 – 06/15/2022 \nTime:8:00am – 8:00pm PST \nLocation:Colorado Springs\, CO
URL:https://coolspeak.com/event/wichita-state-university-cooltrips-3-2/
END:VEVENT
BEGIN:VEVENT
DTSTART;TZID=America/New_York:20220615T080000
DTEND;TZID=America/New_York:20220615T230000
DTSTAMP:20260424T012551
CREATED:20220606T205807Z
LAST-MODIFIED:20220606T205807Z
UID:10000562-1655280000-1655334000@coolspeak.com
SUMMARY:CoolTrip: Wichita State GEAR UP to Colorado Springs
DESCRIPTION:3-Day CoolTrip to visit colleges and universities in Colorado Springs featuring CoolSpeakers Juan Cangas\, Joaquin Zihuatanejo and Zach Gowen.
URL:https://coolspeak.com/event/cooltrip-wichita-state-gear-up-to-colorado-springs-3/
LOCATION:Colorado Springs\, CO\, USA
END:VEVENT
BEGIN:VEVENT
DTSTART;TZID=America/New_York:20220615T080000
DTEND;TZID=America/New_York:20220615T230000
DTSTAMP:20260424T012551
CREATED:20220606T205807Z
LAST-MODIFIED:20220606T205807Z
UID:10000564-1655280000-1655334000@coolspeak.com
SUMMARY:CoolTrip: Wichita State GEAR UP to Colorado Springs
DESCRIPTION:3-Day CoolTrip to visit colleges and universities in Colorado Springs featuring CoolSpeakers Juan Cangas\, Joaquin Zihuatanejo and Zach Gowen.
URL:https://coolspeak.com/event/cooltrip-wichita-state-gear-up-to-colorado-springs-3-2/
LOCATION:Colorado Springs\, CO\, USA
END:VEVENT
BEGIN:VEVENT
DTSTART;TZID=America/New_York:20220616T080000
DTEND;TZID=America/New_York:20220616T220000
DTSTAMP:20260424T012551
CREATED:20220419T014310Z
LAST-MODIFIED:20220419T014310Z
UID:10000371-1655366400-1655416800@coolspeak.com
SUMMARY:2022 Kansas City Kansas GEAR UP Cool U Get In Gear
DESCRIPTION:
URL:https://coolspeak.com/event/2022-kansas-city-kansas-gear-up-cool-u-get-in-gear-4/
END:VEVENT
BEGIN:VEVENT
DTSTART;TZID=America/New_York:20220616T080000
DTEND;TZID=America/New_York:20220616T220000
DTSTAMP:20260424T012551
CREATED:20220419T014310Z
LAST-MODIFIED:20220419T014310Z
UID:10000379-1655366400-1655416800@coolspeak.com
SUMMARY:2022 Kansas City Kansas GEAR UP Cool U Get In Gear
DESCRIPTION:
URL:https://coolspeak.com/event/2022-kansas-city-kansas-gear-up-cool-u-get-in-gear-4-2/
END:VEVENT
BEGIN:VEVENT
DTSTART;TZID=America/New_York:20220616T120000
DTEND;TZID=America/New_York:20220616T130000
DTSTAMP:20260424T012551
CREATED:20220523T125810Z
LAST-MODIFIED:20220523T125810Z
UID:10000513-1655380800-1655384400@coolspeak.com
SUMMARY:The SEED Foundation
DESCRIPTION:Title:The SEED Foundation Virtual Presentation \nDescription:Virtual Presentation provided by Juan Cangas. \nTheme:Scholarship Event. \nDate:06/16/2022 \nTime:12:00pm – 1:00pm EST \nLocation:Virtual
URL:https://coolspeak.com/event/the-seed-foundation/
END:VEVENT
BEGIN:VEVENT
DTSTART;TZID=America/New_York:20220616T120000
DTEND;TZID=America/New_York:20220616T130000
DTSTAMP:20260424T012551
CREATED:20220523T125810Z
LAST-MODIFIED:20220523T125810Z
UID:10000514-1655380800-1655384400@coolspeak.com
SUMMARY:The SEED Foundation
DESCRIPTION:Title:The SEED Foundation Virtual Presentation \nDescription:Virtual Presentation provided by Juan Cangas. \nTheme:Scholarship Event. \nDate:06/16/2022 \nTime:12:00pm – 1:00pm EST \nLocation:Virtual
URL:https://coolspeak.com/event/the-seed-foundation-2/
END:VEVENT
BEGIN:VEVENT
DTSTART;TZID=America/New_York:20220616T123000
DTEND;TZID=America/New_York:20220616T133000
DTSTAMP:20260424T012551
CREATED:20220413T035808Z
LAST-MODIFIED:20220413T035808Z
UID:10000341-1655382600-1655386200@coolspeak.com
SUMMARY:End of the School Year Virtual Presentation
DESCRIPTION:Title:End of the School Year Virtual Presentation \nDescription:Carlos Ojeda Jr. will present a virtual keynote presentation \nTheme:Youth Empowerment \nDate:06/16/2022 \nTime:12:30pm – 1:30pm EST \nLocation:Virtual
URL:https://coolspeak.com/event/end-of-the-school-year-virtual-presentation/
END:VEVENT
BEGIN:VEVENT
DTSTART;TZID=America/New_York:20220616T123000
DTEND;TZID=America/New_York:20220616T133000
DTSTAMP:20260424T012551
CREATED:20220413T035808Z
LAST-MODIFIED:20220413T035808Z
UID:10000342-1655382600-1655386200@coolspeak.com
SUMMARY:End of the School Year Virtual Presentation
DESCRIPTION:Title:End of the School Year Virtual Presentation \nDescription:Carlos Ojeda Jr. will present a virtual keynote presentation \nTheme:Youth Empowerment \nDate:06/16/2022 \nTime:12:30pm – 1:30pm EST \nLocation:Virtual
URL:https://coolspeak.com/event/end-of-the-school-year-virtual-presentation-2/
END:VEVENT
END:VCALENDAR