BEGIN:VCALENDAR
VERSION:2.0
PRODID:-//CoolSpeak - ECPv6.15.18//NONSGML v1.0//EN
CALSCALE:GREGORIAN
METHOD:PUBLISH
X-WR-CALNAME:CoolSpeak
X-ORIGINAL-URL:https://coolspeak.com
X-WR-CALDESC:Events for CoolSpeak
REFRESH-INTERVAL;VALUE=DURATION:PT1H
X-Robots-Tag:noindex
X-PUBLISHED-TTL:PT1H
BEGIN:VTIMEZONE
TZID:America/New_York
BEGIN:DAYLIGHT
TZOFFSETFROM:-0500
TZOFFSETTO:-0400
TZNAME:EDT
DTSTART:20200308T070000
END:DAYLIGHT
BEGIN:STANDARD
TZOFFSETFROM:-0400
TZOFFSETTO:-0500
TZNAME:EST
DTSTART:20201101T060000
END:STANDARD
BEGIN:DAYLIGHT
TZOFFSETFROM:-0500
TZOFFSETTO:-0400
TZNAME:EDT
DTSTART:20210314T070000
END:DAYLIGHT
BEGIN:STANDARD
TZOFFSETFROM:-0400
TZOFFSETTO:-0500
TZNAME:EST
DTSTART:20211107T060000
END:STANDARD
BEGIN:DAYLIGHT
TZOFFSETFROM:-0500
TZOFFSETTO:-0400
TZNAME:EDT
DTSTART:20220313T070000
END:DAYLIGHT
BEGIN:STANDARD
TZOFFSETFROM:-0400
TZOFFSETTO:-0500
TZNAME:EST
DTSTART:20221106T060000
END:STANDARD
BEGIN:DAYLIGHT
TZOFFSETFROM:-0500
TZOFFSETTO:-0400
TZNAME:EDT
DTSTART:20230312T070000
END:DAYLIGHT
BEGIN:STANDARD
TZOFFSETFROM:-0400
TZOFFSETTO:-0500
TZNAME:EST
DTSTART:20231105T060000
END:STANDARD
BEGIN:DAYLIGHT
TZOFFSETFROM:-0500
TZOFFSETTO:-0400
TZNAME:EDT
DTSTART:20240310T070000
END:DAYLIGHT
BEGIN:STANDARD
TZOFFSETFROM:-0400
TZOFFSETTO:-0500
TZNAME:EST
DTSTART:20241103T060000
END:STANDARD
BEGIN:DAYLIGHT
TZOFFSETFROM:-0500
TZOFFSETTO:-0400
TZNAME:EDT
DTSTART:20250309T070000
END:DAYLIGHT
BEGIN:STANDARD
TZOFFSETFROM:-0400
TZOFFSETTO:-0500
TZNAME:EST
DTSTART:20251102T060000
END:STANDARD
BEGIN:DAYLIGHT
TZOFFSETFROM:-0500
TZOFFSETTO:-0400
TZNAME:EDT
DTSTART:20260308T070000
END:DAYLIGHT
BEGIN:STANDARD
TZOFFSETFROM:-0400
TZOFFSETTO:-0500
TZNAME:EST
DTSTART:20261101T060000
END:STANDARD
END:VTIMEZONE
BEGIN:VEVENT
DTSTART;TZID=America/New_York:20250904T120000
DTEND;TZID=America/New_York:20250904T170000
DTSTAMP:20260421T181921
CREATED:20250819T155643Z
LAST-MODIFIED:20250904T201209Z
UID:10001966-1756987200-1757005200@coolspeak.com
SUMMARY:Fall 2025 UW GEAR UP Achievers Virtual 2 Day Conference
DESCRIPTION:
URL:https://coolspeak.com/event/fall-2025-uw-gear-up-achievers-virtual-2-day-conference-2/
LOCATION:Virtual Event
CATEGORIES:Event
END:VEVENT
BEGIN:VEVENT
DTSTART;TZID=America/New_York:20250903T120000
DTEND;TZID=America/New_York:20250903T170000
DTSTAMP:20260421T181921
CREATED:20250819T155643Z
LAST-MODIFIED:20250903T201143Z
UID:10001965-1756900800-1756918800@coolspeak.com
SUMMARY:Fall 2025 UW GEAR UP Achievers Virtual 2 Day Conference
DESCRIPTION:
URL:https://coolspeak.com/event/fall-2025-uw-gear-up-achievers-virtual-2-day-conference/
LOCATION:Virtual Event
CATEGORIES:Event
END:VEVENT
BEGIN:VEVENT
DTSTART;TZID=America/New_York:20210129T090000
DTEND;TZID=America/New_York:20210129T140000
DTSTAMP:20260421T181921
CREATED:20210103T205937Z
LAST-MODIFIED:20210103T205937Z
UID:10000023-1611910800-1611928800@coolspeak.com
SUMMARY:DVCEE/UPENN Breakthrough Virtual Middle School Leadership Conference
DESCRIPTION:Given the circumstances of the moment\, DVCEE and UPENN have partnered with CoolSpeak\, the youth engagement company to deliver a virtual middle school leadership conference that will feature funny\, emotional\, inspiring speeches\, fun\, interactive breakout sessions\, and a virtual poetry slam.
URL:https://coolspeak.com/event/dvcee-upenn-breakthrough-virtual-middle-school-leadership-conference/
LOCATION:Virtual Event
END:VEVENT
BEGIN:VEVENT
DTSTART;TZID=America/New_York:20210129T090000
DTEND;TZID=America/New_York:20210129T140000
DTSTAMP:20260421T181921
CREATED:20210103T205937Z
LAST-MODIFIED:20210103T205937Z
UID:10000002-1611910800-1611928800@coolspeak.com
SUMMARY:DVCEE/UPENN Breakthrough Virtual Middle School Leadership Conference
DESCRIPTION:Given the circumstances of the moment\, DVCEE and UPENN have partnered with CoolSpeak\, the youth engagement company to deliver a virtual middle school leadership conference that will feature funny\, emotional\, inspiring speeches\, fun\, interactive breakout sessions\, and a virtual poetry slam.
URL:https://coolspeak.com/event/dvcee-upenn-breakthrough-virtual-middle-school-leadership-conference-2/
LOCATION:Virtual Event
END:VEVENT
BEGIN:VEVENT
DTSTART;TZID=America/New_York:20210129T090000
DTEND;TZID=America/New_York:20210129T140000
DTSTAMP:20260421T181921
CREATED:20210103T205937Z
LAST-MODIFIED:20210103T205937Z
UID:10000022-1611910800-1611928800@coolspeak.com
SUMMARY:DVCEE/UPENN Breakthrough Virtual Middle School Leadership Conference
DESCRIPTION:Given the circumstances of the moment\, DVCEE and UPENN have partnered with CoolSpeak\, the youth engagement company to deliver a virtual middle school leadership conference that will feature funny\, emotional\, inspiring speeches\, fun\, interactive breakout sessions\, and a virtual poetry slam.
URL:https://coolspeak.com/event/dvcee-upenn-breakthrough-virtual-middle-school-leadership-conference-3/
LOCATION:Virtual Event
END:VEVENT
BEGIN:VEVENT
DTSTART;TZID=America/New_York:20210129T090000
DTEND;TZID=America/New_York:20210129T140000
DTSTAMP:20260421T181921
CREATED:20210103T205937Z
LAST-MODIFIED:20210103T205937Z
UID:10000021-1611910800-1611928800@coolspeak.com
SUMMARY:DVCEE/UPENN Breakthrough Virtual Middle School Leadership Conference
DESCRIPTION:Given the circumstances of the moment\, DVCEE and UPENN have partnered with CoolSpeak\, the youth engagement company to deliver a virtual middle school leadership conference that will feature funny\, emotional\, inspiring speeches\, fun\, interactive breakout sessions\, and a virtual poetry slam.
URL:https://coolspeak.com/event/dvcee-upenn-breakthrough-virtual-middle-school-leadership-conference-2-2/
LOCATION:Virtual Event
END:VEVENT
BEGIN:VEVENT
DTSTART;TZID=America/New_York:20210128T090000
DTEND;TZID=America/New_York:20210128T140000
DTSTAMP:20260421T181921
CREATED:20210103T204240Z
LAST-MODIFIED:20210103T204240Z
UID:10000003-1611824400-1611842400@coolspeak.com
SUMMARY:DVCEE/UPENN Rise Above Virtual High School Leadership Conference
DESCRIPTION:Given the circumstances of the moment\, DVCEE and UPENN have partnered with CoolSpeak\, the youth engagement company\, to deliver a virtual high school leadership conference that will feature funny\, emotional\, inspiring speeches\, fun\, interactive breakout sessions\, and a virtual poetry slam.
URL:https://coolspeak.com/event/dvcee-upenn-rise-above-virtual-high-school-leadership-conference-2/
LOCATION:Virtual Event
END:VEVENT
BEGIN:VEVENT
DTSTART;TZID=America/New_York:20210128T090000
DTEND;TZID=America/New_York:20210128T140000
DTSTAMP:20260421T181921
CREATED:20210103T204240Z
LAST-MODIFIED:20210103T204240Z
UID:10000005-1611824400-1611842400@coolspeak.com
SUMMARY:DVCEE/UPENN Rise Above Virtual High School Leadership Conference
DESCRIPTION:Given the circumstances of the moment\, DVCEE and UPENN have partnered with CoolSpeak\, the youth engagement company\, to deliver a virtual high school leadership conference that will feature funny\, emotional\, inspiring speeches\, fun\, interactive breakout sessions\, and a virtual poetry slam.
URL:https://coolspeak.com/event/dvcee-upenn-rise-above-virtual-high-school-leadership-conference/
LOCATION:Virtual Event
END:VEVENT
BEGIN:VEVENT
DTSTART;TZID=America/New_York:20210126T130000
DTEND;TZID=America/New_York:20210126T140000
DTSTAMP:20260421T181921
CREATED:20210103T204240Z
LAST-MODIFIED:20210103T204240Z
UID:10000004-1611666000-1611669600@coolspeak.com
SUMMARY:McDonald's HACER Tour Virtual Student Event
DESCRIPTION:CoolSpeak has partnered with McDonald’s® HACER® Scholarship for the past six years.  Durgin that time we have traveled across the country visiting schools and promoting the scholarship.  The HACER scholarship awards Latinx students with $500\,000 in scholarships every year.  Given the circumstances\, this past Fall we held virtual events for students\, parents\, and teachers all across the country\, promoting the scholarships with speeches\, resources\, and prizes for participants.\nTo participate\, visit https://www.hacertour.com
URL:https://coolspeak.com/event/mcdonalds-hacer-tour-virtual-student-event-2/
LOCATION:Virtual Event
END:VEVENT
BEGIN:VEVENT
DTSTART;TZID=America/New_York:20210126T130000
DTEND;TZID=America/New_York:20210126T140000
DTSTAMP:20260421T181921
CREATED:20210103T204240Z
LAST-MODIFIED:20210103T204240Z
UID:10000006-1611666000-1611669600@coolspeak.com
SUMMARY:McDonald's HACER Tour Virtual Student Event
DESCRIPTION:CoolSpeak has partnered with McDonald’s® HACER® Scholarship for the past six years.  Durgin that time we have traveled across the country visiting schools and promoting the scholarship.  The HACER scholarship awards Latinx students with $500\,000 in scholarships every year.  Given the circumstances\, this past Fall we held virtual events for students\, parents\, and teachers all across the country\, promoting the scholarships with speeches\, resources\, and prizes for participants.\nTo participate\, visit https://www.hacertour.com
URL:https://coolspeak.com/event/mcdonalds-hacer-tour-virtual-student-event/
LOCATION:Virtual Event
END:VEVENT
END:VCALENDAR